{"text_format":"1","workbook":"xlsx","n_sheets":2,"sheets":["протокол с картинками","на склад"],"not_rendered":{"charts":0,"images":68,"macros":0,"external_links":0,"defined_names":0,"comments":0,"pivot_tables":0},"unopened":[],"bounds":{"document_bytes":16777216,"sheet_cells":100000,"rows_first":2000,"rows_last":500,"rows_between":2000,"halvings":0,"cell_chars":16384,"cell_head_chars":4096},"cells_cut":0,"cells_raw":0,"read":"whole","date_system":"1900"}

{"sheet":"протокол с картинками","index":0,"n_rows":75,"n_cols":9,"rows_kept":75,"cut":false,"hidden":false,"merged":[[5,0,5,8],[3,0,3,8],[4,0,4,8],[1,0,2,8],[35,2,36,2],[74,5,88,5],[74,6,88,6],[74,7,88,7],[74,8,88,8],[74,0,88,0],[74,1,88,1],[74,2,88,2],[74,3,88,3],[74,4,88,4]]}
[]
["АССОРТИМЕНТ ВАЗ И СУВЕНИРОВ"]
[]
["ОАО \"Ивенецкий завод художественной керамики\""]
["Наш сайт: http://ivenceramics.com"]
["     "]
["Артикул","Штрих-код","Изображение","Цена","Объем, л","Диаметр (d), см.","Высота (h), см.","Кол-во в коробку","ЗАКАЗ"]
["Панно декоративное 20с0.3436/1.0-1 НХП ",4811737047871]
["Панно декоративное 20с0.3436/2.0-1 НХП ",4811737047888]
["Панно декоративное 20с0.3436/3.0-1 НХП ",4811737047895]
["Панно декоративное 20с0.3436/4.0-1 НХП ",4811737047901]
["Сувенир  19с0.3433/1.0-1 НХП ",4811737047413,null,9.6999999999999993,null,8.5,17,8]
["Сувенир  19с0.3433/2.0-1 НХП ",4811737047413,null,9.6999999999999993,null,8.5,17,8]
["Декоративная ваза 19с0.2430/1.0-1 НХП ",4811737047529,null,12,0.96,10,21.5,4]
["Декоративная ваза 19с0.2430/2.0-1 НХП ",4811737047529,null,12,0.96,10,21.5,4]
["Декоративная ваза 19с0.2431/1.0-1 НХП ",4811737047529,null,12,0.96,10,21.5,4]
["Декоративная ваза 19с0.2431/3.0-1 НХП ",4811737047529,null,12,0.96,10,21.5,4]
["Декоративная ваза 19с0.2431/2.0-1 НХП ",4811737047529,null,12,0.96,10,21.5,4]
["Декоративная ваза 19с0.2422/2.0-1 НХП ",4811737047529,null,12,0.96,10,21.5,4]
["Декоративная ваза 19с0.2412/0.0-1 НХП ",4811737047741,null,13.7,1.9,16,22,3]
["Декоративная ваза 19с0.2422/1.0-1 НХП ",4811737047512,null,13.7,1.8,11.5,28.5,3]
["Декоративная ваза 19с0.2422/2.0-1 НХП ",4811737047529,null,12,0.96,10,21.5,4]
["Сувенир \"Подсвечник\" 19с0.3419/1.0-1 НХП ",4811737047406,null,10.7,null,9,18.5,8]
["Сувенир подсвечник 19с0.3419/2.0-1 НХП ",4811737047413,null,9.6999999999999993,null,8.5,17,8]
["Сувенир \"Подсвечник\" 19с0.3419/3.0-1 НХП ",4811737047420,null,8.6999999999999993,null,8.5,14,8]
["Сувенир \"Шкатулка\" 19с0.3415/2.0-1 НХП ",4811737047284,null,8,null,9.5,13,8]
["Сувенир \"Шкатулка\" 19с0.3415/3.0-1 НХП ",4811737047291,null,8,null,10,11.5,8]
["Сувенир \"Колокольчик\"18с0.3408/1.0-1 НХП",4811737047093,null,3.73,null,7,10,"mix12"]
["Сувенир \"Колокольчик\"18с0.3408/2.0-1 НХП",4811737047109,null,3.73,null,7.2,10.4,"mix12"]
["Сувенир \"Колокольчик\"18с0.3408/3.0-1 НХП",4811737047116,null,3.73,null,7,9.8000000000000007,"mix12"]
["Сувенир \"Колокольчик\"18с0.3408/4.0-1 НХП",4811737047123,null,3.73,null,7.2,10.4,"mix12"]
["Сувенир \"Колокольчик\"18с0.3408/5.0-1 НХП",4811737047130,null,3.73,null,7,10.5,"mix12"]
["Сувенир \"Карандашница\"18с0.3406/0.0-1 НХП",4811737047048,null,7.9,null,null,14,6]
["Сувенир подсвечник 18с0.3395/0.0-1 НХП ",4811737046775,null,8.65,null,15,18,4]
["Ваза 18с0.2397/0.0-1 НХП",4811737046805,null,20.86,5.85,20,32,1]
["Декоративная ваза 18с0.2396/1.0-1 НХП ",4811737046782,null,12.4,1.76,12,29.8,3]
["Декоративная ваза 18с0.2396/2.0-1 НХП ",4811737046799,null,10.8,1.1100000000000001,11,23.5,3]
["Декоративная ваза 17с0.2391/0.0-1 НХП \"Антик\"",4811737046645,null,12.4,0.7,15.5,23,4]
["Сувенир копилка 17с0. 3389/0.0-1 НХП \"Спелая тыква\"",4811737046621,null,8.65,0.5,17,15,5]
["Сувенир копилка 17с0. 3388/0.0-1 НХП \"Тыква\"",4811737046614,null,8.65,0.5,17,15,5]
["Сувенир подсвечник 17с0.3390/0.0-1 НХП \"Привидение\"",4811737046638,null,8.65,0.5,15,17,5]
["Декоративная ваза 17с0.2378/0.0-1 НХП",4811737046270,null,12.4,2.4500000000000002,7.5,26,2]
["Декоративная ваза 17с0.2379/0.0-1 НХП",4811737046287,null,12.4,2.4500000000000002,7.5,26,2]
["Сувенир копилка 16с0.3351/0.0-1 НХП",4811737045747,null,5.83,0.6,5.4,14.6,5]
["Сувенир копилка 16с0.3352/0.0-1 НХП",4811737045754,null,7.12,1.1499999999999999,7.5,19,5]
["Сувенир копилка 16с0.3353/0.0-1 НХП",4811737045761,null,6.92,1.1000000000000001,7.5,18,4]
["Сувенир копилка 16с0.3354/0.0-1 НХП",4811737045778,null,5.0199999999999996,0.88,7,14.3,6]
["Сувенир копилка 16с0.3355/0.0-1 НХП",4811737045785,null,7.33,0.88,5.8,16,5]
["Сувенир копилка 16с0.3356/0.0-1 НХП",4811737045792,null,7.52,1.1499999999999999,7,21,3]
["Сувенир копилка 16с0.3357/0.0-1 НХП",4811737045808,null,6.72,0.88,7.4,16.399999999999999,4]
["Сувенир копилка 16с0.3358/0.0-1 НХП",4811737045815,null,5.87,0.52,6.5,16.5,5]
["Сувенир копилка 16с0.3359/0.0-1 НХП",4811737045822,null,6.44,0.52,6,16.5,6]
["Сувенир копилка 16с0.3360/0.0-1 НХП",4811737045839,null,7.12,1.1000000000000001,7.2,17.8,5]
["Сувенир копилка 16с0.3361/0.0-1 НХП",4811737045846,null,5.0199999999999996,0.88,6.3,14.3,6]
["Сувенир копилка 16с0.3362/0.0-1 НХП",4811737045853,null,7.12,1.1499999999999999,7.2,19.7,5]
["Сувенир копилка 16с0.3363/0.0-1 НХП",4811737045860,null,5.0199999999999996,0.88,7,14.3,5]
["Сувенир копилка 16с0.3364/0.0-1 НХП",4811737045877,null,5.0199999999999996,0.88,6.2,14.3,6]
["Сувенир копилка 16с0.3365/0.0-1 НХП",4811737045884,null,4.17,0.52,6,13.2,8]
["Сувенир копилка 16с0.3366/0.0-1 НХП",4811737045891,null,6.24,0.6,6,16,6]
["Сувенир копилка 16с0.3367/0.0-1 НХП",4811737045907,null,3.97,0.52,6.7,13.8,6]
["Ваза 13с0.2245/0.0-1 НХП",4811737040827,null,14.89,6.1,23,35,1]
["Ваза 13с0.2247/0.0-1 НХП",4811737040889,null,19.87,9.5,12,36,1]
["Ваза  7с0.2813/0. 0-1 НХП",null,null,33.06,7.5,25,45,1]
["Ваза 13с0.2248/0.0-1 НХП",4811737040919,null,14.08,5.8,10,32,1]
["Ваза 13с0.2251/0.0-1 НХП",4811737042807,null,14.89,6.8,19,33.700000000000003,1]
["Ваза  13с0.2243/0. 0-1 НХП",null,null,16.52,6.8,13.5,31.5,1]
["Ваза 13с0.2246/0 0-1 НХП",null,null,13.23,6.1,23,35,1]
["Сувенир \"Карандашница\"11с0.3071/0.0-1 НХП",4811737020447,null,5.04,null,null,10,6]
["Сувенир \" Амфора\" 18с0.3401/1.0-1 НХП",4811737046881,null,28.96,null,150,480,1]
["Сувенир \"Амфора\" 18с0.3401/2.0-1 НХП",4811737046898,null,25.47,125,null,453,1]
["Сувенир \"Амфора\" 18с0.3400/2.0-1 НХП",4811737046874,null,25.47,null,145,535,1]
["Сувенир \"Амфора\" 18с0.3400/1.0-1 НХП",4811737046867,null,28.96,null,163,487,1]
["Сувенир \"Кувшин\" 13с0.3072/0.0-1 НХП",4811737043644,null,12.4,null,105,225,1]
["Сувенир 8с0.3977/0.0-1 НХП",4811737030378,null,10.75,null,270,180,1]
["Сувенир 7с0.3818/0.0-1 НХП",4811737021482,null,12.17,null,17,225,2]

{"sheet":"на склад","index":1,"n_rows":64,"n_cols":6,"rows_kept":64,"cut":false,"hidden":false,"merged":[[1,0,2,0],[1,1,2,1],[1,2,1,4],[1,5,2,5],[1,6,2,6]]}
[null,null,{"$f":"SUM(C30:C64)","v":{"$error":"#REF!"}},{"$f":"SUM(D30:D64)","v":{"$error":"#REF!"}},{"$f":"SUM(E30:E64)","v":{"$error":"#REF!"}}]
["Наименование  товара","Цена прейскуранта.","заказ",null,null,"Кол-во в упаковке"]
[null,null,"кол-во,шт","стоимость","кол-во коробок"]
[{"$f":"'протокол с картинками'!A8","v":"Панно декоративное 20с0.3436/1.0-1 НХП "},{"$f":"'протокол с картинками'!D8","v":0},{"$f":"'протокол с картинками'!I8","v":0},{"$f":"B4*C4","v":0},{"$f":"C4/F4","v":{"$error":"#DIV/0!"}},{"$f":"'протокол с картинками'!H8","v":0}]
[{"$f":"'протокол с картинками'!A9","v":"Панно декоративное 20с0.3436/2.0-1 НХП "},{"$f":"'протокол с картинками'!D9","v":0},{"$f":"'протокол с картинками'!I9","v":0},0,{"$error":"#DIV/0!"},{"$f":"'протокол с картинками'!H9","v":0}]
[{"$f":"'протокол с картинками'!A10","v":"Панно декоративное 20с0.3436/3.0-1 НХП "},{"$f":"'протокол с картинками'!D10","v":0},{"$f":"'протокол с картинками'!I10","v":0},0,{"$error":"#DIV/0!"},{"$f":"'протокол с картинками'!H10","v":0}]
[{"$f":"'протокол с картинками'!A11","v":"Панно декоративное 20с0.3436/4.0-1 НХП "},{"$f":"'протокол с картинками'!D11","v":0},{"$f":"'протокол с картинками'!I11","v":0},{"$f":"B7*C7","v":0},{"$f":"C7/F7","v":{"$error":"#DIV/0!"}},{"$f":"'протокол с картинками'!H11","v":0}]
[{"$f":"'протокол с картинками'!A12","v":"Сувенир  19с0.3433/1.0-1 НХП "},{"$f":"'протокол с картинками'!D12","v":9.6999999999999993},{"$f":"'протокол с картинками'!I12","v":0},0,0,{"$f":"'протокол с картинками'!H12","v":8}]
[{"$f":"'протокол с картинками'!A13","v":"Сувенир  19с0.3433/2.0-1 НХП "},{"$f":"'протокол с картинками'!D13","v":9.6999999999999993},{"$f":"'протокол с картинками'!I13","v":0},0,0,{"$f":"'протокол с картинками'!H13","v":8}]
[{"$f":"'протокол с картинками'!A14","v":"Декоративная ваза 19с0.2430/1.0-1 НХП "},{"$f":"'протокол с картинками'!D14","v":12},{"$f":"'протокол с картинками'!I14","v":0},{"$f":"B10*C10","v":0},{"$f":"C10/F10","v":0},{"$f":"'протокол с картинками'!H14","v":4}]
[{"$f":"'протокол с картинками'!A15","v":"Декоративная ваза 19с0.2430/2.0-1 НХП "},{"$f":"'протокол с картинками'!D15","v":12},{"$f":"'протокол с картинками'!I15","v":0},0,0,{"$f":"'протокол с картинками'!H15","v":4}]
[{"$f":"'протокол с картинками'!A16","v":"Декоративная ваза 19с0.2431/1.0-1 НХП "},{"$f":"'протокол с картинками'!D16","v":12},{"$f":"'протокол с картинками'!I16","v":0},0,0,{"$f":"'протокол с картинками'!H16","v":4}]
[{"$f":"'протокол с картинками'!A17","v":"Декоративная ваза 19с0.2431/3.0-1 НХП "},{"$f":"'протокол с картинками'!D17","v":12},{"$f":"'протокол с картинками'!I17","v":0},0,0,{"$f":"'протокол с картинками'!H17","v":4}]
[{"$f":"'протокол с картинками'!A18","v":"Декоративная ваза 19с0.2431/2.0-1 НХП "},{"$f":"'протокол с картинками'!D18","v":12},{"$f":"'протокол с картинками'!I18","v":0},0,0,{"$f":"'протокол с картинками'!H18","v":4}]
[{"$f":"'протокол с картинками'!A19","v":"Декоративная ваза 19с0.2422/2.0-1 НХП "},{"$f":"'протокол с картинками'!D19","v":12},{"$f":"'протокол с картинками'!I19","v":0},{"$f":"B15*C15","v":0},{"$f":"C15/F15","v":0},{"$f":"'протокол с картинками'!H19","v":4}]
[{"$f":"'протокол с картинками'!A20","v":"Декоративная ваза 19с0.2412/0.0-1 НХП "},{"$f":"'протокол с картинками'!D20","v":13.7},{"$f":"'протокол с картинками'!I20","v":0},0,0,{"$f":"'протокол с картинками'!H20","v":3}]
[{"$f":"'протокол с картинками'!A21","v":"Декоративная ваза 19с0.2422/1.0-1 НХП "},{"$f":"'протокол с картинками'!D21","v":13.7},{"$f":"'протокол с картинками'!I21","v":0},0,0,{"$f":"'протокол с картинками'!H21","v":3}]
[{"$f":"'протокол с картинками'!A22","v":"Декоративная ваза 19с0.2422/2.0-1 НХП "},{"$f":"'протокол с картинками'!D22","v":12},{"$f":"'протокол с картинками'!I22","v":0},0,0,{"$f":"'протокол с картинками'!H22","v":4}]
[{"$f":"'протокол с картинками'!A23","v":"Сувенир \"Подсвечник\" 19с0.3419/1.0-1 НХП "},{"$f":"'протокол с картинками'!D23","v":10.7},{"$f":"'протокол с картинками'!I23","v":0},0,0,{"$f":"'протокол с картинками'!H23","v":8}]
[{"$f":"'протокол с картинками'!A24","v":"Сувенир подсвечник 19с0.3419/2.0-1 НХП "},{"$f":"'протокол с картинками'!D24","v":9.6999999999999993},{"$f":"'протокол с картинками'!I24","v":0},0,0,{"$f":"'протокол с картинками'!H24","v":8}]
[{"$f":"'протокол с картинками'!A25","v":"Сувенир \"Подсвечник\" 19с0.3419/3.0-1 НХП "},{"$f":"'протокол с картинками'!D25","v":8.6999999999999993},{"$f":"'протокол с картинками'!I25","v":0},0,0,{"$f":"'протокол с картинками'!H25","v":8}]
[{"$f":"'протокол с картинками'!A26","v":"Сувенир \"Шкатулка\" 19с0.3415/2.0-1 НХП "},{"$f":"'протокол с картинками'!D26","v":8},{"$f":"'протокол с картинками'!I26","v":0},0,0,{"$f":"'протокол с картинками'!H26","v":8}]
[{"$f":"'протокол с картинками'!A27","v":"Сувенир \"Шкатулка\" 19с0.3415/3.0-1 НХП "},{"$f":"'протокол с картинками'!D27","v":8},{"$f":"'протокол с картинками'!I27","v":0},0,0,{"$f":"'протокол с картинками'!H27","v":8}]
[{"$f":"'протокол с картинками'!A28","v":"Сувенир \"Колокольчик\"18с0.3408/1.0-1 НХП"},{"$f":"'протокол с картинками'!D28","v":3.73},{"$f":"'протокол с картинками'!I28","v":0},0,{"$error":"#VALUE!"},{"$f":"'протокол с картинками'!H28","v":"mix12"}]
[{"$f":"'протокол с картинками'!A29","v":"Сувенир \"Колокольчик\"18с0.3408/2.0-1 НХП"},{"$f":"'протокол с картинками'!D29","v":3.73},{"$f":"'протокол с картинками'!I29","v":0},0,{"$error":"#VALUE!"},{"$f":"'протокол с картинками'!H29","v":"mix12"}]
[{"$f":"'протокол с картинками'!A30","v":"Сувенир \"Колокольчик\"18с0.3408/3.0-1 НХП"},{"$f":"'протокол с картинками'!D30","v":3.73},{"$f":"'протокол с картинками'!I30","v":0},0,{"$error":"#VALUE!"},{"$f":"'протокол с картинками'!H30","v":"mix12"}]
[{"$f":"'протокол с картинками'!A31","v":"Сувенир \"Колокольчик\"18с0.3408/4.0-1 НХП"},{"$f":"'протокол с картинками'!D31","v":3.73},{"$f":"'протокол с картинками'!I31","v":0},0,{"$error":"#VALUE!"},{"$f":"'протокол с картинками'!H31","v":"mix12"}]
[{"$f":"'протокол с картинками'!A32","v":"Сувенир \"Колокольчик\"18с0.3408/5.0-1 НХП"},{"$f":"'протокол с картинками'!D32","v":3.73},{"$f":"'протокол с картинками'!I32","v":0},0,{"$error":"#VALUE!"},{"$f":"'протокол с картинками'!H32","v":"mix12"}]
[{"$f":"'протокол с картинками'!A33","v":"Сувенир \"Карандашница\"18с0.3406/0.0-1 НХП"},{"$f":"'протокол с картинками'!D33","v":7.9},{"$f":"'протокол с картинками'!I33","v":0},{"$f":"B29*C29","v":0},{"$f":"C29/F29","v":0},{"$f":"'протокол с картинками'!H33","v":6}]
[{"$f":"'протокол с картинками'!A34","v":"Сувенир подсвечник 18с0.3395/0.0-1 НХП "},{"$f":"'протокол с картинками'!D34","v":8.65},{"$f":"'протокол с картинками'!I34","v":0},{"$f":"B30*C30","v":0},{"$f":"C30/F30","v":0},{"$f":"'протокол с картинками'!H34","v":4}]
[{"$f":"'протокол с картинками'!A35","v":"Ваза 18с0.2397/0.0-1 НХП"},{"$f":"'протокол с картинками'!D35","v":20.86},{"$f":"'протокол с картинками'!I35","v":0},{"$f":"B31*C31","v":0},{"$f":"C31/F31","v":0},{"$f":"'протокол с картинками'!H35","v":1}]
[{"$f":"'протокол с картинками'!A37","v":"Декоративная ваза 18с0.2396/2.0-1 НХП "},{"$f":"'протокол с картинками'!D37","v":10.8},{"$f":"'протокол с картинками'!I37","v":0},0,0,{"$f":"'протокол с картинками'!H37","v":3}]
[{"$f":"'протокол с картинками'!A38","v":"Декоративная ваза 17с0.2391/0.0-1 НХП \"Антик\""},{"$f":"'протокол с картинками'!D38","v":12.4},{"$f":"'протокол с картинками'!I38","v":0},0,0,{"$f":"'протокол с картинками'!H38","v":4}]
[{"$f":"'протокол с картинками'!A39","v":"Сувенир копилка 17с0. 3389/0.0-1 НХП \"Спелая тыква\""},{"$f":"'протокол с картинками'!D39","v":8.65},{"$f":"'протокол с картинками'!I39","v":0},0,0,{"$f":"'протокол с картинками'!H39","v":5}]
[{"$f":"'протокол с картинками'!A40","v":"Сувенир копилка 17с0. 3388/0.0-1 НХП \"Тыква\""},{"$f":"'протокол с картинками'!D40","v":8.65},{"$f":"'протокол с картинками'!I40","v":0},0,0,{"$f":"'протокол с картинками'!H40","v":5}]
[{"$f":"'протокол с картинками'!A41","v":"Сувенир подсвечник 17с0.3390/0.0-1 НХП \"Привидение\""},{"$f":"'протокол с картинками'!D41","v":8.65},{"$f":"'протокол с картинками'!I41","v":0},0,0,{"$f":"'протокол с картинками'!H41","v":5}]
[{"$f":"'протокол с картинками'!A42","v":"Декоративная ваза 17с0.2378/0.0-1 НХП"},{"$f":"'протокол с картинками'!D42","v":12.4},{"$f":"'протокол с картинками'!I42","v":0},0,0,{"$f":"'протокол с картинками'!H42","v":2}]
[{"$f":"'протокол с картинками'!A43","v":"Декоративная ваза 17с0.2379/0.0-1 НХП"},{"$f":"'протокол с картинками'!D43","v":12.4},{"$f":"'протокол с картинками'!I43","v":0},0,0,{"$f":"'протокол с картинками'!H43","v":2}]
[{"$f":"'протокол с картинками'!A44","v":"Сувенир копилка 16с0.3351/0.0-1 НХП"},{"$f":"'протокол с картинками'!D44","v":5.83},{"$f":"'протокол с картинками'!I44","v":0},0,0,{"$f":"'протокол с картинками'!H44","v":5}]
[{"$f":"'протокол с картинками'!A45","v":"Сувенир копилка 16с0.3352/0.0-1 НХП"},{"$f":"'протокол с картинками'!D45","v":7.12},{"$f":"'протокол с картинками'!I45","v":0},0,0,{"$f":"'протокол с картинками'!H45","v":5}]
[{"$f":"'протокол с картинками'!A46","v":"Сувенир копилка 16с0.3353/0.0-1 НХП"},{"$f":"'протокол с картинками'!D46","v":6.92},{"$f":"'протокол с картинками'!I46","v":0},0,0,{"$f":"'протокол с картинками'!H46","v":4}]
[{"$f":"'протокол с картинками'!A47","v":"Сувенир копилка 16с0.3354/0.0-1 НХП"},{"$f":"'протокол с картинками'!D47","v":5.0199999999999996},{"$f":"'протокол с картинками'!I47","v":0},0,0,{"$f":"'протокол с картинками'!H47","v":6}]
[{"$f":"'протокол с картинками'!A48","v":"Сувенир копилка 16с0.3355/0.0-1 НХП"},{"$f":"'протокол с картинками'!D48","v":7.33},{"$f":"'протокол с картинками'!I48","v":0},0,0,{"$f":"'протокол с картинками'!H48","v":5}]
[{"$f":"'протокол с картинками'!A49","v":"Сувенир копилка 16с0.3356/0.0-1 НХП"},{"$f":"'протокол с картинками'!D49","v":7.52},{"$f":"'протокол с картинками'!I49","v":0},0,0,{"$f":"'протокол с картинками'!H49","v":3}]
[{"$f":"'протокол с картинками'!A50","v":"Сувенир копилка 16с0.3357/0.0-1 НХП"},{"$f":"'протокол с картинками'!D50","v":6.72},{"$f":"'протокол с картинками'!I50","v":0},0,0,{"$f":"'протокол с картинками'!H50","v":4}]
[{"$f":"'протокол с картинками'!A51","v":"Сувенир копилка 16с0.3358/0.0-1 НХП"},{"$f":"'протокол с картинками'!D51","v":5.87},{"$f":"'протокол с картинками'!I51","v":0},0,0,{"$f":"'протокол с картинками'!H51","v":5}]
[{"$f":"'протокол с картинками'!A52","v":"Сувенир копилка 16с0.3359/0.0-1 НХП"},{"$f":"'протокол с картинками'!D52","v":6.44},{"$f":"'протокол с картинками'!I52","v":0},0,0,{"$f":"'протокол с картинками'!H52","v":6}]
[{"$f":"'протокол с картинками'!A53","v":"Сувенир копилка 16с0.3360/0.0-1 НХП"},{"$f":"'протокол с картинками'!D53","v":7.12},{"$f":"'протокол с картинками'!I53","v":0},0,0,{"$f":"'протокол с картинками'!H53","v":5}]
[{"$f":"'протокол с картинками'!A54","v":"Сувенир копилка 16с0.3361/0.0-1 НХП"},{"$f":"'протокол с картинками'!D54","v":5.0199999999999996},{"$f":"'протокол с картинками'!I54","v":0},0,0,{"$f":"'протокол с картинками'!H54","v":6}]
[{"$f":"'протокол с картинками'!A55","v":"Сувенир копилка 16с0.3362/0.0-1 НХП"},{"$f":"'протокол с картинками'!D55","v":7.12},{"$f":"'протокол с картинками'!I55","v":0},0,0,{"$f":"'протокол с картинками'!H55","v":5}]
[{"$f":"'протокол с картинками'!A56","v":"Сувенир копилка 16с0.3363/0.0-1 НХП"},{"$f":"'протокол с картинками'!D56","v":5.0199999999999996},{"$f":"'протокол с картинками'!I56","v":0},0,0,{"$f":"'протокол с картинками'!H56","v":5}]
[{"$f":"'протокол с картинками'!A57","v":"Сувенир копилка 16с0.3364/0.0-1 НХП"},{"$f":"'протокол с картинками'!D57","v":5.0199999999999996},{"$f":"'протокол с картинками'!I57","v":0},0,0,{"$f":"'протокол с картинками'!H57","v":6}]
[{"$f":"'протокол с картинками'!A58","v":"Сувенир копилка 16с0.3365/0.0-1 НХП"},{"$f":"'протокол с картинками'!D58","v":4.17},{"$f":"'протокол с картинками'!I58","v":0},0,0,{"$f":"'протокол с картинками'!H58","v":8}]
[{"$f":"'протокол с картинками'!A59","v":"Сувенир копилка 16с0.3366/0.0-1 НХП"},{"$f":"'протокол с картинками'!D59","v":6.24},{"$f":"'протокол с картинками'!I59","v":0},0,0,{"$f":"'протокол с картинками'!H59","v":6}]
[{"$f":"'протокол с картинками'!A60","v":"Сувенир копилка 16с0.3367/0.0-1 НХП"},{"$f":"'протокол с картинками'!D60","v":3.97},{"$f":"'протокол с картинками'!I60","v":0},0,0,{"$f":"'протокол с картинками'!H60","v":6}]
[{"$f":"'протокол с картинками'!#REF!","v":{"$error":"#REF!"}},{"$f":"'протокол с картинками'!#REF!","v":{"$error":"#REF!"}},{"$f":"'протокол с картинками'!#REF!","v":{"$error":"#REF!"}},{"$error":"#REF!"},{"$error":"#REF!"},{"$f":"'протокол с картинками'!#REF!","v":{"$error":"#REF!"}}]
[{"$f":"'протокол с картинками'!A61","v":"Ваза 13с0.2245/0.0-1 НХП"},{"$f":"'протокол с картинками'!D61","v":14.89},{"$f":"'протокол с картинками'!I61","v":0},0,0,{"$f":"'протокол с картинками'!H61","v":1}]
[{"$f":"'протокол с картинками'!A62","v":"Ваза 13с0.2247/0.0-1 НХП"},{"$f":"'протокол с картинками'!D62","v":19.87},{"$f":"'протокол с картинками'!I62","v":0},0,0,{"$f":"'протокол с картинками'!H62","v":1}]
[{"$f":"'протокол с картинками'!A63","v":"Ваза  7с0.2813/0. 0-1 НХП"},{"$f":"'протокол с картинками'!D63","v":33.06},{"$f":"'протокол с картинками'!I63","v":0},0,0,{"$f":"'протокол с картинками'!H63","v":1}]
[{"$f":"'протокол с картинками'!A64","v":"Ваза 13с0.2248/0.0-1 НХП"},{"$f":"'протокол с картинками'!D64","v":14.08},{"$f":"'протокол с картинками'!I64","v":0},0,0,{"$f":"'протокол с картинками'!H64","v":1}]
[{"$f":"'протокол с картинками'!A65","v":"Ваза 13с0.2251/0.0-1 НХП"},{"$f":"'протокол с картинками'!D65","v":14.89},{"$f":"'протокол с картинками'!I65","v":0},0,0,{"$f":"'протокол с картинками'!H65","v":1}]
[{"$f":"'протокол с картинками'!A66","v":"Ваза  13с0.2243/0. 0-1 НХП"},{"$f":"'протокол с картинками'!D66","v":16.52},{"$f":"'протокол с картинками'!I66","v":0},0,0,{"$f":"'протокол с картинками'!H66","v":1}]
[{"$f":"'протокол с картинками'!A67","v":"Ваза 13с0.2246/0 0-1 НХП"},{"$f":"'протокол с картинками'!D67","v":13.23},{"$f":"'протокол с картинками'!I67","v":0},0,0,{"$f":"'протокол с картинками'!H67","v":1}]
[{"$f":"'протокол с картинками'!A68","v":"Сувенир \"Карандашница\"11с0.3071/0.0-1 НХП"},{"$f":"'протокол с картинками'!D68","v":5.04},{"$f":"'протокол с картинками'!I68","v":0},0,0,{"$f":"'протокол с картинками'!H68","v":6}]