{"text_format":"1","workbook":"xlsx","n_sheets":2,"sheets":["на склад","протокол с картинками"],"not_rendered":{"charts":0,"images":107,"macros":0,"external_links":0,"defined_names":1,"comments":0,"pivot_tables":0},"unopened":[],"bounds":{"document_bytes":16777216,"sheet_cells":100000,"rows_first":2000,"rows_last":500,"rows_between":2000,"halvings":0,"cell_chars":16384,"cell_head_chars":4096},"cells_cut":0,"cells_raw":0,"read":"whole","date_system":"1900"}

{"sheet":"на склад","index":0,"n_rows":372,"n_cols":9,"rows_kept":372,"cut":false,"hidden":false,"merged":[[1,4,1,6],[1,7,2,7],[1,8,2,8],[1,0,2,0],[1,1,2,1],[1,2,2,2],[1,3,2,3]]}
[null,null,null,null,{"$f":"'протокол с картинками'!H1","v":0},{"$f":"'протокол с картинками'!I1","v":0},{"$f":"'протокол с картинками'!J1","v":0}]
["№ п/п","Штрих-код","Наименование  товара","Цена прейскуранта.","для заказа",null,null,"Кол-во в упаковке","Размер"]
[null,null,null,null,"кол-во,шт","стоимость","кол-во коробок"]
[null,null,{"$f":"'протокол с картинками'!C3","v":0},{"$f":"'протокол с картинками'!F3","v":0},{"$f":"'протокол с картинками'!H3","v":"кол-во,шт"},{"$f":"'протокол с картинками'!I3","v":"стоимость"},{"$f":"'протокол с картинками'!J3","v":"кол-во коробок"},{"$f":"'протокол с картинками'!K3","v":0},{"$f":"'протокол с картинками'!L3","v":0}]
[null,null,{"$f":"'протокол с картинками'!C4","v":"Кашпо с под. 21с0.1459/1.1-1 НХП "},{"$f":"'протокол с картинками'!F4","v":10.25},{"$f":"'протокол с картинками'!H4","v":0},{"$f":"'протокол с картинками'!I4","v":0},{"$f":"'протокол с картинками'!J4","v":0},{"$f":"'протокол с картинками'!K4","v":2},{"$f":"'протокол с картинками'!L4","v":3}]
[null,null,{"$f":"'протокол с картинками'!C5","v":"Кашпо с под. 21с0.1459/2.1-1 НХП "},{"$f":"'протокол с картинками'!F5","v":10.25},{"$f":"'протокол с картинками'!H5","v":0},{"$f":"'протокол с картинками'!I5","v":0},{"$f":"'протокол с картинками'!J5","v":0},{"$f":"'протокол с картинками'!K5","v":2},{"$f":"'протокол с картинками'!L5","v":3}]
[null,null,{"$f":"'протокол с картинками'!C6","v":"Кашпо с под. 21с0.1458/1.1-1 НХП "},{"$f":"'протокол с картинками'!F6","v":14.62},{"$f":"'протокол с картинками'!H6","v":0},{"$f":"'протокол с картинками'!I6","v":0},{"$f":"'протокол с картинками'!J6","v":0},{"$f":"'протокол с картинками'!K6","v":1},{"$f":"'протокол с картинками'!L6","v":8}]
[null,null,{"$f":"'протокол с картинками'!C7","v":"Кашпо с под. 21с0.1458/2.1-1 НХП "},{"$f":"'протокол с картинками'!F7","v":10.69},{"$f":"'протокол с картинками'!H7","v":0},{"$f":"'протокол с картинками'!I7","v":0},{"$f":"'протокол с картинками'!J7","v":0},{"$f":"'протокол с картинками'!K7","v":2},{"$f":"'протокол с картинками'!L7","v":5}]
[null,null,{"$f":"'протокол с картинками'!C8","v":"Кашпо с под. 21с0.1458/3.1-1 НХП "},{"$f":"'протокол с картинками'!F8","v":6.99},{"$f":"'протокол с картинками'!H8","v":0},{"$f":"'протокол с картинками'!I8","v":0},{"$f":"'протокол с картинками'!J8","v":0},{"$f":"'протокол с картинками'!K8","v":4},{"$f":"'протокол с картинками'!L8","v":2.4}]
[null,null,{"$f":"'протокол с картинками'!C9","v":"Кашпо с под. 21с0.1458/4.1-1 НХП "},{"$f":"'протокол с картинками'!F9","v":5.6},{"$f":"'протокол с картинками'!H9","v":0},{"$f":"'протокол с картинками'!I9","v":0},{"$f":"'протокол с картинками'!J9","v":0},{"$f":"'протокол с картинками'!K9","v":4},{"$f":"'протокол с картинками'!L9","v":1.8}]
[null,null,{"$f":"'протокол с картинками'!C10","v":"Кашпо с под. 21с0.1457/1.1-1 НХП "},{"$f":"'протокол с картинками'!F10","v":14.62},{"$f":"'протокол с картинками'!H10","v":0},{"$f":"'протокол с картинками'!I10","v":0},{"$f":"'протокол с картинками'!J10","v":0},{"$f":"'протокол с картинками'!K10","v":1},{"$f":"'протокол с картинками'!L10","v":8}]
[null,null,{"$f":"'протокол с картинками'!C11","v":"Кашпо с под. 21с0.1457/2.1-1 НХП "},{"$f":"'протокол с картинками'!F11","v":10.69},{"$f":"'протокол с картинками'!H11","v":0},{"$f":"'протокол с картинками'!I11","v":0},{"$f":"'протокол с картинками'!J11","v":0},{"$f":"'протокол с картинками'!K11","v":2},{"$f":"'протокол с картинками'!L11","v":5}]
[null,null,{"$f":"'протокол с картинками'!C12","v":"Кашпо с под. 21с0.1457/3.1-1 НХП "},{"$f":"'протокол с картинками'!F12","v":6.99},{"$f":"'протокол с картинками'!H12","v":0},{"$f":"'протокол с картинками'!I12","v":0},{"$f":"'протокол с картинками'!J12","v":0},{"$f":"'протокол с картинками'!K12","v":4},{"$f":"'протокол с картинками'!L12","v":2.4}]
[null,null,{"$f":"'протокол с картинками'!C13","v":"Кашпо с под. 21с0.1457/4.1-1 НХП "},{"$f":"'протокол с картинками'!F13","v":5.6},{"$f":"'протокол с картинками'!H13","v":0},{"$f":"'протокол с картинками'!I13","v":0},{"$f":"'протокол с картинками'!J13","v":0},{"$f":"'протокол с картинками'!K13","v":4},{"$f":"'протокол с картинками'!L13","v":1.8}]
[null,null,{"$f":"'протокол с картинками'!C14","v":"Кашпо с под. 21с0.1456/1.1-1 НХП "},{"$f":"'протокол с картинками'!F14","v":14.62},{"$f":"'протокол с картинками'!H14","v":0},{"$f":"'протокол с картинками'!I14","v":0},{"$f":"'протокол с картинками'!J14","v":0},{"$f":"'протокол с картинками'!K14","v":1},{"$f":"'протокол с картинками'!L14","v":8}]
[null,null,{"$f":"'протокол с картинками'!C15","v":"Кашпо с под. 21с0.1456/2.1-1 НХП "},{"$f":"'протокол с картинками'!F15","v":10.69},{"$f":"'протокол с картинками'!H15","v":0},{"$f":"'протокол с картинками'!I15","v":0},{"$f":"'протокол с картинками'!J15","v":0},{"$f":"'протокол с картинками'!K15","v":2},{"$f":"'протокол с картинками'!L15","v":5}]
[null,null,{"$f":"'протокол с картинками'!C16","v":"Кашпо с под. 21с0.1456/3.1-1 НХП "},{"$f":"'протокол с картинками'!F16","v":6.99},{"$f":"'протокол с картинками'!H16","v":0},{"$f":"'протокол с картинками'!I16","v":0},{"$f":"'протокол с картинками'!J16","v":0},{"$f":"'протокол с картинками'!K16","v":4},{"$f":"'протокол с картинками'!L16","v":2.4}]
[null,null,{"$f":"'протокол с картинками'!C17","v":"Кашпо с под. 21с0.1456/4.1-1 НХП "},{"$f":"'протокол с картинками'!F17","v":5.6},{"$f":"'протокол с картинками'!H17","v":0},{"$f":"'протокол с картинками'!I17","v":0},{"$f":"'протокол с картинками'!J17","v":0},{"$f":"'протокол с картинками'!K17","v":4},{"$f":"'протокол с картинками'!L17","v":1.8}]
[null,null,{"$f":"'протокол с картинками'!C18","v":"Кашпо с под. 21с0.1455/1.1-1 НХП "},{"$f":"'протокол с картинками'!F18","v":14.62},{"$f":"'протокол с картинками'!H18","v":0},{"$f":"'протокол с картинками'!I18","v":0},{"$f":"'протокол с картинками'!J18","v":0},{"$f":"'протокол с картинками'!K18","v":1},{"$f":"'протокол с картинками'!L18","v":8}]
[null,null,{"$f":"'протокол с картинками'!C19","v":"Кашпо с под. 21с0.1455/2.1-1 НХП "},{"$f":"'протокол с картинками'!F19","v":10.69},{"$f":"'протокол с картинками'!H19","v":0},{"$f":"'протокол с картинками'!I19","v":0},{"$f":"'протокол с картинками'!J19","v":0},{"$f":"'протокол с картинками'!K19","v":2},{"$f":"'протокол с картинками'!L19","v":5}]
[null,null,{"$f":"'протокол с картинками'!C20","v":"Кашпо с под. 21с0.1455/3.1-1 НХП "},{"$f":"'протокол с картинками'!F20","v":6.99},{"$f":"'протокол с картинками'!H20","v":0},{"$f":"'протокол с картинками'!I20","v":0},{"$f":"'протокол с картинками'!J20","v":0},{"$f":"'протокол с картинками'!K20","v":4},{"$f":"'протокол с картинками'!L20","v":2.4}]
[null,null,{"$f":"'протокол с картинками'!C21","v":"Кашпо с под. 21с0.1455/4.1-1 НХП "},{"$f":"'протокол с картинками'!F21","v":5.6},{"$f":"'протокол с картинками'!H21","v":0},{"$f":"'протокол с картинками'!I21","v":0},{"$f":"'протокол с картинками'!J21","v":0},{"$f":"'протокол с картинками'!K21","v":4},{"$f":"'протокол с картинками'!L21","v":1.8}]
[null,null,{"$f":"'протокол с картинками'!C22","v":"Кашпо с под. 20с0.1452/1.1-1 НХП "},{"$f":"'протокол с картинками'!F22","v":14.62},{"$f":"'протокол с картинками'!H22","v":0},{"$f":"'протокол с картинками'!I22","v":0},{"$f":"'протокол с картинками'!J22","v":0},{"$f":"'протокол с картинками'!K22","v":1},{"$f":"'протокол с картинками'!L22","v":8}]
[null,null,{"$f":"'протокол с картинками'!C23","v":"Кашпо с под. 20с0.1452/2.1-1 НХП "},{"$f":"'протокол с картинками'!F23","v":10.69},{"$f":"'протокол с картинками'!H23","v":0},{"$f":"'протокол с картинками'!I23","v":0},{"$f":"'протокол с картинками'!J23","v":0},{"$f":"'протокол с картинками'!K23","v":2},{"$f":"'протокол с картинками'!L23","v":5}]
[null,null,{"$f":"'протокол с картинками'!C24","v":"Кашпо с под. 20с0.1452/3.1-1 НХП "},{"$f":"'протокол с картинками'!F24","v":6.99},{"$f":"'протокол с картинками'!H24","v":0},{"$f":"'протокол с картинками'!I24","v":0},{"$f":"'протокол с картинками'!J24","v":0},{"$f":"'протокол с картинками'!K24","v":4},{"$f":"'протокол с картинками'!L24","v":2.4}]
[null,null,{"$f":"'протокол с картинками'!C25","v":"Кашпо с под. 20с0.1452/4.1-1 НХП "},{"$f":"'протокол с картинками'!F25","v":5.6},{"$f":"'протокол с картинками'!H25","v":0},{"$f":"'протокол с картинками'!I25","v":0},{"$f":"'протокол с картинками'!J25","v":0},{"$f":"'протокол с картинками'!K25","v":4},{"$f":"'протокол с картинками'!L25","v":1.8}]
[null,null,{"$f":"'протокол с картинками'!C26","v":"Кашпо с под. 20с0.1451/1.1-1 НХП "},{"$f":"'протокол с картинками'!F26","v":14.62},{"$f":"'протокол с картинками'!H26","v":0},{"$f":"'протокол с картинками'!I26","v":0},{"$f":"'протокол с картинками'!J26","v":0},{"$f":"'протокол с картинками'!K26","v":1},{"$f":"'протокол с картинками'!L26","v":8}]
[null,null,{"$f":"'протокол с картинками'!C27","v":"Кашпо с под. 20с0.1451/2.1-1 НХП "},{"$f":"'протокол с картинками'!F27","v":10.69},{"$f":"'протокол с картинками'!H27","v":0},{"$f":"'протокол с картинками'!I27","v":0},{"$f":"'протокол с картинками'!J27","v":0},{"$f":"'протокол с картинками'!K27","v":2},{"$f":"'протокол с картинками'!L27","v":5}]
[null,null,{"$f":"'протокол с картинками'!C28","v":"Кашпо с под. 20с0.1451/3.1-1 НХП "},{"$f":"'протокол с картинками'!F28","v":6.99},{"$f":"'протокол с картинками'!H28","v":0},{"$f":"'протокол с картинками'!I28","v":0},{"$f":"'протокол с картинками'!J28","v":0},{"$f":"'протокол с картинками'!K28","v":4},{"$f":"'протокол с картинками'!L28","v":2.4}]
[null,null,{"$f":"'протокол с картинками'!C29","v":"Кашпо с под. 20с0.1451/4.1-1 НХП "},{"$f":"'протокол с картинками'!F29","v":5.6},{"$f":"'протокол с картинками'!H29","v":0},{"$f":"'протокол с картинками'!I29","v":0},{"$f":"'протокол с картинками'!J29","v":0},{"$f":"'протокол с картинками'!K29","v":4},{"$f":"'протокол с картинками'!L29","v":1.8}]
[null,null,{"$f":"'протокол с картинками'!C30","v":"Кашпо с под. 20с0.1450/1.1-1 НХП "},{"$f":"'протокол с картинками'!F30","v":14.62},{"$f":"'протокол с картинками'!H30","v":0},{"$f":"'протокол с картинками'!I30","v":0},{"$f":"'протокол с картинками'!J30","v":0},{"$f":"'протокол с картинками'!K30","v":1},{"$f":"'протокол с картинками'!L30","v":8}]
[null,null,{"$f":"'протокол с картинками'!C31","v":"Кашпо с под. 20с0.1450/2.1-1 НХП "},{"$f":"'протокол с картинками'!F31","v":10.69},{"$f":"'протокол с картинками'!H31","v":0},{"$f":"'протокол с картинками'!I31","v":0},{"$f":"'протокол с картинками'!J31","v":0},{"$f":"'протокол с картинками'!K31","v":2},{"$f":"'протокол с картинками'!L31","v":5}]
[null,null,{"$f":"'протокол с картинками'!C32","v":"Кашпо с под. 20с0.1450/3.1-1 НХП "},{"$f":"'протокол с картинками'!F32","v":6.99},{"$f":"'протокол с картинками'!H32","v":0},{"$f":"'протокол с картинками'!I32","v":0},{"$f":"'протокол с картинками'!J32","v":0},{"$f":"'протокол с картинками'!K32","v":4},{"$f":"'протокол с картинками'!L32","v":2.4}]
[null,null,{"$f":"'протокол с картинками'!C33","v":"Кашпо с под. 20с0.1450/4.1-1 НХП "},{"$f":"'протокол с картинками'!F33","v":5.6},{"$f":"'протокол с картинками'!H33","v":0},{"$f":"'протокол с картинками'!I33","v":0},{"$f":"'протокол с картинками'!J33","v":0},{"$f":"'протокол с картинками'!K33","v":4},{"$f":"'протокол с картинками'!L33","v":1.8}]
[null,null,{"$f":"'протокол с картинками'!C34","v":"Кашпо с под.19с0.1429/1.1-1 НХП "},{"$f":"'протокол с картинками'!F34","v":27.72},{"$f":"'протокол с картинками'!H34","v":0},{"$f":"'протокол с картинками'!I34","v":0},{"$f":"'протокол с картинками'!J34","v":0},{"$f":"'протокол с картинками'!K34","v":1},{"$f":"'протокол с картинками'!L34","v":12.8}]
[null,null,{"$f":"'протокол с картинками'!C35","v":"Кашпо с под.19с0.1429/2.1-1 НХП "},{"$f":"'протокол с картинками'!F35","v":20.79},{"$f":"'протокол с картинками'!H35","v":0},{"$f":"'протокол с картинками'!I35","v":0},{"$f":"'протокол с картинками'!J35","v":0},{"$f":"'протокол с картинками'!K35","v":1},{"$f":"'протокол с картинками'!L35","v":9}]
[null,null,{"$f":"'протокол с картинками'!C36","v":"Кашпо с под.19с0.1429/3.1-1 НХП "},{"$f":"'протокол с картинками'!F36","v":15.07},{"$f":"'протокол с картинками'!H36","v":0},{"$f":"'протокол с картинками'!I36","v":0},{"$f":"'протокол с картинками'!J36","v":0},{"$f":"'протокол с картинками'!K36","v":2},{"$f":"'протокол с картинками'!L36","v":6.5}]
[null,null,{"$f":"'протокол с картинками'!C37","v":"Кашпо с под. 20с0.1439/1.1-1 НХП "},{"$f":"'протокол с картинками'!F37","v":13.93},{"$f":"'протокол с картинками'!H37","v":0},{"$f":"'протокол с картинками'!I37","v":0},{"$f":"'протокол с картинками'!J37","v":0},{"$f":"'протокол с картинками'!K37","v":1},{"$f":"'протокол с картинками'!L37","v":8}]
[null,null,{"$f":"'протокол с картинками'!C38","v":"Кашпо с под. 20с0.1439/2.1-1 НХП "},{"$f":"'протокол с картинками'!F38","v":10.19},{"$f":"'протокол с картинками'!H38","v":0},{"$f":"'протокол с картинками'!I38","v":0},{"$f":"'протокол с картинками'!J38","v":0},{"$f":"'протокол с картинками'!K38","v":2},{"$f":"'протокол с картинками'!L38","v":5}]
[null,null,{"$f":"'протокол с картинками'!C39","v":"Кашпо с под. 20с0.1439/3.1-1 НХП "},{"$f":"'протокол с картинками'!F39","v":6.66},{"$f":"'протокол с картинками'!H39","v":0},{"$f":"'протокол с картинками'!I39","v":0},{"$f":"'протокол с картинками'!J39","v":0},{"$f":"'протокол с картинками'!K39","v":4},{"$f":"'протокол с картинками'!L39","v":2.4}]
[null,null,{"$f":"'протокол с картинками'!C40","v":"Кашпо с под. 20с0.1439/4.1-1 НХП "},{"$f":"'протокол с картинками'!F40","v":5.34},{"$f":"'протокол с картинками'!H40","v":0},{"$f":"'протокол с картинками'!I40","v":0},{"$f":"'протокол с картинками'!J40","v":0},{"$f":"'протокол с картинками'!K40","v":4},{"$f":"'протокол с картинками'!L40","v":1.8}]
[null,null,{"$f":"'протокол с картинками'!C41","v":"Кашпо с под. 20с0.1440/1.1-1 НХП "},{"$f":"'протокол с картинками'!F41","v":13.93},{"$f":"'протокол с картинками'!H41","v":0},{"$f":"'протокол с картинками'!I41","v":0},{"$f":"'протокол с картинками'!J41","v":0},{"$f":"'протокол с картинками'!K41","v":1},{"$f":"'протокол с картинками'!L41","v":8}]
[null,null,{"$f":"'протокол с картинками'!C42","v":"Кашпо с под. 20с0.1440/2.1-1 НХП "},{"$f":"'протокол с картинками'!F42","v":10.19},{"$f":"'протокол с картинками'!H42","v":0},{"$f":"'протокол с картинками'!I42","v":0},{"$f":"'протокол с картинками'!J42","v":0},{"$f":"'протокол с картинками'!K42","v":2},{"$f":"'протокол с картинками'!L42","v":5}]
[null,null,{"$f":"'протокол с картинками'!C43","v":"Кашпо с под. 20с0.1440/3.1-1 НХП "},{"$f":"'протокол с картинками'!F43","v":6.66},{"$f":"'протокол с картинками'!H43","v":0},{"$f":"'протокол с картинками'!I43","v":0},{"$f":"'протокол с картинками'!J43","v":0},{"$f":"'протокол с картинками'!K43","v":4},{"$f":"'протокол с картинками'!L43","v":2.4}]
[null,null,{"$f":"'протокол с картинками'!C44","v":"Кашпо с под. 20с0.1440/4.1-1 НХП "},{"$f":"'протокол с картинками'!F44","v":5.34},{"$f":"'протокол с картинками'!H44","v":0},{"$f":"'протокол с картинками'!I44","v":0},{"$f":"'протокол с картинками'!J44","v":0},{"$f":"'протокол с картинками'!K44","v":4},{"$f":"'протокол с картинками'!L44","v":1.8}]
[null,null,{"$f":"'протокол с картинками'!C45","v":"Кашпо с под. 20с0.1441/1.1-1 НХП "},{"$f":"'протокол с картинками'!F45","v":13.93},{"$f":"'протокол с картинками'!H45","v":0},{"$f":"'протокол с картинками'!I45","v":0},{"$f":"'протокол с картинками'!J45","v":0},{"$f":"'протокол с картинками'!K45","v":1},{"$f":"'протокол с картинками'!L45","v":8}]
[null,null,{"$f":"'протокол с картинками'!C46","v":"Кашпо с под. 20с0.1441/2.1-1 НХП "},{"$f":"'протокол с картинками'!F46","v":10.19},{"$f":"'протокол с картинками'!H46","v":0},{"$f":"'протокол с картинками'!I46","v":0},{"$f":"'протокол с картинками'!J46","v":0},{"$f":"'протокол с картинками'!K46","v":2},{"$f":"'протокол с картинками'!L46","v":5}]
[null,null,{"$f":"'протокол с картинками'!C47","v":"Кашпо с под. 20с0.1441/3.1-1 НХП "},{"$f":"'протокол с картинками'!F47","v":6.66},{"$f":"'протокол с картинками'!H47","v":0},{"$f":"'протокол с картинками'!I47","v":0},{"$f":"'протокол с картинками'!J47","v":0},{"$f":"'протокол с картинками'!K47","v":4},{"$f":"'протокол с картинками'!L47","v":2.4}]
[null,null,{"$f":"'протокол с картинками'!C48","v":"Кашпо с под. 20с0.1441/4.1-1 НХП "},{"$f":"'протокол с картинками'!F48","v":5.34},{"$f":"'протокол с картинками'!H48","v":0},{"$f":"'протокол с картинками'!I48","v":0},{"$f":"'протокол с картинками'!J48","v":0},{"$f":"'протокол с картинками'!K48","v":4},{"$f":"'протокол с картинками'!L48","v":1.8}]
[null,null,{"$f":"'протокол с картинками'!C49","v":"Кашпо с под. 20с0.1442/1.1-1 НХП "},{"$f":"'протокол с картинками'!F49","v":10.210000000000001},{"$f":"'протокол с картинками'!H49","v":0},{"$f":"'протокол с картинками'!I49","v":0},{"$f":"'протокол с картинками'!J49","v":0},{"$f":"'протокол с картинками'!K49","v":2},{"$f":"'протокол с картинками'!L49","v":3.4}]
[null,null,{"$f":"'протокол с картинками'!C50","v":"Кашпо с под. 20с0.1442/2.1-1 НХП "},{"$f":"'протокол с картинками'!F50","v":6.67},{"$f":"'протокол с картинками'!H50","v":0},{"$f":"'протокол с картинками'!I50","v":0},{"$f":"'протокол с картинками'!J50","v":0},{"$f":"'протокол с картинками'!K50","v":4},{"$f":"'протокол с картинками'!L50","v":1.7}]
[null,null,{"$f":"'протокол с картинками'!C51","v":"Кашпо с под. 20с0.1442/3.1-1 НХП "},{"$f":"'протокол с картинками'!F51","v":4.95},{"$f":"'протокол с картинками'!H51","v":0},{"$f":"'протокол с картинками'!I51","v":0},{"$f":"'протокол с картинками'!J51","v":0},{"$f":"'протокол с картинками'!K51","v":6},{"$f":"'протокол с картинками'!L51","v":0.9}]
[null,null,{"$f":"'протокол с картинками'!C52","v":"Кашпо с под. 20с0.1443/1.1-1 НХП "},{"$f":"'протокол с картинками'!F52","v":10.210000000000001},{"$f":"'протокол с картинками'!H52","v":0},{"$f":"'протокол с картинками'!I52","v":0},{"$f":"'протокол с картинками'!J52","v":0},{"$f":"'протокол с картинками'!K52","v":2},{"$f":"'протокол с картинками'!L52","v":3.4}]
[null,null,{"$f":"'протокол с картинками'!C53","v":"Кашпо с под. 20с0.1443/2.1-1 НХП "},{"$f":"'протокол с картинками'!F53","v":6.67},{"$f":"'протокол с картинками'!H53","v":0},{"$f":"'протокол с картинками'!I53","v":0},{"$f":"'протокол с картинками'!J53","v":0},{"$f":"'протокол с картинками'!K53","v":4},{"$f":"'протокол с картинками'!L53","v":1.7}]
[null,null,{"$f":"'протокол с картинками'!C54","v":"Кашпо с под. 20с0.1443/3.1-1 НХП "},{"$f":"'протокол с картинками'!F54","v":4.95},{"$f":"'протокол с картинками'!H54","v":0},{"$f":"'протокол с картинками'!I54","v":0},{"$f":"'протокол с картинками'!J54","v":0},{"$f":"'протокол с картинками'!K54","v":6},{"$f":"'протокол с картинками'!L54","v":0.9}]
[null,null,{"$f":"'протокол с картинками'!C55","v":"Кашпо с под. 20с0.1444/1.1-1 НХП "},{"$f":"'протокол с картинками'!F55","v":10.210000000000001},{"$f":"'протокол с картинками'!H55","v":0},{"$f":"'протокол с картинками'!I55","v":0},{"$f":"'протокол с картинками'!J55","v":0},{"$f":"'протокол с картинками'!K55","v":2},{"$f":"'протокол с картинками'!L55","v":3.4}]
[null,null,{"$f":"'протокол с картинками'!C56","v":"Кашпо с под. 20с0.1444/2.1-1 НХП "},{"$f":"'протокол с картинками'!F56","v":6.67},{"$f":"'протокол с картинками'!H56","v":0},{"$f":"'протокол с картинками'!I56","v":0},{"$f":"'протокол с картинками'!J56","v":0},{"$f":"'протокол с картинками'!K56","v":4},{"$f":"'протокол с картинками'!L56","v":1.7}]
[null,null,{"$f":"'протокол с картинками'!C57","v":"Кашпо с под. 20с0.1444/3.1-1 НХП "},{"$f":"'протокол с картинками'!F57","v":4.95},{"$f":"'протокол с картинками'!H57","v":0},{"$f":"'протокол с картинками'!I57","v":0},{"$f":"'протокол с картинками'!J57","v":0},{"$f":"'протокол с картинками'!K57","v":6},{"$f":"'протокол с картинками'!L57","v":0.9}]
[null,null,{"$f":"'протокол с картинками'!C58","v":"Кашпо с под. 20с0.1445/1.1-1 НХП "},{"$f":"'протокол с картинками'!F58","v":10.210000000000001},{"$f":"'протокол с картинками'!H58","v":0},{"$f":"'протокол с картинками'!I58","v":0},{"$f":"'протокол с картинками'!J58","v":0},{"$f":"'протокол с картинками'!K58","v":2},{"$f":"'протокол с картинками'!L58","v":3.4}]
[null,null,{"$f":"'протокол с картинками'!C59","v":"Кашпо с под. 20с0.1445/2.1-1 НХП "},{"$f":"'протокол с картинками'!F59","v":6.67},{"$f":"'протокол с картинками'!H59","v":0},{"$f":"'протокол с картинками'!I59","v":0},{"$f":"'протокол с картинками'!J59","v":0},{"$f":"'протокол с картинками'!K59","v":4},{"$f":"'протокол с картинками'!L59","v":1.7}]
[null,null,{"$f":"'протокол с картинками'!C60","v":"Кашпо с под. 20с0.1445/3.1-1 НХП "},{"$f":"'протокол с картинками'!F60","v":4.95},{"$f":"'протокол с картинками'!H60","v":0},{"$f":"'протокол с картинками'!I60","v":0},{"$f":"'протокол с картинками'!J60","v":0},{"$f":"'протокол с картинками'!K60","v":6},{"$f":"'протокол с картинками'!L60","v":0.9}]
[null,null,{"$f":"'протокол с картинками'!C61","v":"Кашпо с под. 20с0.1446/0.1 НХП "},{"$f":"'протокол с картинками'!F61","v":28.19},{"$f":"'протокол с картинками'!H61","v":0},{"$f":"'протокол с картинками'!I61","v":0},{"$f":"'протокол с картинками'!J61","v":0},{"$f":"'протокол с картинками'!K61","v":1},{"$f":"'протокол с картинками'!L61","v":13.5}]
[null,null,{"$f":"'протокол с картинками'!C62","v":"Кашпо с под. 20с0.1447/1.1 НХП "},{"$f":"'протокол с картинками'!F62","v":24.09},{"$f":"'протокол с картинками'!H62","v":0},{"$f":"'протокол с картинками'!I62","v":0},{"$f":"'протокол с картинками'!J62","v":0},{"$f":"'протокол с картинками'!K62","v":1},{"$f":"'протокол с картинками'!L62","v":12.7}]
[null,null,{"$f":"'протокол с картинками'!C63","v":"Кашпо с под. 20с0.1447/2.1 НХП "},{"$f":"'протокол с картинками'!F63","v":18.05},{"$f":"'протокол с картинками'!H63","v":0},{"$f":"'протокол с картинками'!I63","v":0},{"$f":"'протокол с картинками'!J63","v":0},{"$f":"'протокол с картинками'!K63","v":1},{"$f":"'протокол с картинками'!L63","v":8.1999999999999993}]
[null,null,{"$f":"'протокол с картинками'!C64","v":"Кашпо с под. 20с0.1447/3.1 НХП "},{"$f":"'протокол с картинками'!F64","v":13.06},{"$f":"'протокол с картинками'!H64","v":0},{"$f":"'протокол с картинками'!I64","v":0},{"$f":"'протокол с картинками'!J64","v":0},{"$f":"'протокол с картинками'!K64","v":2},{"$f":"'протокол с картинками'!L64","v":6}]
[null,null,{"$f":"'протокол с картинками'!C65","v":"Кашпо с под. 20с0.1448/1.1-1 НХП "},{"$f":"'протокол с картинками'!F65","v":4.22},{"$f":"'протокол с картинками'!H65","v":0},{"$f":"'протокол с картинками'!I65","v":0},{"$f":"'протокол с картинками'!J65","v":0},{"$f":"'протокол с картинками'!K65","v":8},{"$f":"'протокол с картинками'!L65","v":0.51}]
[null,null,{"$f":"'протокол с картинками'!C66","v":"Кашпо с под. 20с0.1448/2.1-1 НХП "},{"$f":"'протокол с картинками'!F66","v":4.22},{"$f":"'протокол с картинками'!H66","v":0},{"$f":"'протокол с картинками'!I66","v":0},{"$f":"'протокол с картинками'!J66","v":0},{"$f":"'протокол с картинками'!K66","v":8},{"$f":"'протокол с картинками'!L66","v":0.51}]
[null,null,{"$f":"'протокол с картинками'!C67","v":"Кашпо с под. 20с0.1448/3.1-1 НХП "},{"$f":"'протокол с картинками'!F67","v":4.22},{"$f":"'протокол с картинками'!H67","v":0},{"$f":"'протокол с картинками'!I67","v":0},{"$f":"'протокол с картинками'!J67","v":0},{"$f":"'протокол с картинками'!K67","v":8},{"$f":"'протокол с картинками'!L67","v":0.51}]
[null,null,{"$f":"'протокол с картинками'!C68","v":"Кашпо с под. 20с0.1448/4.1-1 НХП "},{"$f":"'протокол с картинками'!F68","v":4.22},{"$f":"'протокол с картинками'!H68","v":0},{"$f":"'протокол с картинками'!I68","v":0},{"$f":"'протокол с картинками'!J68","v":0},{"$f":"'протокол с картинками'!K68","v":8},{"$f":"'протокол с картинками'!L68","v":0.51}]
[null,null,{"$f":"'протокол с картинками'!C69","v":"Кашпо с под. 20с0.1449/1.1-1 НХП "},{"$f":"'протокол с картинками'!F69","v":13.93},{"$f":"'протокол с картинками'!H69","v":0},{"$f":"'протокол с картинками'!I69","v":0},{"$f":"'протокол с картинками'!J69","v":0},{"$f":"'протокол с картинками'!K69","v":1},{"$f":"'протокол с картинками'!L69","v":8}]
[null,null,{"$f":"'протокол с картинками'!C70","v":"Кашпо с под. 20с0.1449/2.1-1 НХП "},{"$f":"'протокол с картинками'!F70","v":10.19},{"$f":"'протокол с картинками'!H70","v":0},{"$f":"'протокол с картинками'!I70","v":0},{"$f":"'протокол с картинками'!J70","v":0},{"$f":"'протокол с картинками'!K70","v":2},{"$f":"'протокол с картинками'!L70","v":5}]
[null,null,{"$f":"'протокол с картинками'!C71","v":"Кашпо с под. 20с0.1449/3.1-1 НХП "},{"$f":"'протокол с картинками'!F71","v":6.66},{"$f":"'протокол с картинками'!H71","v":0},{"$f":"'протокол с картинками'!I71","v":0},{"$f":"'протокол с картинками'!J71","v":0},{"$f":"'протокол с картинками'!K71","v":4},{"$f":"'протокол с картинками'!L71","v":2.4}]
[null,null,{"$f":"'протокол с картинками'!C72","v":"Кашпо с под. 20с0.1449/4.1-1 НХП "},{"$f":"'протокол с картинками'!F72","v":5.34},{"$f":"'протокол с картинками'!H72","v":0},{"$f":"'протокол с картинками'!I72","v":0},{"$f":"'протокол с картинками'!J72","v":0},{"$f":"'протокол с картинками'!K72","v":4},{"$f":"'протокол с картинками'!L72","v":1.8}]
[null,null,{"$f":"'протокол с картинками'!C73","v":"Кашпо с под. 19с0.1423/1.1-1 НХП "},{"$f":"'протокол с картинками'!F73","v":33.880000000000003},{"$f":"'протокол с картинками'!H73","v":0},{"$f":"'протокол с картинками'!I73","v":0},{"$f":"'протокол с картинками'!J73","v":0},{"$f":"'протокол с картинками'!K73","v":1},{"$f":"'протокол с картинками'!L73","v":15}]
[null,null,{"$f":"'протокол с картинками'!C74","v":"Кашпо с под. 19с0.1423/2.1-1 НХП "},{"$f":"'протокол с картинками'!F74","v":27.61},{"$f":"'протокол с картинками'!H74","v":0},{"$f":"'протокол с картинками'!I74","v":0},{"$f":"'протокол с картинками'!J74","v":0},{"$f":"'протокол с картинками'!K74","v":1},{"$f":"'протокол с картинками'!L74","v":10}]
[null,null,{"$f":"'протокол с картинками'!C75","v":"Кашпо с под. 19с0.1424/1.1-1 НХП "},{"$f":"'протокол с картинками'!F75","v":17.05},{"$f":"'протокол с картинками'!H75","v":0},{"$f":"'протокол с картинками'!I75","v":0},{"$f":"'протокол с картинками'!J75","v":0},{"$f":"'протокол с картинками'!K75","v":1},{"$f":"'протокол с картинками'!L75","v":8}]
[null,null,{"$f":"'протокол с картинками'!C76","v":"Кашпо с под. 19с0.1424/2.1-1 НХП "},{"$f":"'протокол с картинками'!F76","v":12.65},{"$f":"'протокол с картинками'!H76","v":0},{"$f":"'протокол с картинками'!I76","v":0},{"$f":"'протокол с картинками'!J76","v":0},{"$f":"'протокол с картинками'!K76","v":2},{"$f":"'протокол с картинками'!L76","v":5}]
[null,null,{"$f":"'протокол с картинками'!C77","v":"Кашпо с под. 19с0.1424/4.1-1 НХП "},{"$f":"'протокол с картинками'!F77","v":7.59},{"$f":"'протокол с картинками'!H77","v":0},{"$f":"'протокол с картинками'!I77","v":0},{"$f":"'протокол с картинками'!J77","v":0},{"$f":"'протокол с картинками'!K77","v":4},{"$f":"'протокол с картинками'!L77","v":1.8}]
[null,null,{"$f":"'протокол с картинками'!C78","v":"Кашпо с под. 19с0.1425/1.1-1 НХП "},{"$f":"'протокол с картинками'!F78","v":17.05},{"$f":"'протокол с картинками'!H78","v":0},{"$f":"'протокол с картинками'!I78","v":0},{"$f":"'протокол с картинками'!J78","v":0},{"$f":"'протокол с картинками'!K78","v":1},{"$f":"'протокол с картинками'!L78","v":8}]
[null,null,{"$f":"'протокол с картинками'!C79","v":"Кашпо с под. 19с0.1425/2.1-1 НХП "},{"$f":"'протокол с картинками'!F79","v":12.65},{"$f":"'протокол с картинками'!H79","v":0},{"$f":"'протокол с картинками'!I79","v":0},{"$f":"'протокол с картинками'!J79","v":0},{"$f":"'протокол с картинками'!K79","v":2},{"$f":"'протокол с картинками'!L79","v":5}]
[null,null,{"$f":"'протокол с картинками'!C80","v":"Кашпо с под. 19с0.1425/4.1-1 НХП "},{"$f":"'протокол с картинками'!F80","v":7.59},{"$f":"'протокол с картинками'!H80","v":0},{"$f":"'протокол с картинками'!I80","v":0},{"$f":"'протокол с картинками'!J80","v":0},{"$f":"'протокол с картинками'!K80","v":4},{"$f":"'протокол с картинками'!L80","v":1.8}]
[null,null,{"$f":"'протокол с картинками'!C81","v":"Кашпо с под. 19с0.1426/1.1-1 НХП "},{"$f":"'протокол с картинками'!F81","v":17.05},{"$f":"'протокол с картинками'!H81","v":0},{"$f":"'протокол с картинками'!I81","v":0},{"$f":"'протокол с картинками'!J81","v":0},{"$f":"'протокол с картинками'!K81","v":1},{"$f":"'протокол с картинками'!L81","v":8}]
[null,null,{"$f":"'протокол с картинками'!C82","v":"Кашпо с под. 19с0.1426/2.1-1 НХП "},{"$f":"'протокол с картинками'!F82","v":12.65},{"$f":"'протокол с картинками'!H82","v":0},{"$f":"'протокол с картинками'!I82","v":0},{"$f":"'протокол с картинками'!J82","v":0},{"$f":"'протокол с картинками'!K82","v":2},{"$f":"'протокол с картинками'!L82","v":5}]
[null,null,{"$f":"'протокол с картинками'!C83","v":"Кашпо с под. 19с0.1426/4.1-1 НХП "},{"$f":"'протокол с картинками'!F83","v":7.59},{"$f":"'протокол с картинками'!H83","v":0},{"$f":"'протокол с картинками'!I83","v":0},{"$f":"'протокол с картинками'!J83","v":0},{"$f":"'протокол с картинками'!K83","v":4},{"$f":"'протокол с картинками'!L83","v":1.8}]
[null,null,{"$f":"'протокол с картинками'!C84","v":"Кашпо с под. 19с0.1427/1.1-1 НХП "},{"$f":"'протокол с картинками'!F84","v":17.05},{"$f":"'протокол с картинками'!H84","v":0},{"$f":"'протокол с картинками'!I84","v":0},{"$f":"'протокол с картинками'!J84","v":0},{"$f":"'протокол с картинками'!K84","v":1},{"$f":"'протокол с картинками'!L84","v":8}]
[null,null,{"$f":"'протокол с картинками'!C85","v":"Кашпо с под. 19с0.1427/2.1-1 НХП "},{"$f":"'протокол с картинками'!F85","v":12.65},{"$f":"'протокол с картинками'!H85","v":0},{"$f":"'протокол с картинками'!I85","v":0},{"$f":"'протокол с картинками'!J85","v":0},{"$f":"'протокол с картинками'!K85","v":2},{"$f":"'протокол с картинками'!L85","v":5}]
[null,null,{"$f":"'протокол с картинками'!C86","v":"Кашпо с под. 19с0.1427/4.1-1 НХП "},{"$f":"'протокол с картинками'!F86","v":7.59},{"$f":"'протокол с картинками'!H86","v":0},{"$f":"'протокол с картинками'!I86","v":0},{"$f":"'протокол с картинками'!J86","v":0},{"$f":"'протокол с картинками'!K86","v":4},{"$f":"'протокол с картинками'!L86","v":1.8}]
[null,null,{"$f":"'протокол с картинками'!C87","v":"Кашпо с под. 19с0.1428/1.1-1 НХП "},{"$f":"'протокол с картинками'!F87","v":17.05},{"$f":"'протокол с картинками'!H87","v":0},{"$f":"'протокол с картинками'!I87","v":0},{"$f":"'протокол с картинками'!J87","v":0},{"$f":"'протокол с картинками'!K87","v":1},{"$f":"'протокол с картинками'!L87","v":8}]
[null,null,{"$f":"'протокол с картинками'!C88","v":"Кашпо с под. 19с0.1428/2.1-1 НХП "},{"$f":"'протокол с картинками'!F88","v":12.65},{"$f":"'протокол с картинками'!H88","v":0},{"$f":"'протокол с картинками'!I88","v":0},{"$f":"'протокол с картинками'!J88","v":0},{"$f":"'протокол с картинками'!K88","v":2},{"$f":"'протокол с картинками'!L88","v":5}]
[null,null,{"$f":"'протокол с картинками'!C89","v":"Кашпо с под. 19с0.1428/4.1-1 НХП "},{"$f":"'протокол с картинками'!F89","v":7.59},{"$f":"'протокол с картинками'!H89","v":0},{"$f":"'протокол с картинками'!I89","v":0},{"$f":"'протокол с картинками'!J89","v":0},{"$f":"'протокол с картинками'!K89","v":4},{"$f":"'протокол с картинками'!L89","v":1.8}]
[null,null,{"$f":"'протокол с картинками'!C90","v":"Кашпо с под. 19с0.1420/1.1-1 НХП "},{"$f":"'протокол с картинками'!F90","v":13.93},{"$f":"'протокол с картинками'!H90","v":0},{"$f":"'протокол с картинками'!I90","v":0},{"$f":"'протокол с картинками'!J90","v":0},{"$f":"'протокол с картинками'!K90","v":1},{"$f":"'протокол с картинками'!L90","v":8}]
[null,null,{"$f":"'протокол с картинками'!C91","v":"Кашпо с под. 19с0.1420/2.1-1 НХП "},{"$f":"'протокол с картинками'!F91","v":10.19},{"$f":"'протокол с картинками'!H91","v":0},{"$f":"'протокол с картинками'!I91","v":0},{"$f":"'протокол с картинками'!J91","v":0},{"$f":"'протокол с картинками'!K91","v":2},{"$f":"'протокол с картинками'!L91","v":5}]
[null,null,{"$f":"'протокол с картинками'!C92","v":"Кашпо с под. 19с0.1420/3.1-1 НХП "},{"$f":"'протокол с картинками'!F92","v":6.66},{"$f":"'протокол с картинками'!H92","v":0},{"$f":"'протокол с картинками'!I92","v":0},{"$f":"'протокол с картинками'!J92","v":0},{"$f":"'протокол с картинками'!K92","v":4},{"$f":"'протокол с картинками'!L92","v":2.4}]
[null,null,{"$f":"'протокол с картинками'!C93","v":"Кашпо с под. 19с0.1420/4.1-1 НХП "},{"$f":"'протокол с картинками'!F93","v":5.34},{"$f":"'протокол с картинками'!H93","v":0},{"$f":"'протокол с картинками'!I93","v":0},{"$f":"'протокол с картинками'!J93","v":0},{"$f":"'протокол с картинками'!K93","v":4},{"$f":"'протокол с картинками'!L93","v":1.8}]
[null,null,{"$f":"'протокол с картинками'!C94","v":"Кашпо с под. 19с0.1421/1.1-1 НХП "},{"$f":"'протокол с картинками'!F94","v":13.93},{"$f":"'протокол с картинками'!H94","v":0},{"$f":"'протокол с картинками'!I94","v":0},{"$f":"'протокол с картинками'!J94","v":0},{"$f":"'протокол с картинками'!K94","v":1},{"$f":"'протокол с картинками'!L94","v":8}]
[null,null,{"$f":"'протокол с картинками'!C95","v":"Кашпо с под. 19с0.1421/2.1-1 НХП "},{"$f":"'протокол с картинками'!F95","v":10.19},{"$f":"'протокол с картинками'!H95","v":0},{"$f":"'протокол с картинками'!I95","v":0},{"$f":"'протокол с картинками'!J95","v":0},{"$f":"'протокол с картинками'!K95","v":2},{"$f":"'протокол с картинками'!L95","v":5}]
[null,null,{"$f":"'протокол с картинками'!C96","v":"Кашпо с под. 19с0.1421/3.1-1 НХП "},{"$f":"'протокол с картинками'!F96","v":6.66},{"$f":"'протокол с картинками'!H96","v":0},{"$f":"'протокол с картинками'!I96","v":0},{"$f":"'протокол с картинками'!J96","v":0},{"$f":"'протокол с картинками'!K96","v":4},{"$f":"'протокол с картинками'!L96","v":2.4}]
[null,null,{"$f":"'протокол с картинками'!C97","v":"Кашпо с под. 19с0.1421/4.1-1 НХП "},{"$f":"'протокол с картинками'!F97","v":5.34},{"$f":"'протокол с картинками'!H97","v":0},{"$f":"'протокол с картинками'!I97","v":0},{"$f":"'протокол с картинками'!J97","v":0},{"$f":"'протокол с картинками'!K97","v":4},{"$f":"'протокол с картинками'!L97","v":1.8}]
[null,null,{"$f":"'протокол с картинками'!C98","v":"Кашпо с под. 19с0.1417/1.1-1 НХП "},{"$f":"'протокол с картинками'!F98","v":17.05},{"$f":"'протокол с картинками'!H98","v":0},{"$f":"'протокол с картинками'!I98","v":0},{"$f":"'протокол с картинками'!J98","v":0},{"$f":"'протокол с картинками'!K98","v":1},{"$f":"'протокол с картинками'!L98","v":8}]
[null,null,{"$f":"'протокол с картинками'!C99","v":"Кашпо с под. 19с0.1417/2.1-1 НХП "},{"$f":"'протокол с картинками'!F99","v":12.65},{"$f":"'протокол с картинками'!H99","v":0},{"$f":"'протокол с картинками'!I99","v":0},{"$f":"'протокол с картинками'!J99","v":0},{"$f":"'протокол с картинками'!K99","v":2},{"$f":"'протокол с картинками'!L99","v":5}]
[null,null,{"$f":"'протокол с картинками'!C100","v":"Кашпо с под. 19с0.1417/3.1-1 НХП "},{"$f":"'протокол с картинками'!F100","v":9.1300000000000008},{"$f":"'протокол с картинками'!H100","v":0},{"$f":"'протокол с картинками'!I100","v":0},{"$f":"'протокол с картинками'!J100","v":0},{"$f":"'протокол с картинками'!K100","v":4},{"$f":"'протокол с картинками'!L100","v":2.4}]
[null,null,{"$f":"'протокол с картинками'!C101","v":"Кашпо с под. 19с0.1417/4.1-1 НХП "},{"$f":"'протокол с картинками'!F101","v":7.59},{"$f":"'протокол с картинками'!H101","v":0},{"$f":"'протокол с картинками'!I101","v":0},{"$f":"'протокол с картинками'!J101","v":0},{"$f":"'протокол с картинками'!K101","v":4},{"$f":"'протокол с картинками'!L101","v":1.8}]
[null,null,{"$f":"'протокол с картинками'!C102","v":"Кашпо с под. 19с0.1418/1.1-1 НХП "},{"$f":"'протокол с картинками'!F102","v":17.05},{"$f":"'протокол с картинками'!H102","v":0},{"$f":"'протокол с картинками'!I102","v":0},{"$f":"'протокол с картинками'!J102","v":0},{"$f":"'протокол с картинками'!K102","v":1},{"$f":"'протокол с картинками'!L102","v":8}]
[null,null,{"$f":"'протокол с картинками'!C103","v":"Кашпо с под. 19с0.1418/2.1-1 НХП "},{"$f":"'протокол с картинками'!F103","v":12.65},{"$f":"'протокол с картинками'!H103","v":0},{"$f":"'протокол с картинками'!I103","v":0},{"$f":"'протокол с картинками'!J103","v":0},{"$f":"'протокол с картинками'!K103","v":2},{"$f":"'протокол с картинками'!L103","v":5}]
[null,null,{"$f":"'протокол с картинками'!C104","v":"Кашпо с под. 19с0.1418/3.1-1 НХП "},{"$f":"'протокол с картинками'!F104","v":9.1300000000000008},{"$f":"'протокол с картинками'!H104","v":0},{"$f":"'протокол с картинками'!I104","v":0},{"$f":"'протокол с картинками'!J104","v":0},{"$f":"'протокол с картинками'!K104","v":4},{"$f":"'протокол с картинками'!L104","v":2.4}]
[null,null,{"$f":"'протокол с картинками'!C105","v":"Кашпо с под. 19с0.1418/4.1-1 НХП "},{"$f":"'протокол с картинками'!F105","v":7.59},{"$f":"'протокол с картинками'!H105","v":0},{"$f":"'протокол с картинками'!I105","v":0},{"$f":"'протокол с картинками'!J105","v":0},{"$f":"'протокол с картинками'!K105","v":4},{"$f":"'протокол с картинками'!L105","v":1.8}]
[null,null,{"$f":"'протокол с картинками'!C106","v":"Кашпо с под. 18с0.1407/1.1-1 НХП "},{"$f":"'протокол с картинками'!F106","v":14.62},{"$f":"'протокол с картинками'!H106","v":0},{"$f":"'протокол с картинками'!I106","v":0},{"$f":"'протокол с картинками'!J106","v":0},{"$f":"'протокол с картинками'!K106","v":1},{"$f":"'протокол с картинками'!L106","v":8}]
[null,null,{"$f":"'протокол с картинками'!C107","v":"Кашпо с под. 18с0.1407/2.1-1 НХП "},{"$f":"'протокол с картинками'!F107","v":10.69},{"$f":"'протокол с картинками'!H107","v":0},{"$f":"'протокол с картинками'!I107","v":0},{"$f":"'протокол с картинками'!J107","v":0},{"$f":"'протокол с картинками'!K107","v":2},{"$f":"'протокол с картинками'!L107","v":5}]
[null,null,{"$f":"'протокол с картинками'!C108","v":"Кашпо с под. 18с0.1407/3.1-1 НХП "},{"$f":"'протокол с картинками'!F108","v":6.99},{"$f":"'протокол с картинками'!H108","v":0},{"$f":"'протокол с картинками'!I108","v":0},{"$f":"'протокол с картинками'!J108","v":0},{"$f":"'протокол с картинками'!K108","v":4},{"$f":"'протокол с картинками'!L108","v":2.4}]
[null,null,{"$f":"'протокол с картинками'!C109","v":"Кашпо с под. 18с0.1407/4.1-1 НХП "},{"$f":"'протокол с картинками'!F109","v":5.6},{"$f":"'протокол с картинками'!H109","v":0},{"$f":"'протокол с картинками'!I109","v":0},{"$f":"'протокол с картинками'!J109","v":0},{"$f":"'протокол с картинками'!K109","v":4},{"$f":"'протокол с картинками'!L109","v":1.8}]
[{"$f":"#REF!+1","v":{"$error":"#REF!"}},4811737032952,{"$f":"'протокол с картинками'!C110","v":"Кашпо с под. 18с0.1402/1.1-1 НХП "},{"$f":"'протокол с картинками'!F110","v":15.69},{"$f":"'протокол с картинками'!H110","v":0},{"$f":"'протокол с картинками'!I110","v":0},{"$f":"'протокол с картинками'!J110","v":0},{"$f":"'протокол с картинками'!K110","v":1},{"$f":"'протокол с картинками'!L110","v":8}]
[{"$f":"A111+1","v":{"$error":"#REF!"}},4811737032983,{"$f":"'протокол с картинками'!C111","v":"Кашпо с под. 18с0.1402/2.1-1 НХП "},{"$f":"'протокол с картинками'!F111","v":11.61},{"$f":"'протокол с картинками'!H111","v":0},{"$f":"'протокол с картинками'!I111","v":0},{"$f":"'протокол с картинками'!J111","v":0},{"$f":"'протокол с картинками'!K111","v":2},{"$f":"'протокол с картинками'!L111","v":5}]
[{"$f":"#REF!+1","v":{"$error":"#REF!"}},4811737036288,{"$f":"'протокол с картинками'!C112","v":"Кашпо с под. 18с0.1402/3.1-1 НХП "},{"$f":"'протокол с картинками'!F112","v":8.36},{"$f":"'протокол с картинками'!H112","v":0},{"$f":"'протокол с картинками'!I112","v":0},{"$f":"'протокол с картинками'!J112","v":0},{"$f":"'протокол с картинками'!K112","v":4},{"$f":"'протокол с картинками'!L112","v":2.4}]
[{"$error":"#REF!"},4811737036318,{"$f":"'протокол с картинками'!C113","v":"Кашпо с под. 18с0.1402/4.1-1 НХП "},{"$f":"'протокол с картинками'!F113","v":6.92},{"$f":"'протокол с картинками'!H113","v":0},{"$f":"'протокол с картинками'!I113","v":0},{"$f":"'протокол с картинками'!J113","v":0},{"$f":"'протокол с картинками'!K113","v":4},{"$f":"'протокол с картинками'!L113","v":1.8}]
[null,null,{"$f":"'протокол с картинками'!C114","v":"Кашпо с под. 18с0.1403/1.1-1 НХП "},{"$f":"'протокол с картинками'!F114","v":13.93},{"$f":"'протокол с картинками'!H114","v":0},{"$f":"'протокол с картинками'!I114","v":0},{"$f":"'протокол с картинками'!J114","v":0},{"$f":"'протокол с картинками'!K114","v":1},{"$f":"'протокол с картинками'!L114","v":8}]
[null,null,{"$f":"'протокол с картинками'!C115","v":"Кашпо с под. 18с0.1403/2.1-1 НХП "},{"$f":"'протокол с картинками'!F115","v":10.19},{"$f":"'протокол с картинками'!H115","v":0},{"$f":"'протокол с картинками'!I115","v":0},{"$f":"'протокол с картинками'!J115","v":0},{"$f":"'протокол с картинками'!K115","v":2},{"$f":"'протокол с картинками'!L115","v":5}]
[null,null,{"$f":"'протокол с картинками'!C116","v":"Кашпо с под. 18с0.1403/3.1-1 НХП "},{"$f":"'протокол с картинками'!F116","v":6.66},{"$f":"'протокол с картинками'!H116","v":0},{"$f":"'протокол с картинками'!I116","v":0},{"$f":"'протокол с картинками'!J116","v":0},{"$f":"'протокол с картинками'!K116","v":4},{"$f":"'протокол с картинками'!L116","v":2.4}]
[null,null,{"$f":"'протокол с картинками'!C117","v":"Кашпо с под. 18с0.1403/4.1-1 НХП "},{"$f":"'протокол с картинками'!F117","v":5.34},{"$f":"'протокол с картинками'!H117","v":0},{"$f":"'протокол с картинками'!I117","v":0},{"$f":"'протокол с картинками'!J117","v":0},{"$f":"'протокол с картинками'!K117","v":4},{"$f":"'протокол с картинками'!L117","v":1.8}]
[null,null,{"$f":"'протокол с картинками'!C118","v":"Кашпо с под. 18с0.1404/1.1-1 НХП "},{"$f":"'протокол с картинками'!F118","v":13.93},{"$f":"'протокол с картинками'!H118","v":0},{"$f":"'протокол с картинками'!I118","v":0},{"$f":"'протокол с картинками'!J118","v":0},{"$f":"'протокол с картинками'!K118","v":1},{"$f":"'протокол с картинками'!L118","v":8}]
[null,null,{"$f":"'протокол с картинками'!C119","v":"Кашпо с под. 18с0.1404/2.1-1 НХП "},{"$f":"'протокол с картинками'!F119","v":10.19},{"$f":"'протокол с картинками'!H119","v":0},{"$f":"'протокол с картинками'!I119","v":0},{"$f":"'протокол с картинками'!J119","v":0},{"$f":"'протокол с картинками'!K119","v":2},{"$f":"'протокол с картинками'!L119","v":5}]
[null,null,{"$f":"'протокол с картинками'!C120","v":"Кашпо с под. 18с0.1404/3.1-1 НХП "},{"$f":"'протокол с картинками'!F120","v":6.66},{"$f":"'протокол с картинками'!H120","v":0},{"$f":"'протокол с картинками'!I120","v":0},{"$f":"'протокол с картинками'!J120","v":0},{"$f":"'протокол с картинками'!K120","v":4},{"$f":"'протокол с картинками'!L120","v":2.4}]
[null,null,{"$f":"'протокол с картинками'!C121","v":"Кашпо с под. 18с0.1404/4.1-1 НХП "},{"$f":"'протокол с картинками'!F121","v":5.34},{"$f":"'протокол с картинками'!H121","v":0},{"$f":"'протокол с картинками'!I121","v":0},{"$f":"'протокол с картинками'!J121","v":0},{"$f":"'протокол с картинками'!K121","v":4},{"$f":"'протокол с картинками'!L121","v":1.8}]
[null,null,{"$f":"'протокол с картинками'!C122","v":"Кашпо с под. 18с0.1405/1.1-1 НХП "},{"$f":"'протокол с картинками'!F122","v":33.880000000000003},{"$f":"'протокол с картинками'!H122","v":0},{"$f":"'протокол с картинками'!I122","v":0},{"$f":"'протокол с картинками'!J122","v":0},{"$f":"'протокол с картинками'!K122","v":1},{"$f":"'протокол с картинками'!L122","v":13.5}]
[null,null,{"$f":"'протокол с картинками'!C123","v":"Кашпо с под. 18с0.1405/2.1-1 НХП "},{"$f":"'протокол с картинками'!F123","v":27.61},{"$f":"'протокол с картинками'!H123","v":0},{"$f":"'протокол с картинками'!I123","v":0},{"$f":"'протокол с картинками'!J123","v":0},{"$f":"'протокол с картинками'!K123","v":1},{"$f":"'протокол с картинками'!L123","v":10}]
[{"$f":"A114+1","v":{"$error":"#REF!"}},4811737036554,{"$f":"'протокол с картинками'!C124","v":"Кашпо с под. 18с0.1398/0.1-1 НХП "},{"$f":"'протокол с картинками'!F124","v":26.85},{"$f":"'протокол с картинками'!H124","v":0},{"$f":"'протокол с картинками'!I124","v":0},{"$f":"'протокол с картинками'!J124","v":0},{"$f":"'протокол с картинками'!K124","v":1},{"$f":"'протокол с картинками'!L124","v":13.5}]
[{"$error":"#REF!"},4811737036462,{"$f":"'протокол с картинками'!C125","v":"Кашпо с под. 18с0.1399/1.1-1 НХП "},{"$f":"'протокол с картинками'!F125","v":13.93},{"$f":"'протокол с картинками'!H125","v":0},{"$f":"'протокол с картинками'!I125","v":0},{"$f":"'протокол с картинками'!J125","v":0},{"$f":"'протокол с картинками'!K125","v":1},{"$f":"'протокол с картинками'!L125","v":8}]
[{"$error":"#REF!"},4811737036493,{"$f":"'протокол с картинками'!C126","v":"Кашпо с под. 18с0.1399/2.1-1 НХП "},{"$f":"'протокол с картинками'!F126","v":10.19},{"$f":"'протокол с картинками'!H126","v":0},{"$f":"'протокол с картинками'!I126","v":0},{"$f":"'протокол с картинками'!J126","v":0},{"$f":"'протокол с картинками'!K126","v":2},{"$f":"'протокол с картинками'!L126","v":5}]
[{"$error":"#REF!"},4811737036523,{"$f":"'протокол с картинками'!C127","v":"Кашпо с под. 18с0.1399/3.1-1 НХП "},{"$f":"'протокол с картинками'!F127","v":6.66},{"$f":"'протокол с картинками'!H127","v":0},{"$f":"'протокол с картинками'!I127","v":0},{"$f":"'протокол с картинками'!J127","v":0},{"$f":"'протокол с картинками'!K127","v":4},{"$f":"'протокол с картинками'!L127","v":2.4}]
[{"$error":"#REF!"},4811737034246,{"$f":"'протокол с картинками'!C128","v":"Кашпо с под. 18с0.1399/4.1-1 НХП "},{"$f":"'протокол с картинками'!F128","v":5.34},{"$f":"'протокол с картинками'!H128","v":0},{"$f":"'протокол с картинками'!I128","v":0},{"$f":"'протокол с картинками'!J128","v":0},{"$f":"'протокол с картинками'!K128","v":4},{"$f":"'протокол с картинками'!L128","v":1.8}]
[{"$error":"#REF!"},4811737036011,{"$f":"'протокол с картинками'!C129","v":"Кашпо с под. 18с0.1392/1.1-1 НХП "},{"$f":"'протокол с картинками'!F129","v":13.93},{"$f":"'протокол с картинками'!H129","v":0},{"$f":"'протокол с картинками'!I129","v":0},{"$f":"'протокол с картинками'!J129","v":0},{"$f":"'протокол с картинками'!K129","v":1},{"$f":"'протокол с картинками'!L129","v":8}]
[{"$error":"#REF!"},4811737036226,{"$f":"'протокол с картинками'!C130","v":"Кашпо с под. 18с0.1392/2.1-1 НХП "},{"$f":"'протокол с картинками'!F130","v":10.19},{"$f":"'протокол с картинками'!H130","v":0},{"$f":"'протокол с картинками'!I130","v":0},{"$f":"'протокол с картинками'!J130","v":0},{"$f":"'протокол с картинками'!K130","v":2},{"$f":"'протокол с картинками'!L130","v":5}]
[{"$error":"#REF!"},4811737035984,{"$f":"'протокол с картинками'!C131","v":"Кашпо с под. 18с0.1392/3.1-1 НХП "},{"$f":"'протокол с картинками'!F131","v":6.66},{"$f":"'протокол с картинками'!H131","v":0},{"$f":"'протокол с картинками'!I131","v":0},{"$f":"'протокол с картинками'!J131","v":0},{"$f":"'протокол с картинками'!K131","v":4},{"$f":"'протокол с картинками'!L131","v":2.4}]
[{"$error":"#REF!"},4811737035892,{"$f":"'протокол с картинками'!C132","v":"Кашпо с под. 18с0.1392/4.1-1 НХП "},{"$f":"'протокол с картинками'!F132","v":5.34},{"$f":"'протокол с картинками'!H132","v":0},{"$f":"'протокол с картинками'!I132","v":0},{"$f":"'протокол с картинками'!J132","v":0},{"$f":"'протокол с картинками'!K132","v":4},{"$f":"'протокол с картинками'!L132","v":1.8}]
[{"$error":"#REF!"},4811737036851,{"$f":"'протокол с картинками'!C133","v":"Кашпо с под. 18с0.1393/1.1-1 НХП "},{"$f":"'протокол с картинками'!F133","v":13.93},{"$f":"'протокол с картинками'!H133","v":0},{"$f":"'протокол с картинками'!I133","v":0},{"$f":"'протокол с картинками'!J133","v":0},{"$f":"'протокол с картинками'!K133","v":1},{"$f":"'протокол с картинками'!L133","v":8}]
[{"$error":"#REF!"},4811737036882,{"$f":"'протокол с картинками'!C134","v":"Кашпо с под. 18с0.1393/2.1-1 НХП "},{"$f":"'протокол с картинками'!F134","v":10.19},{"$f":"'протокол с картинками'!H134","v":0},{"$f":"'протокол с картинками'!I134","v":0},{"$f":"'протокол с картинками'!J134","v":0},{"$f":"'протокол с картинками'!K134","v":2},{"$f":"'протокол с картинками'!L134","v":5}]
[{"$error":"#REF!"},4811737036912,{"$f":"'протокол с картинками'!C135","v":"Кашпо с под. 18с0.1393/3.1-1 НХП "},{"$f":"'протокол с картинками'!F135","v":6.66},{"$f":"'протокол с картинками'!H135","v":0},{"$f":"'протокол с картинками'!I135","v":0},{"$f":"'протокол с картинками'!J135","v":0},{"$f":"'протокол с картинками'!K135","v":4},{"$f":"'протокол с картинками'!L135","v":2.4}]
[{"$error":"#REF!"},4811737036943,{"$f":"'протокол с картинками'!C136","v":"Кашпо с под. 18с0.1393/4.1-1 НХП "},{"$f":"'протокол с картинками'!F136","v":5.34},{"$f":"'протокол с картинками'!H136","v":0},{"$f":"'протокол с картинками'!I136","v":0},{"$f":"'протокол с картинками'!J136","v":0},{"$f":"'протокол с картинками'!K136","v":4},{"$f":"'протокол с картинками'!L136","v":1.8}]
[{"$error":"#REF!"},4811737036196,{"$f":"'протокол с картинками'!C137","v":"Кашпо с под. 18с0.1394/1.1-1 НХП "},{"$f":"'протокол с картинками'!F137","v":13.93},{"$f":"'протокол с картинками'!H137","v":0},{"$f":"'протокол с картинками'!I137","v":0},{"$f":"'протокол с картинками'!J137","v":0},{"$f":"'протокол с картинками'!K137","v":1},{"$f":"'протокол с картинками'!L137","v":8}]
[{"$error":"#REF!"},4811737037643,{"$f":"'протокол с картинками'!C138","v":"Кашпо с под. 18с0.1394/2.1-1 НХП "},{"$f":"'протокол с картинками'!F138","v":10.19},{"$f":"'протокол с картинками'!H138","v":0},{"$f":"'протокол с картинками'!I138","v":0},{"$f":"'протокол с картинками'!J138","v":0},{"$f":"'протокол с картинками'!K138","v":2},{"$f":"'протокол с картинками'!L138","v":5}]
[{"$error":"#REF!"},4811737037582,{"$f":"'протокол с картинками'!C139","v":"Кашпо с под. 18с0.1394/3.1-1 НХП "},{"$f":"'протокол с картинками'!F139","v":6.66},{"$f":"'протокол с картинками'!H139","v":0},{"$f":"'протокол с картинками'!I139","v":0},{"$f":"'протокол с картинками'!J139","v":0},{"$f":"'протокол с картинками'!K139","v":4},{"$f":"'протокол с картинками'!L139","v":2.4}]
[{"$f":"#REF!+1","v":{"$error":"#REF!"}},4811737033164,{"$f":"'протокол с картинками'!C140","v":"Кашпо с под. 18с0.1394/4.1-1 НХП "},{"$f":"'протокол с картинками'!F140","v":5.34},{"$f":"'протокол с картинками'!H140","v":0},{"$f":"'протокол с картинками'!I140","v":0},{"$f":"'протокол с картинками'!J140","v":0},{"$f":"'протокол с картинками'!K140","v":4},{"$f":"'протокол с картинками'!L140","v":1.8}]
[{"$error":"#REF!"},4811737042081,{"$f":"'протокол с картинками'!C141","v":"Кашпо с под. 17с0.1381/1.1-1 НХП "},{"$f":"'протокол с картинками'!F141","v":13.93},{"$f":"'протокол с картинками'!H141","v":0},{"$f":"'протокол с картинками'!I141","v":0},{"$f":"'протокол с картинками'!J141","v":0},{"$f":"'протокол с картинками'!K141","v":1},{"$f":"'протокол с картинками'!L141","v":8}]
[{"$error":"#REF!"},4811737042111,{"$f":"'протокол с картинками'!C142","v":"Кашпо с под. 17с0.1381/2.1-1 НХП"},{"$f":"'протокол с картинками'!F142","v":10.19},{"$f":"'протокол с картинками'!H142","v":0},{"$f":"'протокол с картинками'!I142","v":0},{"$f":"'протокол с картинками'!J142","v":0},{"$f":"'протокол с картинками'!K142","v":2},{"$f":"'протокол с картинками'!L142","v":5}]
[{"$error":"#REF!"},4811737042173,{"$f":"'протокол с картинками'!C143","v":"Кашпо с под. 17с0.1381/3.1-1 НХП"},{"$f":"'протокол с картинками'!F143","v":6.66},{"$f":"'протокол с картинками'!H143","v":0},{"$f":"'протокол с картинками'!I143","v":0},{"$f":"'протокол с картинками'!J143","v":0},{"$f":"'протокол с картинками'!K143","v":4},{"$f":"'протокол с картинками'!L143","v":2.4}]
[{"$error":"#REF!"},4811737042203,{"$f":"'протокол с картинками'!C144","v":"Кашпо с под. 17с0.1381/4.1-1 НХП"},{"$f":"'протокол с картинками'!F144","v":5.34},{"$f":"'протокол с картинками'!H144","v":0},{"$f":"'протокол с картинками'!I144","v":0},{"$f":"'протокол с картинками'!J144","v":0},{"$f":"'протокол с картинками'!K144","v":4},{"$f":"'протокол с картинками'!L144","v":1.8}]
[{"$error":"#REF!"},4811737042234,{"$f":"'протокол с картинками'!C145","v":"Кашпо с под. 17с0.1383/1.1-1 НХП"},{"$f":"'протокол с картинками'!F145","v":13.93},{"$f":"'протокол с картинками'!H145","v":0},{"$f":"'протокол с картинками'!I145","v":0},{"$f":"'протокол с картинками'!J145","v":0},{"$f":"'протокол с картинками'!K145","v":1},{"$f":"'протокол с картинками'!L145","v":8}]
[{"$error":"#REF!"},4811737043347,{"$f":"'протокол с картинками'!C146","v":"Кашпо с под. 17с0.1383/2.1-1 НХП"},{"$f":"'протокол с картинками'!F146","v":10.19},{"$f":"'протокол с картинками'!H146","v":0},{"$f":"'протокол с картинками'!I146","v":0},{"$f":"'протокол с картинками'!J146","v":0},{"$f":"'протокол с картинками'!K146","v":2},{"$f":"'протокол с картинками'!L146","v":5}]
[{"$error":"#REF!"},4811737038442,{"$f":"'протокол с картинками'!C147","v":"Кашпо с под. 17с0.1383/3.1-1 НХП"},{"$f":"'протокол с картинками'!F147","v":6.66},{"$f":"'протокол с картинками'!H147","v":0},{"$f":"'протокол с картинками'!I147","v":0},{"$f":"'протокол с картинками'!J147","v":0},{"$f":"'протокол с картинками'!K147","v":4},{"$f":"'протокол с картинками'!L147","v":2.4}]
[{"$error":"#REF!"},4811737038473,{"$f":"'протокол с картинками'!C148","v":"Кашпо с под. 17с0.1383/4.1-1 НХП"},{"$f":"'протокол с картинками'!F148","v":5.34},{"$f":"'протокол с картинками'!H148","v":0},{"$f":"'протокол с картинками'!I148","v":0},{"$f":"'протокол с картинками'!J148","v":0},{"$f":"'протокол с картинками'!K148","v":4},{"$f":"'протокол с картинками'!L148","v":1.8}]
[{"$error":"#REF!"},4811737038503,{"$f":"'протокол с картинками'!C149","v":"Кашпо с под. 17с0.1375/1.1-1 НХП"},{"$f":"'протокол с картинками'!F149","v":13.93},{"$f":"'протокол с картинками'!H149","v":0},{"$f":"'протокол с картинками'!I149","v":0},{"$f":"'протокол с картинками'!J149","v":0},{"$f":"'протокол с картинками'!K149","v":1},{"$f":"'протокол с картинками'!L149","v":8}]
[{"$error":"#REF!"},4811737038534,{"$f":"'протокол с картинками'!C150","v":"Кашпо с под. 17с0.1375/2.1-1 НХП"},{"$f":"'протокол с картинками'!F150","v":10.19},{"$f":"'протокол с картинками'!H150","v":0},{"$f":"'протокол с картинками'!I150","v":0},{"$f":"'протокол с картинками'!J150","v":0},{"$f":"'протокол с картинками'!K150","v":2},{"$f":"'протокол с картинками'!L150","v":5}]
[{"$error":"#REF!"},4811737038565,{"$f":"'протокол с картинками'!C151","v":"Кашпо с под. 17с0.1375/3.1-1 НХП"},{"$f":"'протокол с картинками'!F151","v":6.66},{"$f":"'протокол с картинками'!H151","v":0},{"$f":"'протокол с картинками'!I151","v":0},{"$f":"'протокол с картинками'!J151","v":0},{"$f":"'протокол с картинками'!K151","v":4},{"$f":"'протокол с картинками'!L151","v":2.4}]
[{"$error":"#REF!"},4811737038596,{"$f":"'протокол с картинками'!C152","v":"Кашпо с под. 17с0.1375/4.1-1 НХП"},{"$f":"'протокол с картинками'!F152","v":5.34},{"$f":"'протокол с картинками'!H152","v":0},{"$f":"'протокол с картинками'!I152","v":0},{"$f":"'протокол с картинками'!J152","v":0},{"$f":"'протокол с картинками'!K152","v":4},{"$f":"'протокол с картинками'!L152","v":1.8}]
[{"$error":"#REF!"},4811737038626,{"$f":"'протокол с картинками'!C153","v":"Кашпо с под. 17с0.1382/1.1-1 НХП"},{"$f":"'протокол с картинками'!F153","v":13.93},{"$f":"'протокол с картинками'!H153","v":0},{"$f":"'протокол с картинками'!I153","v":0},{"$f":"'протокол с картинками'!J153","v":0},{"$f":"'протокол с картинками'!K153","v":1},{"$f":"'протокол с картинками'!L153","v":8}]
[{"$error":"#REF!"},4811737038657,{"$f":"'протокол с картинками'!C154","v":"Кашпо с под. 17с0.1382/2.1-1 НХП"},{"$f":"'протокол с картинками'!F154","v":10.19},{"$f":"'протокол с картинками'!H154","v":0},{"$f":"'протокол с картинками'!I154","v":0},{"$f":"'протокол с картинками'!J154","v":0},{"$f":"'протокол с картинками'!K154","v":2},{"$f":"'протокол с картинками'!L154","v":5}]
[{"$error":"#REF!"},4811737038688,{"$f":"'протокол с картинками'!C155","v":"Кашпо с под. 17с0.1382/3.1-1 НХП"},{"$f":"'протокол с картинками'!F155","v":6.66},{"$f":"'протокол с картинками'!H155","v":0},{"$f":"'протокол с картинками'!I155","v":0},{"$f":"'протокол с картинками'!J155","v":0},{"$f":"'протокол с картинками'!K155","v":4},{"$f":"'протокол с картинками'!L155","v":2.4}]
[{"$error":"#REF!"},4811737038718,{"$f":"'протокол с картинками'!C156","v":"Кашпо с под. 17с0.1382/4.1-1 НХП"},{"$f":"'протокол с картинками'!F156","v":5.34},{"$f":"'протокол с картинками'!H156","v":0},{"$f":"'протокол с картинками'!I156","v":0},{"$f":"'протокол с картинками'!J156","v":0},{"$f":"'протокол с картинками'!K156","v":4},{"$f":"'протокол с картинками'!L156","v":1.8}]
[{"$error":"#REF!"},4811737038749,{"$f":"'протокол с картинками'!C157","v":"Кашпо с под. 17с0.1384/1.1-1 НХП"},{"$f":"'протокол с картинками'!F157","v":13.93},{"$f":"'протокол с картинками'!H157","v":0},{"$f":"'протокол с картинками'!I157","v":0},{"$f":"'протокол с картинками'!J157","v":0},{"$f":"'протокол с картинками'!K157","v":1},{"$f":"'протокол с картинками'!L157","v":8}]
[{"$f":"#REF!+1","v":{"$error":"#REF!"}},4811737039135,{"$f":"'протокол с картинками'!C158","v":"Кашпо с под. 17с0.1384/2.1-1 НХП"},{"$f":"'протокол с картинками'!F158","v":10.19},{"$f":"'протокол с картинками'!H158","v":0},{"$f":"'протокол с картинками'!I158","v":0},{"$f":"'протокол с картинками'!J158","v":0},{"$f":"'протокол с картинками'!K158","v":2},{"$f":"'протокол с картинками'!L158","v":5}]
[{"$error":"#REF!"},4811737040469,{"$f":"'протокол с картинками'!C159","v":"Кашпо с под. 17с0.1384/3.1-1 НХП"},{"$f":"'протокол с картинками'!F159","v":6.66},{"$f":"'протокол с картинками'!H159","v":0},{"$f":"'протокол с картинками'!I159","v":0},{"$f":"'протокол с картинками'!J159","v":0},{"$f":"'протокол с картинками'!K159","v":4},{"$f":"'протокол с картинками'!L159","v":2.4}]
[{"$error":"#REF!"},4811737040490,{"$f":"'протокол с картинками'!C160","v":"Кашпо с под. 17с0.1384/4.1-1 НХП"},{"$f":"'протокол с картинками'!F160","v":5.34},{"$f":"'протокол с картинками'!H160","v":0},{"$f":"'протокол с картинками'!I160","v":0},{"$f":"'протокол с картинками'!J160","v":0},{"$f":"'протокол с картинками'!K160","v":4},{"$f":"'протокол с картинками'!L160","v":1.8}]
[{"$error":"#REF!"},4811737040520,{"$f":"'протокол с картинками'!C161","v":"Кашпо с под. 17с0.1386/1.1-1 НХП"},{"$f":"'протокол с картинками'!F161","v":13.93},{"$f":"'протокол с картинками'!H161","v":0},{"$f":"'протокол с картинками'!I161","v":0},{"$f":"'протокол с картинками'!J161","v":0},{"$f":"'протокол с картинками'!K161","v":1},{"$f":"'протокол с картинками'!L161","v":8}]
[{"$error":"#REF!"},4811737040551,{"$f":"'протокол с картинками'!C162","v":"Кашпо с под. 17с0.1386/2.1-1 НХП"},{"$f":"'протокол с картинками'!F162","v":10.19},{"$f":"'протокол с картинками'!H162","v":0},{"$f":"'протокол с картинками'!I162","v":0},{"$f":"'протокол с картинками'!J162","v":0},{"$f":"'протокол с картинками'!K162","v":2},{"$f":"'протокол с картинками'!L162","v":5}]
[{"$f":"A163+1","v":{"$error":"#REF!"}},4811737041008,{"$f":"'протокол с картинками'!C163","v":"Кашпо с под. 17с0.1386/3.1-1 НХП"},{"$f":"'протокол с картинками'!F163","v":6.66},{"$f":"'протокол с картинками'!H163","v":0},{"$f":"'протокол с картинками'!I163","v":0},{"$f":"'протокол с картинками'!J163","v":0},{"$f":"'протокол с картинками'!K163","v":4},{"$f":"'протокол с картинками'!L163","v":2.4}]
[{"$error":"#REF!"},4811737041039,{"$f":"'протокол с картинками'!C164","v":"Кашпо с под. 17с0.1386/4.1-1 НХП"},{"$f":"'протокол с картинками'!F164","v":5.34},{"$f":"'протокол с картинками'!H164","v":0},{"$f":"'протокол с картинками'!I164","v":0},{"$f":"'протокол с картинками'!J164","v":0},{"$f":"'протокол с картинками'!K164","v":4},{"$f":"'протокол с картинками'!L164","v":1.8}]
[{"$error":"#REF!"},4811737041060,{"$f":"'протокол с картинками'!C165","v":"Кашпо с под. 17с0.1372/1.1-1 НХП"},{"$f":"'протокол с картинками'!F165","v":13.93},{"$f":"'протокол с картинками'!H165","v":0},{"$f":"'протокол с картинками'!I165","v":0},{"$f":"'протокол с картинками'!J165","v":0},{"$f":"'протокол с картинками'!K165","v":1},{"$f":"'протокол с картинками'!L165","v":8}]
[{"$error":"#REF!"},4811737041091,{"$f":"'протокол с картинками'!C166","v":"Кашпо с под. 17с0.1372/2.1-1 НХП"},{"$f":"'протокол с картинками'!F166","v":10.19},{"$f":"'протокол с картинками'!H166","v":0},{"$f":"'протокол с картинками'!I166","v":0},{"$f":"'протокол с картинками'!J166","v":0},{"$f":"'протокол с картинками'!K166","v":2},{"$f":"'протокол с картинками'!L166","v":5}]
[{"$error":"#REF!"},4811737043378,{"$f":"'протокол с картинками'!C167","v":"Кашпо с под. 17с0.1372/3.1-1 НХП"},{"$f":"'протокол с картинками'!F167","v":6.66},{"$f":"'протокол с картинками'!H167","v":0},{"$f":"'протокол с картинками'!I167","v":0},{"$f":"'протокол с картинками'!J167","v":0},{"$f":"'протокол с картинками'!K167","v":4},{"$f":"'протокол с картинками'!L167","v":2.4}]
[{"$error":"#REF!"},4811737042265,{"$f":"'протокол с картинками'!C168","v":"Кашпо с под. 17с0.1372/4.1-1 НХП"},{"$f":"'протокол с картинками'!F168","v":5.34},{"$f":"'протокол с картинками'!H168","v":0},{"$f":"'протокол с картинками'!I168","v":0},{"$f":"'протокол с картинками'!J168","v":0},{"$f":"'протокол с картинками'!K168","v":4},{"$f":"'протокол с картинками'!L168","v":1.8}]
[{"$error":"#REF!"},4811737042296,{"$f":"'протокол с картинками'!C169","v":"Кашпо с под. 17с0.1387/1.1-1 НХП"},{"$f":"'протокол с картинками'!F169","v":13.93},{"$f":"'протокол с картинками'!H169","v":0},{"$f":"'протокол с картинками'!I169","v":0},{"$f":"'протокол с картинками'!J169","v":0},{"$f":"'протокол с картинками'!K169","v":1},{"$f":"'протокол с картинками'!L169","v":8}]
[{"$error":"#REF!"},4811737042326,{"$f":"'протокол с картинками'!C170","v":"Кашпо с под. 17с0.1387/2.1-1 НХП"},{"$f":"'протокол с картинками'!F170","v":10.19},{"$f":"'протокол с картинками'!H170","v":0},{"$f":"'протокол с картинками'!I170","v":0},{"$f":"'протокол с картинками'!J170","v":0},{"$f":"'протокол с картинками'!K170","v":2},{"$f":"'протокол с картинками'!L170","v":5}]
[{"$error":"#REF!"},4811737042357,{"$f":"'протокол с картинками'!C171","v":"Кашпо с под. 17с0.1387/3.1-1 НХП"},{"$f":"'протокол с картинками'!F171","v":6.66},{"$f":"'протокол с картинками'!H171","v":0},{"$f":"'протокол с картинками'!I171","v":0},{"$f":"'протокол с картинками'!J171","v":0},{"$f":"'протокол с картинками'!K171","v":4},{"$f":"'протокол с картинками'!L171","v":2.4}]
[{"$error":"#REF!"},4811737042388,{"$f":"'протокол с картинками'!C172","v":"Кашпо с под. 17с0.1387/4.1-1 НХП"},{"$f":"'протокол с картинками'!F172","v":5.34},{"$f":"'протокол с картинками'!H172","v":0},{"$f":"'протокол с картинками'!I172","v":0},{"$f":"'протокол с картинками'!J172","v":0},{"$f":"'протокол с картинками'!K172","v":4},{"$f":"'протокол с картинками'!L172","v":1.8}]
[{"$error":"#REF!"},4811737042418,{"$f":"'протокол с картинками'!C173","v":"Кашпо с под. 17с0.1380/1.1-1 НХП"},{"$f":"'протокол с картинками'!F173","v":13.93},{"$f":"'протокол с картинками'!H173","v":0},{"$f":"'протокол с картинками'!I173","v":0},{"$f":"'протокол с картинками'!J173","v":0},{"$f":"'протокол с картинками'!K173","v":1},{"$f":"'протокол с картинками'!L173","v":8}]
[{"$error":"#REF!"},4811737042456,{"$f":"'протокол с картинками'!C174","v":"Кашпо с под. 17с0.1380/2.1-1 НХП"},{"$f":"'протокол с картинками'!F174","v":10.19},{"$f":"'протокол с картинками'!H174","v":0},{"$f":"'протокол с картинками'!I174","v":0},{"$f":"'протокол с картинками'!J174","v":0},{"$f":"'протокол с картинками'!K174","v":2},{"$f":"'протокол с картинками'!L174","v":5}]
[{"$error":"#REF!"},4811737042470,{"$f":"'протокол с картинками'!C175","v":"Кашпо с под. 17с0.1380/3.1-1 НХП"},{"$f":"'протокол с картинками'!F175","v":6.66},{"$f":"'протокол с картинками'!H175","v":0},{"$f":"'протокол с картинками'!I175","v":0},{"$f":"'протокол с картинками'!J175","v":0},{"$f":"'протокол с картинками'!K175","v":4},{"$f":"'протокол с картинками'!L175","v":2.4}]
[{"$error":"#REF!"},4811737042500,{"$f":"'протокол с картинками'!C176","v":"Кашпо с под. 17с0.1380/4.1-1 НХП"},{"$f":"'протокол с картинками'!F176","v":5.34},{"$f":"'протокол с картинками'!H176","v":0},{"$f":"'протокол с картинками'!I176","v":0},{"$f":"'протокол с картинками'!J176","v":0},{"$f":"'протокол с картинками'!K176","v":4},{"$f":"'протокол с картинками'!L176","v":1.8}]
[{"$error":"#REF!"},4811737042531,{"$f":"'протокол с картинками'!C177","v":"Кашпо с под. 17с0.1385/1.1-1 НХП"},{"$f":"'протокол с картинками'!F177","v":13.93},{"$f":"'протокол с картинками'!H177","v":0},{"$f":"'протокол с картинками'!I177","v":0},{"$f":"'протокол с картинками'!J177","v":0},{"$f":"'протокол с картинками'!K177","v":1},{"$f":"'протокол с картинками'!L177","v":8}]
[{"$error":"#REF!"},4811737042562,{"$f":"'протокол с картинками'!C178","v":"Кашпо с под. 17с0.1385/2.1-1 НХП"},{"$f":"'протокол с картинками'!F178","v":10.19},{"$f":"'протокол с картинками'!H178","v":0},{"$f":"'протокол с картинками'!I178","v":0},{"$f":"'протокол с картинками'!J178","v":0},{"$f":"'протокол с картинками'!K178","v":2},{"$f":"'протокол с картинками'!L178","v":5}]
[{"$f":"#REF!+1","v":{"$error":"#REF!"}},4811737042623,{"$f":"'протокол с картинками'!C179","v":"Кашпо с под. 17с0.1385/3.1-1 НХП"},{"$f":"'протокол с картинками'!F179","v":6.66},{"$f":"'протокол с картинками'!H179","v":0},{"$f":"'протокол с картинками'!I179","v":0},{"$f":"'протокол с картинками'!J179","v":0},{"$f":"'протокол с картинками'!K179","v":4},{"$f":"'протокол с картинками'!L179","v":2.4}]
[{"$error":"#REF!"},4811737042654,{"$f":"'протокол с картинками'!C180","v":"Кашпо с под. 17с0.1385/4.1-1 НХП"},{"$f":"'протокол с картинками'!F180","v":5.34},{"$f":"'протокол с картинками'!H180","v":0},{"$f":"'протокол с картинками'!I180","v":0},{"$f":"'протокол с картинками'!J180","v":0},{"$f":"'протокол с картинками'!K180","v":4},{"$f":"'протокол с картинками'!L180","v":1.8}]
[{"$error":"#REF!"},4811737042685,{"$f":"'протокол с картинками'!C181","v":"Кашпо с под. 17с0.1368/1.1-1 НХП"},{"$f":"'протокол с картинками'!F181","v":22.94},{"$f":"'протокол с картинками'!H181","v":0},{"$f":"'протокол с картинками'!I181","v":0},{"$f":"'протокол с картинками'!J181","v":0},{"$f":"'протокол с картинками'!K181","v":1},{"$f":"'протокол с картинками'!L181","v":12.8}]
[{"$error":"#REF!"},4811737042715,{"$f":"'протокол с картинками'!C182","v":"Кашпо с под. 17с0.1368/2.1-1 НХП"},{"$f":"'протокол с картинками'!F182","v":17.190000000000001},{"$f":"'протокол с картинками'!H182","v":0},{"$f":"'протокол с картинками'!I182","v":0},{"$f":"'протокол с картинками'!J182","v":0},{"$f":"'протокол с картинками'!K182","v":1},{"$f":"'протокол с картинками'!L182","v":9}]
[{"$error":"#REF!"},4811737042746,{"$f":"'протокол с картинками'!C183","v":"Кашпо с под. 17с0.1368/3.1-1 НХП"},{"$f":"'протокол с картинками'!F183","v":12.44},{"$f":"'протокол с картинками'!H183","v":0},{"$f":"'протокол с картинками'!I183","v":0},{"$f":"'протокол с картинками'!J183","v":0},{"$f":"'протокол с картинками'!K183","v":2},{"$f":"'протокол с картинками'!L183","v":6}]
[{"$error":"#REF!"},4811737042777,{"$f":"'протокол с картинками'!C184","v":"Кашпо с под. 17с0.1370/1.1-1 НХП"},{"$f":"'протокол с картинками'!F184","v":13.27},{"$f":"'протокол с картинками'!H184","v":0},{"$f":"'протокол с картинками'!I184","v":0},{"$f":"'протокол с картинками'!J184","v":0},{"$f":"'протокол с картинками'!K184","v":1},{"$f":"'протокол с картинками'!L184","v":8}]
[90,null,{"$f":"'протокол с картинками'!C185","v":"Кашпо с под. 17с0.1370/2.1-1 НХП"},{"$f":"'протокол с картинками'!F185","v":9.6999999999999993},{"$f":"'протокол с картинками'!H185","v":0},{"$f":"'протокол с картинками'!I185","v":0},{"$f":"'протокол с картинками'!J185","v":0},{"$f":"'протокол с картинками'!K185","v":2},{"$f":"'протокол с картинками'!L185","v":5}]
[91,null,{"$f":"'протокол с картинками'!C186","v":"Кашпо с под. 17с0.1370/3.1-1 НХП"},{"$f":"'протокол с картинками'!F186","v":6.34},{"$f":"'протокол с картинками'!H186","v":0},{"$f":"'протокол с картинками'!I186","v":0},{"$f":"'протокол с картинками'!J186","v":0},{"$f":"'протокол с картинками'!K186","v":4},{"$f":"'протокол с картинками'!L186","v":2.4}]
[null,null,{"$f":"'протокол с картинками'!C187","v":"Кашпо с под. 17с0.1370/4.1-1 НХП"},{"$f":"'протокол с картинками'!F187","v":5.08},{"$f":"'протокол с картинками'!H187","v":0},{"$f":"'протокол с картинками'!I187","v":0},{"$f":"'протокол с картинками'!J187","v":0},{"$f":"'протокол с картинками'!K187","v":4},{"$f":"'протокол с картинками'!L187","v":1.8}]
[null,null,{"$f":"'протокол с картинками'!C188","v":"Кашпо с под. 17с0.1371/1.1-1 НХП"},{"$f":"'протокол с картинками'!F188","v":13.27},{"$f":"'протокол с картинками'!H188","v":0},{"$f":"'протокол с картинками'!I188","v":0},{"$f":"'протокол с картинками'!J188","v":0},{"$f":"'протокол с картинками'!K188","v":1},{"$f":"'протокол с картинками'!L188","v":8}]
[null,null,{"$f":"'протокол с картинками'!C189","v":"Кашпо с под. 17с0.1371/2.1-1 НХП"},{"$f":"'протокол с картинками'!F189","v":9.6999999999999993},{"$f":"'протокол с картинками'!H189","v":0},{"$f":"'протокол с картинками'!I189","v":0},{"$f":"'протокол с картинками'!J189","v":0},{"$f":"'протокол с картинками'!K189","v":2},{"$f":"'протокол с картинками'!L189","v":5}]
[null,null,{"$f":"'протокол с картинками'!C190","v":"Кашпо с под. 17с0.1371/3.1-1 НХП"},{"$f":"'протокол с картинками'!F190","v":6.34},{"$f":"'протокол с картинками'!H190","v":0},{"$f":"'протокол с картинками'!I190","v":0},{"$f":"'протокол с картинками'!J190","v":0},{"$f":"'протокол с картинками'!K190","v":4},{"$f":"'протокол с картинками'!L190","v":2.4}]
[null,null,{"$f":"'протокол с картинками'!C191","v":"Кашпо с под. 17с0.1371/4.1-1 НХП"},{"$f":"'протокол с картинками'!F191","v":5.08},{"$f":"'протокол с картинками'!H191","v":0},{"$f":"'протокол с картинками'!I191","v":0},{"$f":"'протокол с картинками'!J191","v":0},{"$f":"'протокол с картинками'!K191","v":4},{"$f":"'протокол с картинками'!L191","v":1.8}]
[null,null,{"$f":"'протокол с картинками'!C192","v":"Кашпо с под. 17с0.1373/1.1-1 НХП"},{"$f":"'протокол с картинками'!F192","v":13.27},{"$f":"'протокол с картинками'!H192","v":0},{"$f":"'протокол с картинками'!I192","v":0},{"$f":"'протокол с картинками'!J192","v":0},{"$f":"'протокол с картинками'!K192","v":1},{"$f":"'протокол с картинками'!L192","v":8}]
[null,null,{"$f":"'протокол с картинками'!C193","v":"Кашпо с под. 17с0.1373/2.1-1 НХП"},{"$f":"'протокол с картинками'!F193","v":9.6999999999999993},{"$f":"'протокол с картинками'!H193","v":0},{"$f":"'протокол с картинками'!I193","v":0},{"$f":"'протокол с картинками'!J193","v":0},{"$f":"'протокол с картинками'!K193","v":2},{"$f":"'протокол с картинками'!L193","v":5}]
[null,null,{"$f":"'протокол с картинками'!C194","v":"Кашпо с под. 17с0.1373/3.1-1 НХП"},{"$f":"'протокол с картинками'!F194","v":6.34},{"$f":"'протокол с картинками'!H194","v":0},{"$f":"'протокол с картинками'!I194","v":0},{"$f":"'протокол с картинками'!J194","v":0},{"$f":"'протокол с картинками'!K194","v":4},{"$f":"'протокол с картинками'!L194","v":2.4}]
[null,null,{"$f":"'протокол с картинками'!C195","v":"Кашпо с под. 17с0.1373/4.1-1 НХП"},{"$f":"'протокол с картинками'!F195","v":5.08},{"$f":"'протокол с картинками'!H195","v":0},{"$f":"'протокол с картинками'!I195","v":0},{"$f":"'протокол с картинками'!J195","v":0},{"$f":"'протокол с картинками'!K195","v":4},{"$f":"'протокол с картинками'!L195","v":1.8}]
[null,null,{"$f":"'протокол с картинками'!C196","v":"Кашпо с под. 17c0.1374/1.1-1 НХП"},{"$f":"'протокол с картинками'!F196","v":13.27},{"$f":"'протокол с картинками'!H196","v":0},{"$f":"'протокол с картинками'!I196","v":0},{"$f":"'протокол с картинками'!J196","v":0},{"$f":"'протокол с картинками'!K196","v":1},{"$f":"'протокол с картинками'!L196","v":8}]
[null,null,{"$f":"'протокол с картинками'!C197","v":"Кашпо с под. 17c0.1374/2.1-1 НХП"},{"$f":"'протокол с картинками'!F197","v":9.6999999999999993},{"$f":"'протокол с картинками'!H197","v":0},{"$f":"'протокол с картинками'!I197","v":0},{"$f":"'протокол с картинками'!J197","v":0},{"$f":"'протокол с картинками'!K197","v":2},{"$f":"'протокол с картинками'!L197","v":5}]
[null,null,{"$f":"'протокол с картинками'!C198","v":"Кашпо с под. 17c0.1374/3.1-1 НХП"},{"$f":"'протокол с картинками'!F198","v":6.34},{"$f":"'протокол с картинками'!H198","v":0},{"$f":"'протокол с картинками'!I198","v":0},{"$f":"'протокол с картинками'!J198","v":0},{"$f":"'протокол с картинками'!K198","v":4},{"$f":"'протокол с картинками'!L198","v":2.4}]
[null,null,{"$f":"'протокол с картинками'!C199","v":"Кашпо с под. 17с0.1374/4.1-1 НХП"},{"$f":"'протокол с картинками'!F199","v":5.08},{"$f":"'протокол с картинками'!H199","v":0},{"$f":"'протокол с картинками'!I199","v":0},{"$f":"'протокол с картинками'!J199","v":0},{"$f":"'протокол с картинками'!K199","v":4},{"$f":"'протокол с картинками'!L199","v":1.8}]
[null,null,{"$f":"'протокол с картинками'!C200","v":"Кашпо с под. 17с0.1376/1.1-1 НХП"},{"$f":"'протокол с картинками'!F200","v":13.27},{"$f":"'протокол с картинками'!H200","v":0},{"$f":"'протокол с картинками'!I200","v":0},{"$f":"'протокол с картинками'!J200","v":0},{"$f":"'протокол с картинками'!K200","v":1},{"$f":"'протокол с картинками'!L200","v":8}]
[null,null,{"$f":"'протокол с картинками'!C201","v":"Кашпо с под. 17с0.1376/2.1-1 НХП"},{"$f":"'протокол с картинками'!F201","v":9.6999999999999993},{"$f":"'протокол с картинками'!H201","v":0},{"$f":"'протокол с картинками'!I201","v":0},{"$f":"'протокол с картинками'!J201","v":0},{"$f":"'протокол с картинками'!K201","v":2},{"$f":"'протокол с картинками'!L201","v":5}]
[null,null,{"$f":"'протокол с картинками'!C202","v":"Кашпо с под. 17с0.1376/3.1-1 НХП"},{"$f":"'протокол с картинками'!F202","v":6.34},{"$f":"'протокол с картинками'!H202","v":0},{"$f":"'протокол с картинками'!I202","v":0},{"$f":"'протокол с картинками'!J202","v":0},{"$f":"'протокол с картинками'!K202","v":4},{"$f":"'протокол с картинками'!L202","v":2.4}]
[null,null,{"$f":"'протокол с картинками'!C203","v":"Кашпо с под. 17с0.1376/4.1-1 НХП"},{"$f":"'протокол с картинками'!F203","v":5.08},{"$f":"'протокол с картинками'!H203","v":0},{"$f":"'протокол с картинками'!I203","v":0},{"$f":"'протокол с картинками'!J203","v":0},{"$f":"'протокол с картинками'!K203","v":4},{"$f":"'протокол с картинками'!L203","v":1.8}]
[null,null,{"$f":"'протокол с картинками'!C204","v":"Кашпо с под. 17с0.1377/1.1-1 НХП"},{"$f":"'протокол с картинками'!F204","v":13.27},{"$f":"'протокол с картинками'!H204","v":0},{"$f":"'протокол с картинками'!I204","v":0},{"$f":"'протокол с картинками'!J204","v":0},{"$f":"'протокол с картинками'!K204","v":1},{"$f":"'протокол с картинками'!L204","v":8}]
[null,null,{"$f":"'протокол с картинками'!C205","v":"Кашпо с под. 17с0.1377/2.1-1 НХП"},{"$f":"'протокол с картинками'!F205","v":9.6999999999999993},{"$f":"'протокол с картинками'!H205","v":0},{"$f":"'протокол с картинками'!I205","v":0},{"$f":"'протокол с картинками'!J205","v":0},{"$f":"'протокол с картинками'!K205","v":2},{"$f":"'протокол с картинками'!L205","v":5}]
[null,null,{"$f":"'протокол с картинками'!C206","v":"Кашпо с под. 17с0.1377/3.1-1 НХП"},{"$f":"'протокол с картинками'!F206","v":6.34},{"$f":"'протокол с картинками'!H206","v":0},{"$f":"'протокол с картинками'!I206","v":0},{"$f":"'протокол с картинками'!J206","v":0},{"$f":"'протокол с картинками'!K206","v":4},{"$f":"'протокол с картинками'!L206","v":2.4}]
[null,null,{"$f":"'протокол с картинками'!C207","v":"Кашпо с под. 17с0.1377/4.1-1 НХП"},{"$f":"'протокол с картинками'!F207","v":5.08},{"$f":"'протокол с картинками'!H207","v":0},{"$f":"'протокол с картинками'!I207","v":0},{"$f":"'протокол с картинками'!J207","v":0},{"$f":"'протокол с картинками'!K207","v":4},{"$f":"'протокол с картинками'!L207","v":1.8}]
[null,null,{"$f":"'протокол с картинками'!C208","v":"Кашпо с под. 16с0.1339/0.1-1 НХП"},{"$f":"'протокол с картинками'!F208","v":25.55},{"$f":"'протокол с картинками'!H208","v":0},{"$f":"'протокол с картинками'!I208","v":0},{"$f":"'протокол с картинками'!J208","v":0},{"$f":"'протокол с картинками'!K208","v":1},{"$f":"'протокол с картинками'!L208","v":13.5}]
[null,null,{"$f":"'протокол с картинками'!C209","v":"Кашпо с под. 16с0.1340/1.1-1 НХП"},{"$f":"'протокол с картинками'!F209","v":13.27},{"$f":"'протокол с картинками'!H209","v":0},{"$f":"'протокол с картинками'!I209","v":0},{"$f":"'протокол с картинками'!J209","v":0},{"$f":"'протокол с картинками'!K209","v":1},{"$f":"'протокол с картинками'!L209","v":8}]
[null,null,{"$f":"'протокол с картинками'!C210","v":"Кашпо с под. 16с0.1340/2.1-1НХП"},{"$f":"'протокол с картинками'!F210","v":9.6999999999999993},{"$f":"'протокол с картинками'!H210","v":0},{"$f":"'протокол с картинками'!I210","v":0},{"$f":"'протокол с картинками'!J210","v":0},{"$f":"'протокол с картинками'!K210","v":2},{"$f":"'протокол с картинками'!L210","v":5}]
[null,null,{"$f":"'протокол с картинками'!C211","v":"Кашпо с под. 16с0.1340/3.1-1 НХП"},{"$f":"'протокол с картинками'!F211","v":6.34},{"$f":"'протокол с картинками'!H211","v":0},{"$f":"'протокол с картинками'!I211","v":0},{"$f":"'протокол с картинками'!J211","v":0},{"$f":"'протокол с картинками'!K211","v":4},{"$f":"'протокол с картинками'!L211","v":2.4}]
[null,null,{"$f":"'протокол с картинками'!C212","v":"Кашпо с под. 16с0.1340/4.1-1 НХП"},{"$f":"'протокол с картинками'!F212","v":5.08},{"$f":"'протокол с картинками'!H212","v":0},{"$f":"'протокол с картинками'!I212","v":0},{"$f":"'протокол с картинками'!J212","v":0},{"$f":"'протокол с картинками'!K212","v":4},{"$f":"'протокол с картинками'!L212","v":1.8}]
[null,null,{"$f":"'протокол с картинками'!C213","v":"Кашпо с под. 16с0.1341/1.1-1 НХП"},{"$f":"'протокол с картинками'!F213","v":13.27},{"$f":"'протокол с картинками'!H213","v":0},{"$f":"'протокол с картинками'!I213","v":0},{"$f":"'протокол с картинками'!J213","v":0},{"$f":"'протокол с картинками'!K213","v":1},{"$f":"'протокол с картинками'!L213","v":8}]
[null,null,{"$f":"'протокол с картинками'!C214","v":"Кашпо с под. 16с0.1341/2.1-1 НХП"},{"$f":"'протокол с картинками'!F214","v":9.6999999999999993},{"$f":"'протокол с картинками'!H214","v":0},{"$f":"'протокол с картинками'!I214","v":0},{"$f":"'протокол с картинками'!J214","v":0},{"$f":"'протокол с картинками'!K214","v":2},{"$f":"'протокол с картинками'!L214","v":5}]
[null,null,{"$f":"'протокол с картинками'!C215","v":"Кашпо с под. 16с0.1341/3.1-1 НХП"},{"$f":"'протокол с картинками'!F215","v":6.34},{"$f":"'протокол с картинками'!H215","v":0},{"$f":"'протокол с картинками'!I215","v":0},{"$f":"'протокол с картинками'!J215","v":0},{"$f":"'протокол с картинками'!K215","v":4},{"$f":"'протокол с картинками'!L215","v":2.4}]
[null,null,{"$f":"'протокол с картинками'!C216","v":"Кашпо с под. 16с0.1341/4.1-1 НХП"},{"$f":"'протокол с картинками'!F216","v":5.08},{"$f":"'протокол с картинками'!H216","v":0},{"$f":"'протокол с картинками'!I216","v":0},{"$f":"'протокол с картинками'!J216","v":0},{"$f":"'протокол с картинками'!K216","v":4},{"$f":"'протокол с картинками'!L216","v":1.8}]
[null,null,{"$f":"'протокол с картинками'!C217","v":"Кашпо с под. 16с0.1342/1.1-1 НХП"},{"$f":"'протокол с картинками'!F217","v":13.27},{"$f":"'протокол с картинками'!H217","v":0},{"$f":"'протокол с картинками'!I217","v":0},{"$f":"'протокол с картинками'!J217","v":0},{"$f":"'протокол с картинками'!K217","v":1},{"$f":"'протокол с картинками'!L217","v":8}]
[null,null,{"$f":"'протокол с картинками'!C218","v":"Кашпо с под. 16с0.1342/2.1-1 НХП"},{"$f":"'протокол с картинками'!F218","v":9.6999999999999993},{"$f":"'протокол с картинками'!H218","v":0},{"$f":"'протокол с картинками'!I218","v":0},{"$f":"'протокол с картинками'!J218","v":0},{"$f":"'протокол с картинками'!K218","v":2},{"$f":"'протокол с картинками'!L218","v":5}]
[null,null,{"$f":"'протокол с картинками'!C219","v":"Кашпо с под. 16с0.1342/3.1-1 НХП"},{"$f":"'протокол с картинками'!F219","v":6.34},{"$f":"'протокол с картинками'!H219","v":0},{"$f":"'протокол с картинками'!I219","v":0},{"$f":"'протокол с картинками'!J219","v":0},{"$f":"'протокол с картинками'!K219","v":4},{"$f":"'протокол с картинками'!L219","v":2.4}]
[null,null,{"$f":"'протокол с картинками'!C220","v":"Кашпо с под. 16с0.1342/4.1-1 НХП"},{"$f":"'протокол с картинками'!F220","v":5.08},{"$f":"'протокол с картинками'!H220","v":0},{"$f":"'протокол с картинками'!I220","v":0},{"$f":"'протокол с картинками'!J220","v":0},{"$f":"'протокол с картинками'!K220","v":4},{"$f":"'протокол с картинками'!L220","v":1.8}]
[null,null,{"$f":"'протокол с картинками'!C221","v":"Кашпо с под. 16с0.1343/1.1-1 НХП"},{"$f":"'протокол с картинками'!F221","v":13.27},{"$f":"'протокол с картинками'!H221","v":0},{"$f":"'протокол с картинками'!I221","v":0},{"$f":"'протокол с картинками'!J221","v":0},{"$f":"'протокол с картинками'!K221","v":1},{"$f":"'протокол с картинками'!L221","v":8}]
[null,null,{"$f":"'протокол с картинками'!C222","v":"Кашпо с под. 16с0.1343/2.1-1 НХП"},{"$f":"'протокол с картинками'!F222","v":9.6999999999999993},{"$f":"'протокол с картинками'!H222","v":0},{"$f":"'протокол с картинками'!I222","v":0},{"$f":"'протокол с картинками'!J222","v":0},{"$f":"'протокол с картинками'!K222","v":2},{"$f":"'протокол с картинками'!L222","v":5}]
[null,null,{"$f":"'протокол с картинками'!C223","v":"Кашпо с под. 16с0.1343/3.1-1 НХП"},{"$f":"'протокол с картинками'!F223","v":6.34},{"$f":"'протокол с картинками'!H223","v":0},{"$f":"'протокол с картинками'!I223","v":0},{"$f":"'протокол с картинками'!J223","v":0},{"$f":"'протокол с картинками'!K223","v":4},{"$f":"'протокол с картинками'!L223","v":2.4}]
[null,null,{"$f":"'протокол с картинками'!C224","v":"Кашпо с под. 16с0.1343/4.1-1 НХП"},{"$f":"'протокол с картинками'!F224","v":5.08},{"$f":"'протокол с картинками'!H224","v":0},{"$f":"'протокол с картинками'!I224","v":0},{"$f":"'протокол с картинками'!J224","v":0},{"$f":"'протокол с картинками'!K224","v":4},{"$f":"'протокол с картинками'!L224","v":1.8}]
[null,null,{"$f":"'протокол с картинками'!C225","v":"Кашпо с под. 16с0.1344/1.1-1 НХП"},{"$f":"'протокол с картинками'!F225","v":14.52},{"$f":"'протокол с картинками'!H225","v":0},{"$f":"'протокол с картинками'!I225","v":0},{"$f":"'протокол с картинками'!J225","v":0},{"$f":"'протокол с картинками'!K225","v":1},{"$f":"'протокол с картинками'!L225","v":8}]
[null,null,{"$f":"'протокол с картинками'!C226","v":"Кашпо с под. 16с0.1344/2.1-1 НХП"},{"$f":"'протокол с картинками'!F226","v":10.75},{"$f":"'протокол с картинками'!H226","v":0},{"$f":"'протокол с картинками'!I226","v":0},{"$f":"'протокол с картинками'!J226","v":0},{"$f":"'протокол с картинками'!K226","v":2},{"$f":"'протокол с картинками'!L226","v":5}]
[null,null,{"$f":"'протокол с картинками'!C227","v":"Кашпо с под. 16с0.1344/4.1-1 НХП"},{"$f":"'протокол с картинками'!F227","v":6.4},{"$f":"'протокол с картинками'!H227","v":0},{"$f":"'протокол с картинками'!I227","v":0},{"$f":"'протокол с картинками'!J227","v":0},{"$f":"'протокол с картинками'!K227","v":4},{"$f":"'протокол с картинками'!L227","v":1.8}]
[null,null,{"$f":"'протокол с картинками'!C228","v":"Кашпо с под. 16с0.1345/1.1-1 НХП"},{"$f":"'протокол с картинками'!F228","v":14.52},{"$f":"'протокол с картинками'!H228","v":0},{"$f":"'протокол с картинками'!I228","v":0},{"$f":"'протокол с картинками'!J228","v":0},{"$f":"'протокол с картинками'!K228","v":1},{"$f":"'протокол с картинками'!L228","v":"8.0"}]
[null,null,{"$f":"'протокол с картинками'!C229","v":"Кашпо с под. 16с0.1345/2.1-1 НХП"},{"$f":"'протокол с картинками'!F229","v":10.75},{"$f":"'протокол с картинками'!H229","v":0},{"$f":"'протокол с картинками'!I229","v":0},{"$f":"'протокол с картинками'!J229","v":0},{"$f":"'протокол с картинками'!K229","v":2},{"$f":"'протокол с картинками'!L229","v":5}]
[null,null,{"$f":"'протокол с картинками'!C230","v":"Кашпо с под. 16с0.1345/4.1-1 НХП"},{"$f":"'протокол с картинками'!F230","v":6.4},{"$f":"'протокол с картинками'!H230","v":0},{"$f":"'протокол с картинками'!I230","v":0},{"$f":"'протокол с картинками'!J230","v":0},{"$f":"'протокол с картинками'!K230","v":4},{"$f":"'протокол с картинками'!L230","v":1.8}]
[null,null,{"$f":"'протокол с картинками'!C231","v":"Кашпо с под. 16с0.1346/1.1-1 НХП"},{"$f":"'протокол с картинками'!F231","v":9.2799999999999994},{"$f":"'протокол с картинками'!H231","v":0},{"$f":"'протокол с картинками'!I231","v":0},{"$f":"'протокол с картинками'!J231","v":0},{"$f":"'протокол с картинками'!K231","v":2},{"$f":"'протокол с картинками'!L231","v":3.4}]
[null,null,{"$f":"'протокол с картинками'!C232","v":"Кашпо с под. 16с0.1346/2.1-1 НХП"},{"$f":"'протокол с картинками'!F232","v":6.06},{"$f":"'протокол с картинками'!H232","v":0},{"$f":"'протокол с картинками'!I232","v":0},{"$f":"'протокол с картинками'!J232","v":0},{"$f":"'протокол с картинками'!K232","v":4},{"$f":"'протокол с картинками'!L232","v":1.7}]
[null,null,{"$f":"'протокол с картинками'!C233","v":"Кашпо с под. 16с0.1346/3.1-1 НХП"},{"$f":"'протокол с картинками'!F233","v":4.49},{"$f":"'протокол с картинками'!H233","v":0},{"$f":"'протокол с картинками'!I233","v":0},{"$f":"'протокол с картинками'!J233","v":0},{"$f":"'протокол с картинками'!K233","v":6},{"$f":"'протокол с картинками'!L233","v":0.9}]
[null,null,{"$f":"'протокол с картинками'!C234","v":"Кашпо с под. 16с0.1347/1.1-12 НХП"},{"$f":"'протокол с картинками'!F234","v":9.2799999999999994},{"$f":"'протокол с картинками'!H234","v":0},{"$f":"'протокол с картинками'!I234","v":0},{"$f":"'протокол с картинками'!J234","v":0},{"$f":"'протокол с картинками'!K234","v":2},{"$f":"'протокол с картинками'!L234","v":3.4}]
[null,null,{"$f":"'протокол с картинками'!C235","v":"Кашпо с под. 16с0.1347/2.1-1 НХП"},{"$f":"'протокол с картинками'!F235","v":6.06},{"$f":"'протокол с картинками'!H235","v":0},{"$f":"'протокол с картинками'!I235","v":0},{"$f":"'протокол с картинками'!J235","v":0},{"$f":"'протокол с картинками'!K235","v":4},{"$f":"'протокол с картинками'!L235","v":1.7}]
[null,null,{"$f":"'протокол с картинками'!C236","v":"Кашпо с под. 16с0.1347/3.1-1 НХП"},{"$f":"'протокол с картинками'!F236","v":4.49},{"$f":"'протокол с картинками'!H236","v":0},{"$f":"'протокол с картинками'!I236","v":0},{"$f":"'протокол с картинками'!J236","v":0},{"$f":"'протокол с картинками'!K236","v":6},{"$f":"'протокол с картинками'!L236","v":0.9}]
[null,null,{"$f":"'протокол с картинками'!C237","v":"Кашпо с под. 16с0.1348/1.1-1 НХП"},{"$f":"'протокол с картинками'!F237","v":9.2799999999999994},{"$f":"'протокол с картинками'!H237","v":0},{"$f":"'протокол с картинками'!I237","v":0},{"$f":"'протокол с картинками'!J237","v":0},{"$f":"'протокол с картинками'!K237","v":2},{"$f":"'протокол с картинками'!L237","v":3.4}]
[null,null,{"$f":"'протокол с картинками'!C238","v":"Кашпо с под. 16с0.1348/2.1-1 НХП"},{"$f":"'протокол с картинками'!F238","v":6.06},{"$f":"'протокол с картинками'!H238","v":0},{"$f":"'протокол с картинками'!I238","v":0},{"$f":"'протокол с картинками'!J238","v":0},{"$f":"'протокол с картинками'!K238","v":4},{"$f":"'протокол с картинками'!L238","v":1.7}]
[null,null,{"$f":"'протокол с картинками'!C239","v":"Кашпо с под. 16с0.1348/3.1-1 НХП"},{"$f":"'протокол с картинками'!F239","v":4.49},{"$f":"'протокол с картинками'!H239","v":0},{"$f":"'протокол с картинками'!I239","v":0},{"$f":"'протокол с картинками'!J239","v":0},{"$f":"'протокол с картинками'!K239","v":6},{"$f":"'протокол с картинками'!L239","v":0.9}]
[null,null,{"$f":"'протокол с картинками'!C240","v":"Кашпо с под. 16с0.1349/1.1-1 НХП"},{"$f":"'протокол с картинками'!F240","v":10.96},{"$f":"'протокол с картинками'!H240","v":0},{"$f":"'протокол с картинками'!I240","v":0},{"$f":"'протокол с картинками'!J240","v":0},{"$f":"'протокол с картинками'!K240","v":2},{"$f":"'протокол с картинками'!L240","v":3.4}]
[null,null,{"$f":"'протокол с картинками'!C241","v":"Кашпо с под. 16с0.1349/2.1-1 НХП"},{"$f":"'протокол с картинками'!F241","v":7.16},{"$f":"'протокол с картинками'!H241","v":0},{"$f":"'протокол с картинками'!I241","v":0},{"$f":"'протокол с картинками'!J241","v":0},{"$f":"'протокол с картинками'!K241","v":4},{"$f":"'протокол с картинками'!L241","v":1.7}]
[null,null,{"$f":"'протокол с картинками'!C242","v":"Кашпо с под. 16с0.1349/3.1-1 НХП"},{"$f":"'протокол с картинками'!F242","v":5.28},{"$f":"'протокол с картинками'!H242","v":0},{"$f":"'протокол с картинками'!I242","v":0},{"$f":"'протокол с картинками'!J242","v":0},{"$f":"'протокол с картинками'!K242","v":6},{"$f":"'протокол с картинками'!L242","v":0.9}]
[null,null,{"$f":"'протокол с картинками'!C243","v":"Кашпо с под. 16с0.1350/1.1-1 НХП"},{"$f":"'протокол с картинками'!F243","v":14.52},{"$f":"'протокол с картинками'!H243","v":0},{"$f":"'протокол с картинками'!I243","v":0},{"$f":"'протокол с картинками'!J243","v":0},{"$f":"'протокол с картинками'!K243","v":1},{"$f":"'протокол с картинками'!L243","v":8}]
[null,null,{"$f":"'протокол с картинками'!C244","v":"Кашпо с под. 16с0.1350/2.1-1 НХП"},{"$f":"'протокол с картинками'!F244","v":10.75},{"$f":"'протокол с картинками'!H244","v":0},{"$f":"'протокол с картинками'!I244","v":0},{"$f":"'протокол с картинками'!J244","v":0},{"$f":"'протокол с картинками'!K244","v":2},{"$f":"'протокол с картинками'!L244","v":5}]
[null,null,{"$f":"'протокол с картинками'!C245","v":"Кашпо с под. 16с0.1350/3.1-1 НХП"},{"$f":"'протокол с картинками'!F245","v":6.66},{"$f":"'протокол с картинками'!H245","v":0},{"$f":"'протокол с картинками'!I245","v":0},{"$f":"'протокол с картинками'!J245","v":0},{"$f":"'протокол с картинками'!K245","v":4},{"$f":"'протокол с картинками'!L245","v":2.4}]
[null,null,{"$f":"'протокол с картинками'!C246","v":"Кашпо с под. 16с0.1350/4.1-1 НХП"},{"$f":"'протокол с картинками'!F246","v":6.4},{"$f":"'протокол с картинками'!H246","v":0},{"$f":"'протокол с картинками'!I246","v":0},{"$f":"'протокол с картинками'!J246","v":0},{"$f":"'протокол с картинками'!K246","v":4},{"$f":"'протокол с картинками'!L246","v":1.8}]
[null,null,{"$f":"'протокол с картинками'!C247","v":"Кашпо с под. 16с0.1323/1.1-1 НХП"},{"$f":"'протокол с картинками'!F247","v":10.76},{"$f":"'протокол с картинками'!H247","v":0},{"$f":"'протокол с картинками'!I247","v":0},{"$f":"'протокол с картинками'!J247","v":0},{"$f":"'протокол с картинками'!K247","v":2},{"$f":"'протокол с картинками'!L247","v":3.4}]
[null,null,{"$f":"'протокол с картинками'!C248","v":"Кашпо с под. 16с0.1323/2.1-1 НХП"},{"$f":"'протокол с картинками'!F248","v":7.02},{"$f":"'протокол с картинками'!H248","v":0},{"$f":"'протокол с картинками'!I248","v":0},{"$f":"'протокол с картинками'!J248","v":0},{"$f":"'протокол с картинками'!K248","v":4},{"$f":"'протокол с картинками'!L248","v":1.7}]
[null,null,{"$f":"'протокол с картинками'!C249","v":"Кашпо с под. 16с0.1323/3.1-1 НХП"},{"$f":"'протокол с картинками'!F249","v":5.18},{"$f":"'протокол с картинками'!H249","v":0},{"$f":"'протокол с картинками'!I249","v":0},{"$f":"'протокол с картинками'!J249","v":0},{"$f":"'протокол с картинками'!K249","v":6},{"$f":"'протокол с картинками'!L249","v":0.9}]
[null,null,{"$f":"'протокол с картинками'!C250","v":"Кашпо с под. 16с0.1324/1.1-1 НХП"},{"$f":"'протокол с картинками'!F250","v":10.76},{"$f":"'протокол с картинками'!H250","v":0},{"$f":"'протокол с картинками'!I250","v":0},{"$f":"'протокол с картинками'!J250","v":0},{"$f":"'протокол с картинками'!K250","v":2},{"$f":"'протокол с картинками'!L250","v":3.4}]
[null,null,{"$f":"'протокол с картинками'!C251","v":"Кашпо с под. 16с0.1324/2.1-1 НХП"},{"$f":"'протокол с картинками'!F251","v":7.02},{"$f":"'протокол с картинками'!H251","v":0},{"$f":"'протокол с картинками'!I251","v":0},{"$f":"'протокол с картинками'!J251","v":0},{"$f":"'протокол с картинками'!K251","v":4},{"$f":"'протокол с картинками'!L251","v":1.7}]
[null,null,{"$f":"'протокол с картинками'!C252","v":"Кашпо с под. 16с0.1324/3.1-1 НХП"},{"$f":"'протокол с картинками'!F252","v":5.18},{"$f":"'протокол с картинками'!H252","v":0},{"$f":"'протокол с картинками'!I252","v":0},{"$f":"'протокол с картинками'!J252","v":0},{"$f":"'протокол с картинками'!K252","v":6},{"$f":"'протокол с картинками'!L252","v":0.9}]
[null,null,{"$f":"'протокол с картинками'!C253","v":"Кашпо с под. 16с0.1325/1.1-1 НХП"},{"$f":"'протокол с картинками'!F253","v":10.76},{"$f":"'протокол с картинками'!H253","v":0},{"$f":"'протокол с картинками'!I253","v":0},{"$f":"'протокол с картинками'!J253","v":0},{"$f":"'протокол с картинками'!K253","v":2},{"$f":"'протокол с картинками'!L253","v":3.4}]
[null,null,{"$f":"'протокол с картинками'!C254","v":"Кашпо с под. 16с0.1325/2.1-1 НХП"},{"$f":"'протокол с картинками'!F254","v":7.02},{"$f":"'протокол с картинками'!H254","v":0},{"$f":"'протокол с картинками'!I254","v":0},{"$f":"'протокол с картинками'!J254","v":0},{"$f":"'протокол с картинками'!K254","v":4},{"$f":"'протокол с картинками'!L254","v":1.7}]
[null,null,{"$f":"'протокол с картинками'!C255","v":"Кашпо с под. 16с0.1325/3.1-1 НХП"},{"$f":"'протокол с картинками'!F255","v":5.18},{"$f":"'протокол с картинками'!H255","v":0},{"$f":"'протокол с картинками'!I255","v":0},{"$f":"'протокол с картинками'!J255","v":0},{"$f":"'протокол с картинками'!K255","v":6},{"$f":"'протокол с картинками'!L255","v":0.9}]
[null,null,{"$f":"'протокол с картинками'!C256","v":"Кашпо с под. 16с0.1326/1.1-1 НХП"},{"$f":"'протокол с картинками'!F256","v":10.76},{"$f":"'протокол с картинками'!H256","v":0},{"$f":"'протокол с картинками'!I256","v":0},{"$f":"'протокол с картинками'!J256","v":0},{"$f":"'протокол с картинками'!K256","v":2},{"$f":"'протокол с картинками'!L256","v":3.4}]
[null,null,{"$f":"'протокол с картинками'!C257","v":"Кашпо с под. 16с0.1326/2.1-1 НХП"},{"$f":"'протокол с картинками'!F257","v":7.02},{"$f":"'протокол с картинками'!H257","v":0},{"$f":"'протокол с картинками'!I257","v":0},{"$f":"'протокол с картинками'!J257","v":0},{"$f":"'протокол с картинками'!K257","v":4},{"$f":"'протокол с картинками'!L257","v":1.7}]
[null,null,{"$f":"'протокол с картинками'!C258","v":"Кашпо с под. 16с0.1326/3.1-1 НХП"},{"$f":"'протокол с картинками'!F258","v":5.18},{"$f":"'протокол с картинками'!H258","v":0},{"$f":"'протокол с картинками'!I258","v":0},{"$f":"'протокол с картинками'!J258","v":0},{"$f":"'протокол с картинками'!K258","v":6},{"$f":"'протокол с картинками'!L258","v":0.9}]
[null,null,{"$f":"'протокол с картинками'!C259","v":"Кашпо с под. 16с0.1327/1.1-1 НХП"},{"$f":"'протокол с картинками'!F259","v":10.76},{"$f":"'протокол с картинками'!H259","v":0},{"$f":"'протокол с картинками'!I259","v":0},{"$f":"'протокол с картинками'!J259","v":0},{"$f":"'протокол с картинками'!K259","v":2},{"$f":"'протокол с картинками'!L259","v":3.4}]
[null,null,{"$f":"'протокол с картинками'!C260","v":"Кашпо с под. 16с0.1327/2.1-1 НХП"},{"$f":"'протокол с картинками'!F260","v":7.02},{"$f":"'протокол с картинками'!H260","v":0},{"$f":"'протокол с картинками'!I260","v":0},{"$f":"'протокол с картинками'!J260","v":0},{"$f":"'протокол с картинками'!K260","v":4},{"$f":"'протокол с картинками'!L260","v":1.7}]
[null,null,{"$f":"'протокол с картинками'!C261","v":"Кашпо с под. 16с0.1327/3.1-1 НХП"},{"$f":"'протокол с картинками'!F261","v":5.18},{"$f":"'протокол с картинками'!H261","v":0},{"$f":"'протокол с картинками'!I261","v":0},{"$f":"'протокол с картинками'!J261","v":0},{"$f":"'протокол с картинками'!K261","v":6},{"$f":"'протокол с картинками'!L261","v":0.9}]
[null,null,{"$f":"'протокол с картинками'!C262","v":"Кашпо с под. 16с0.1328/1.1-1 НХП"},{"$f":"'протокол с картинками'!F262","v":10.76},{"$f":"'протокол с картинками'!H262","v":0},{"$f":"'протокол с картинками'!I262","v":0},{"$f":"'протокол с картинками'!J262","v":0},{"$f":"'протокол с картинками'!K262","v":2},{"$f":"'протокол с картинками'!L262","v":3.4}]
[null,null,{"$f":"'протокол с картинками'!C263","v":"Кашпо с под. 16с0.1328/2.1-1 НХП"},{"$f":"'протокол с картинками'!F263","v":7.02},{"$f":"'протокол с картинками'!H263","v":0},{"$f":"'протокол с картинками'!I263","v":0},{"$f":"'протокол с картинками'!J263","v":0},{"$f":"'протокол с картинками'!K263","v":4},{"$f":"'протокол с картинками'!L263","v":1.7}]
[null,null,{"$f":"'протокол с картинками'!C264","v":"Кашпо с под. 16с0.1328/3.1-1 НХП"},{"$f":"'протокол с картинками'!F264","v":5.18},{"$f":"'протокол с картинками'!H264","v":0},{"$f":"'протокол с картинками'!I264","v":0},{"$f":"'протокол с картинками'!J264","v":0},{"$f":"'протокол с картинками'!K264","v":6},{"$f":"'протокол с картинками'!L264","v":0.9}]
[null,null,{"$f":"'протокол с картинками'!C265","v":"Кашпо с под. 16с0.1335/1.1-1 НХП"},{"$f":"'протокол с картинками'!F265","v":15.94},{"$f":"'протокол с картинками'!H265","v":0},{"$f":"'протокол с картинками'!I265","v":0},{"$f":"'протокол с картинками'!J265","v":0},{"$f":"'протокол с картинками'!K265","v":1},{"$f":"'протокол с картинками'!L265","v":8}]
[null,null,{"$f":"'протокол с картинками'!C266","v":"Кашпо с под. 16с0.1335/2.1-1 НХП"},{"$f":"'протокол с картинками'!F266","v":11.83},{"$f":"'протокол с картинками'!H266","v":0},{"$f":"'протокол с картинками'!I266","v":0},{"$f":"'протокол с картинками'!J266","v":0},{"$f":"'протокол с картинками'!K266","v":2},{"$f":"'протокол с картинками'!L266","v":5}]
[null,null,{"$f":"'протокол с картинками'!C267","v":"Кашпо с под. 16с0.1335/4.1-1 НХП"},{"$f":"'протокол с картинками'!F267","v":7.05},{"$f":"'протокол с картинками'!H267","v":0},{"$f":"'протокол с картинками'!I267","v":0},{"$f":"'протокол с картинками'!J267","v":0},{"$f":"'протокол с картинками'!K267","v":4},{"$f":"'протокол с картинками'!L267","v":1.8}]
[null,null,{"$f":"'протокол с картинками'!C268","v":"Кашпо с под. 16с0.1336/1.1-1 НХП"},{"$f":"'протокол с картинками'!F268","v":15.94},{"$f":"'протокол с картинками'!H268","v":0},{"$f":"'протокол с картинками'!I268","v":0},{"$f":"'протокол с картинками'!J268","v":0},{"$f":"'протокол с картинками'!K268","v":1},{"$f":"'протокол с картинками'!L268","v":8}]
[null,null,{"$f":"'протокол с картинками'!C269","v":"Кашпо с под. 16с0.1336/2.1-1 НХП"},{"$f":"'протокол с картинками'!F269","v":11.83},{"$f":"'протокол с картинками'!H269","v":0},{"$f":"'протокол с картинками'!I269","v":0},{"$f":"'протокол с картинками'!J269","v":0},{"$f":"'протокол с картинками'!K269","v":2},{"$f":"'протокол с картинками'!L269","v":5}]
[null,null,{"$f":"'протокол с картинками'!C270","v":"Кашпо с под. 16с0.1336/4.1-1 НХП"},{"$f":"'протокол с картинками'!F270","v":7.05},{"$f":"'протокол с картинками'!H270","v":0},{"$f":"'протокол с картинками'!I270","v":0},{"$f":"'протокол с картинками'!J270","v":0},{"$f":"'протокол с картинками'!K270","v":4},{"$f":"'протокол с картинками'!L270","v":1.8}]
[null,null,{"$f":"'протокол с картинками'!C271","v":"Кашпо с под. 16с0.1337/1.1-1 НХП"},{"$f":"'протокол с картинками'!F271","v":25.23},{"$f":"'протокол с картинками'!H271","v":0},{"$f":"'протокол с картинками'!I271","v":0},{"$f":"'протокол с картинками'!J271","v":0},{"$f":"'протокол с картинками'!K271","v":1},{"$f":"'протокол с картинками'!L271","v":12.7}]
[null,null,{"$f":"'протокол с картинками'!C272","v":"Кашпо с под. 16с0.1337/2.1-1 НХП"},{"$f":"'протокол с картинками'!F272","v":18.920000000000002},{"$f":"'протокол с картинками'!H272","v":0},{"$f":"'протокол с картинками'!I272","v":0},{"$f":"'протокол с картинками'!J272","v":0},{"$f":"'протокол с картинками'!K272","v":1},{"$f":"'протокол с картинками'!L272","v":8.1999999999999993}]
[null,null,{"$f":"'протокол с картинками'!C273","v":"Кашпо с под. 16с0.1337/3.1-1 НХП"},{"$f":"'протокол с картинками'!F273","v":13.68},{"$f":"'протокол с картинками'!H273","v":0},{"$f":"'протокол с картинками'!I273","v":0},{"$f":"'протокол с картинками'!J273","v":0},{"$f":"'протокол с картинками'!K273","v":2},{"$f":"'протокол с картинками'!L273","v":6}]
[null,null,{"$f":"'протокол с картинками'!C274","v":"Кашпо с под. 16 с0.1338/0.1-1 НХП"},{"$f":"'протокол с картинками'!F274","v":28.12},{"$f":"'протокол с картинками'!H274","v":0},{"$f":"'протокол с картинками'!I274","v":0},{"$f":"'протокол с картинками'!J274","v":0},{"$f":"'протокол с картинками'!K274","v":1},{"$f":"'протокол с картинками'!L274","v":13.5}]
[null,null,{"$f":"'протокол с картинками'!C275","v":"Кашпо с под. 15с0.1321/1.1-1 НХП"},{"$f":"'протокол с картинками'!F275","v":13.27},{"$f":"'протокол с картинками'!H275","v":0},{"$f":"'протокол с картинками'!I275","v":0},{"$f":"'протокол с картинками'!J275","v":0},{"$f":"'протокол с картинками'!K275","v":1},{"$f":"'протокол с картинками'!L275","v":8}]
[null,null,{"$f":"'протокол с картинками'!C276","v":"Кашпо с под. 15с0.1321/2.1-1 НХП"},{"$f":"'протокол с картинками'!F276","v":9.6999999999999993},{"$f":"'протокол с картинками'!H276","v":0},{"$f":"'протокол с картинками'!I276","v":0},{"$f":"'протокол с картинками'!J276","v":0},{"$f":"'протокол с картинками'!K276","v":2},{"$f":"'протокол с картинками'!L276","v":5}]
[null,null,{"$f":"'протокол с картинками'!C277","v":"Кашпо с под. 15с0.1321/3.1-1 НХП"},{"$f":"'протокол с картинками'!F277","v":6.34},{"$f":"'протокол с картинками'!H277","v":0},{"$f":"'протокол с картинками'!I277","v":0},{"$f":"'протокол с картинками'!J277","v":0},{"$f":"'протокол с картинками'!K277","v":4},{"$f":"'протокол с картинками'!L277","v":2.4}]
[null,null,{"$f":"'протокол с картинками'!C278","v":"Кашпо с под. 15с0.1321/4.1-1 НХП"},{"$f":"'протокол с картинками'!F278","v":5.08},{"$f":"'протокол с картинками'!H278","v":0},{"$f":"'протокол с картинками'!I278","v":0},{"$f":"'протокол с картинками'!J278","v":0},{"$f":"'протокол с картинками'!K278","v":4},{"$f":"'протокол с картинками'!L278","v":1.8}]
[null,null,{"$f":"'протокол с картинками'!#REF!","v":{"$error":"#REF!"}},{"$f":"'протокол с картинками'!#REF!","v":{"$error":"#REF!"}},{"$f":"'протокол с картинками'!#REF!","v":{"$error":"#REF!"}},{"$f":"'протокол с картинками'!#REF!","v":{"$error":"#REF!"}},{"$f":"'протокол с картинками'!#REF!","v":{"$error":"#REF!"}},{"$f":"'протокол с картинками'!#REF!","v":{"$error":"#REF!"}},{"$f":"'протокол с картинками'!#REF!","v":{"$error":"#REF!"}}]
[null,null,{"$f":"'протокол с картинками'!#REF!","v":{"$error":"#REF!"}},{"$f":"'протокол с картинками'!#REF!","v":{"$error":"#REF!"}},{"$f":"'протокол с картинками'!#REF!","v":{"$error":"#REF!"}},{"$f":"'протокол с картинками'!#REF!","v":{"$error":"#REF!"}},{"$f":"'протокол с картинками'!#REF!","v":{"$error":"#REF!"}},{"$f":"'протокол с картинками'!#REF!","v":{"$error":"#REF!"}},{"$f":"'протокол с картинками'!#REF!","v":{"$error":"#REF!"}}]
[null,null,{"$f":"'протокол с картинками'!#REF!","v":{"$error":"#REF!"}},{"$f":"'протокол с картинками'!#REF!","v":{"$error":"#REF!"}},{"$f":"'протокол с картинками'!#REF!","v":{"$error":"#REF!"}},{"$f":"'протокол с картинками'!#REF!","v":{"$error":"#REF!"}},{"$f":"'протокол с картинками'!#REF!","v":{"$error":"#REF!"}},{"$f":"'протокол с картинками'!#REF!","v":{"$error":"#REF!"}},{"$f":"'протокол с картинками'!#REF!","v":{"$error":"#REF!"}}]
[null,null,{"$f":"'протокол с картинками'!C279","v":"Кашпо с под. 15с0.1317/1.1-1 НХП"},{"$f":"'протокол с картинками'!F279","v":9.2799999999999994},{"$f":"'протокол с картинками'!H279","v":0},{"$f":"'протокол с картинками'!I279","v":0},{"$f":"'протокол с картинками'!J279","v":0},{"$f":"'протокол с картинками'!K279","v":2},{"$f":"'протокол с картинками'!L279","v":3.4}]
[null,null,{"$f":"'протокол с картинками'!C280","v":"Кашпо с под. 15с0.1317/2.1-1 НХП"},{"$f":"'протокол с картинками'!F280","v":6.06},{"$f":"'протокол с картинками'!H280","v":0},{"$f":"'протокол с картинками'!I280","v":0},{"$f":"'протокол с картинками'!J280","v":0},{"$f":"'протокол с картинками'!K280","v":4},{"$f":"'протокол с картинками'!L280","v":1.7}]
[null,null,{"$f":"'протокол с картинками'!C281","v":"Кашпо с под. 15с0.1317/3.1-1 НХП"},{"$f":"'протокол с картинками'!F281","v":4.49},{"$f":"'протокол с картинками'!H281","v":0},{"$f":"'протокол с картинками'!I281","v":0},{"$f":"'протокол с картинками'!J281","v":0},{"$f":"'протокол с картинками'!K281","v":6},{"$f":"'протокол с картинками'!L281","v":0.9}]
[null,null,{"$f":"'протокол с картинками'!C282","v":"Кашпо с под. 15с0.1318/1.1-1 НХП"},{"$f":"'протокол с картинками'!F282","v":9.77},{"$f":"'протокол с картинками'!H282","v":0},{"$f":"'протокол с картинками'!I282","v":0},{"$f":"'протокол с картинками'!J282","v":0},{"$f":"'протокол с картинками'!K282","v":2},{"$f":"'протокол с картинками'!L282","v":3.4}]
[null,null,{"$f":"'протокол с картинками'!C283","v":"Кашпо с под. 15с0.1318/2.1-1 НХП"},{"$f":"'протокол с картинками'!F283","v":6.38},{"$f":"'протокол с картинками'!H283","v":0},{"$f":"'протокол с картинками'!I283","v":0},{"$f":"'протокол с картинками'!J283","v":0},{"$f":"'протокол с картинками'!K283","v":4},{"$f":"'протокол с картинками'!L283","v":1.7}]
[null,null,{"$f":"'протокол с картинками'!C284","v":"Кашпо с под. 15с0.1318/3.1-1 НХП"},{"$f":"'протокол с картинками'!F284","v":4.71},{"$f":"'протокол с картинками'!H284","v":0},{"$f":"'протокол с картинками'!I284","v":0},{"$f":"'протокол с картинками'!J284","v":0},{"$f":"'протокол с картинками'!K284","v":6},{"$f":"'протокол с картинками'!L284","v":0.9}]
[null,null,{"$f":"'протокол с картинками'!C285","v":"Кашпо с под. 15с0.1319/1.1-1 НХП"},{"$f":"'протокол с картинками'!F285","v":9.77},{"$f":"'протокол с картинками'!H285","v":0},{"$f":"'протокол с картинками'!I285","v":0},{"$f":"'протокол с картинками'!J285","v":0},{"$f":"'протокол с картинками'!K285","v":2},{"$f":"'протокол с картинками'!L285","v":3.4}]
[null,null,{"$f":"'протокол с картинками'!C286","v":"Кашпо с под. 15с0.1319/2.1-1 НХП"},{"$f":"'протокол с картинками'!F286","v":6.38},{"$f":"'протокол с картинками'!H286","v":0},{"$f":"'протокол с картинками'!I286","v":0},{"$f":"'протокол с картинками'!J286","v":0},{"$f":"'протокол с картинками'!K286","v":4},{"$f":"'протокол с картинками'!L286","v":1.7}]
[null,null,{"$f":"'протокол с картинками'!C287","v":"Кашпо с под. 15с0.1319/3.1-1 НХП"},{"$f":"'протокол с картинками'!F287","v":4.71},{"$f":"'протокол с картинками'!H287","v":0},{"$f":"'протокол с картинками'!I287","v":0},{"$f":"'протокол с картинками'!J287","v":0},{"$f":"'протокол с картинками'!K287","v":6},{"$f":"'протокол с картинками'!L287","v":0.9}]
[null,null,{"$f":"'протокол с картинками'!C288","v":"Кашпо с под. 15с0.1320/1.1-1 НХП"},{"$f":"'протокол с картинками'!F288","v":9.77},{"$f":"'протокол с картинками'!H288","v":0},{"$f":"'протокол с картинками'!I288","v":0},{"$f":"'протокол с картинками'!J288","v":0},{"$f":"'протокол с картинками'!K288","v":2},{"$f":"'протокол с картинками'!L288","v":3.4}]
[null,null,{"$f":"'протокол с картинками'!C289","v":"Кашпо с под. 15с0.1320/2.1-1 НХП"},{"$f":"'протокол с картинками'!F289","v":6.38},{"$f":"'протокол с картинками'!H289","v":0},{"$f":"'протокол с картинками'!I289","v":0},{"$f":"'протокол с картинками'!J289","v":0},{"$f":"'протокол с картинками'!K289","v":4},{"$f":"'протокол с картинками'!L289","v":1.7}]
[null,null,{"$f":"'протокол с картинками'!C290","v":"Кашпо с под. 15с0.1320/3.1-1 НХП"},{"$f":"'протокол с картинками'!F290","v":4.71},{"$f":"'протокол с картинками'!H290","v":0},{"$f":"'протокол с картинками'!I290","v":0},{"$f":"'протокол с картинками'!J290","v":0},{"$f":"'протокол с картинками'!K290","v":6},{"$f":"'протокол с картинками'!L290","v":0.9}]
[null,null,{"$f":"'протокол с картинками'!C291","v":"Кашпо с под. 5c0.1631/1.1-1 НХП"},{"$f":"'протокол с картинками'!F291","v":13.27},{"$f":"'протокол с картинками'!H291","v":0},{"$f":"'протокол с картинками'!I291","v":0},{"$f":"'протокол с картинками'!J291","v":0},{"$f":"'протокол с картинками'!K291","v":1},{"$f":"'протокол с картинками'!L291","v":8}]
[null,null,{"$f":"'протокол с картинками'!C292","v":"Кашпо с под. 5c0.1631/2.1-1 НХП"},{"$f":"'протокол с картинками'!F292","v":9.6999999999999993},{"$f":"'протокол с картинками'!H292","v":0},{"$f":"'протокол с картинками'!I292","v":0},{"$f":"'протокол с картинками'!J292","v":0},{"$f":"'протокол с картинками'!K292","v":2},{"$f":"'протокол с картинками'!L292","v":5}]
[null,null,{"$f":"'протокол с картинками'!C293","v":"Кашпо с под. 5c0.1631/3.1-1 НХП"},{"$f":"'протокол с картинками'!F293","v":6.34},{"$f":"'протокол с картинками'!H293","v":0},{"$f":"'протокол с картинками'!I293","v":0},{"$f":"'протокол с картинками'!J293","v":0},{"$f":"'протокол с картинками'!K293","v":4},{"$f":"'протокол с картинками'!L293","v":2.4}]
[null,null,{"$f":"'протокол с картинками'!C294","v":"Кашпо с под. 9с0.1631/4.1-1 НХП"},{"$f":"'протокол с картинками'!F294","v":5.08},{"$f":"'протокол с картинками'!H294","v":0},{"$f":"'протокол с картинками'!I294","v":0},{"$f":"'протокол с картинками'!J294","v":0},{"$f":"'протокол с картинками'!K294","v":4},{"$f":"'протокол с картинками'!L294","v":1.8}]
[null,null,{"$f":"'протокол с картинками'!C295","v":"Кашпо с под. 9с0.1969/1.1-1 НХП"},{"$f":"'протокол с картинками'!F295","v":13.27},{"$f":"'протокол с картинками'!H295","v":0},{"$f":"'протокол с картинками'!I295","v":0},{"$f":"'протокол с картинками'!J295","v":0},{"$f":"'протокол с картинками'!K295","v":1},{"$f":"'протокол с картинками'!L295","v":8}]
[null,null,{"$f":"'протокол с картинками'!C296","v":"Кашпо с под. 9с0.1969/2.1-1 НХП"},{"$f":"'протокол с картинками'!F296","v":9.6999999999999993},{"$f":"'протокол с картинками'!H296","v":0},{"$f":"'протокол с картинками'!I296","v":0},{"$f":"'протокол с картинками'!J296","v":0},{"$f":"'протокол с картинками'!K296","v":2},{"$f":"'протокол с картинками'!L296","v":5}]
[null,null,{"$f":"'протокол с картинками'!C297","v":"Кашпо с под. 9с0.1969/3.1-1 НХП"},{"$f":"'протокол с картинками'!F297","v":6.34},{"$f":"'протокол с картинками'!H297","v":0},{"$f":"'протокол с картинками'!I297","v":0},{"$f":"'протокол с картинками'!J297","v":0},{"$f":"'протокол с картинками'!K297","v":4},{"$f":"'протокол с картинками'!L297","v":2.4}]
[null,null,{"$f":"'протокол с картинками'!C298","v":"Кашпо с под. 9с0.1969/4.1-1 НХП"},{"$f":"'протокол с картинками'!F298","v":5.08},{"$f":"'протокол с картинками'!H298","v":0},{"$f":"'протокол с картинками'!I298","v":0},{"$f":"'протокол с картинками'!J298","v":0},{"$f":"'протокол с картинками'!K298","v":4},{"$f":"'протокол с картинками'!L298","v":1.8}]
[null,null,{"$f":"'протокол с картинками'!C299","v":"Кашпо с под. 9с0.1898/1.1-1 НХП"},{"$f":"'протокол с картинками'!F299","v":14.52},{"$f":"'протокол с картинками'!H299","v":0},{"$f":"'протокол с картинками'!I299","v":0},{"$f":"'протокол с картинками'!J299","v":0},{"$f":"'протокол с картинками'!K299","v":1},{"$f":"'протокол с картинками'!L299","v":8}]
[null,null,{"$f":"'протокол с картинками'!C300","v":"Кашпо с под. 9с0.1898/2.1-1 НХП"},{"$f":"'протокол с картинками'!F300","v":10.76},{"$f":"'протокол с картинками'!H300","v":0},{"$f":"'протокол с картинками'!I300","v":0},{"$f":"'протокол с картинками'!J300","v":0},{"$f":"'протокол с картинками'!K300","v":2},{"$f":"'протокол с картинками'!L300","v":5}]
[null,null,{"$f":"'протокол с картинками'!C301","v":"Кашпо с под. 9с0.1898/3.1-1 НХП"},{"$f":"'протокол с картинками'!F301","v":7.74},{"$f":"'протокол с картинками'!H301","v":0},{"$f":"'протокол с картинками'!I301","v":0},{"$f":"'протокол с картинками'!J301","v":0},{"$f":"'протокол с картинками'!K301","v":4},{"$f":"'протокол с картинками'!L301","v":2.4}]
[null,null,{"$f":"'протокол с картинками'!C302","v":"Кашпо с под. 9с0.1898/4.1-1 НХП"},{"$f":"'протокол с картинками'!F302","v":6.41},{"$f":"'протокол с картинками'!H302","v":0},{"$f":"'протокол с картинками'!I302","v":0},{"$f":"'протокол с картинками'!J302","v":0},{"$f":"'протокол с картинками'!K302","v":4},{"$f":"'протокол с картинками'!L302","v":1.8}]
[null,null,{"$f":"'протокол с картинками'!C303","v":"Кашпо с под. 10с0.1044/1.1-1 НХП"},{"$f":"'протокол с картинками'!F303","v":13.27},{"$f":"'протокол с картинками'!H303","v":0},{"$f":"'протокол с картинками'!I303","v":0},{"$f":"'протокол с картинками'!J303","v":0},{"$f":"'протокол с картинками'!K303","v":1},{"$f":"'протокол с картинками'!L303","v":8}]
[null,null,{"$f":"'протокол с картинками'!C304","v":"Кашпо с под. 10с0.1044/2.1-1 НХП"},{"$f":"'протокол с картинками'!F304","v":9.6999999999999993},{"$f":"'протокол с картинками'!H304","v":0},{"$f":"'протокол с картинками'!I304","v":0},{"$f":"'протокол с картинками'!J304","v":0},{"$f":"'протокол с картинками'!K304","v":2},{"$f":"'протокол с картинками'!L304","v":5}]
[null,null,{"$f":"'протокол с картинками'!C305","v":"Кашпо с под. 10с0.1044/3.1-1 НХП"},{"$f":"'протокол с картинками'!F305","v":6.34},{"$f":"'протокол с картинками'!H305","v":0},{"$f":"'протокол с картинками'!I305","v":0},{"$f":"'протокол с картинками'!J305","v":0},{"$f":"'протокол с картинками'!K305","v":4},{"$f":"'протокол с картинками'!L305","v":2.4}]
[null,null,{"$f":"'протокол с картинками'!C306","v":"Кашпо с под. 10с0.1044/4.1-1 НХП"},{"$f":"'протокол с картинками'!F306","v":5.08},{"$f":"'протокол с картинками'!H306","v":0},{"$f":"'протокол с картинками'!I306","v":0},{"$f":"'протокол с картинками'!J306","v":0},{"$f":"'протокол с картинками'!K306","v":4},{"$f":"'протокол с картинками'!L306","v":1.8}]
[null,null,{"$f":"'протокол с картинками'!C307","v":"Кашпо с под. 12с0.1163/1.1-1 НХП"},{"$f":"'протокол с картинками'!F307","v":13.27},{"$f":"'протокол с картинками'!H307","v":0},{"$f":"'протокол с картинками'!I307","v":0},{"$f":"'протокол с картинками'!J307","v":0},{"$f":"'протокол с картинками'!K307","v":1},{"$f":"'протокол с картинками'!L307","v":8}]
[null,null,{"$f":"'протокол с картинками'!C308","v":"Кашпо с под. 12с0.1163/2.1-1 НХП"},{"$f":"'протокол с картинками'!F308","v":9.6999999999999993},{"$f":"'протокол с картинками'!H308","v":0},{"$f":"'протокол с картинками'!I308","v":0},{"$f":"'протокол с картинками'!J308","v":0},{"$f":"'протокол с картинками'!K308","v":2},{"$f":"'протокол с картинками'!L308","v":5}]
[null,null,{"$f":"'протокол с картинками'!C309","v":"Кашпо с под. 12с0.1163/3.1-1 НХП"},{"$f":"'протокол с картинками'!F309","v":6.34},{"$f":"'протокол с картинками'!H309","v":0},{"$f":"'протокол с картинками'!I309","v":0},{"$f":"'протокол с картинками'!J309","v":0},{"$f":"'протокол с картинками'!K309","v":4},{"$f":"'протокол с картинками'!L309","v":2.4}]
[null,null,{"$f":"'протокол с картинками'!C310","v":"Кашпо с под. 12с0.1163/4.1-1 НХП"},{"$f":"'протокол с картинками'!F310","v":5.08},{"$f":"'протокол с картинками'!H310","v":0},{"$f":"'протокол с картинками'!I310","v":0},{"$f":"'протокол с картинками'!J310","v":0},{"$f":"'протокол с картинками'!K310","v":4},{"$f":"'протокол с картинками'!L310","v":1.8}]
[null,null,{"$f":"'протокол с картинками'!C311","v":"Кашпо с под. 12с0.1170/1.1-1 НХП"},{"$f":"'протокол с картинками'!F311","v":13.27},{"$f":"'протокол с картинками'!H311","v":0},{"$f":"'протокол с картинками'!I311","v":0},{"$f":"'протокол с картинками'!J311","v":0},{"$f":"'протокол с картинками'!K311","v":1},{"$f":"'протокол с картинками'!L311","v":8}]
[null,null,{"$f":"'протокол с картинками'!C312","v":"Кашпо с под. 12с0.1170/2.1-1 НХП"},{"$f":"'протокол с картинками'!F312","v":9.6999999999999993},{"$f":"'протокол с картинками'!H312","v":0},{"$f":"'протокол с картинками'!I312","v":0},{"$f":"'протокол с картинками'!J312","v":0},{"$f":"'протокол с картинками'!K312","v":2},{"$f":"'протокол с картинками'!L312","v":5}]
[null,null,{"$f":"'протокол с картинками'!C313","v":"Кашпо с под. 12с0.1170/3.1-1 НХП"},{"$f":"'протокол с картинками'!F313","v":6.34},{"$f":"'протокол с картинками'!H313","v":0},{"$f":"'протокол с картинками'!I313","v":0},{"$f":"'протокол с картинками'!J313","v":0},{"$f":"'протокол с картинками'!K313","v":4},{"$f":"'протокол с картинками'!L313","v":2.4}]
[null,null,{"$f":"'протокол с картинками'!C314","v":"Кашпо с под. 12с0.1170/4.1-1 НХП"},{"$f":"'протокол с картинками'!F314","v":5.08},{"$f":"'протокол с картинками'!H314","v":0},{"$f":"'протокол с картинками'!I314","v":0},{"$f":"'протокол с картинками'!J314","v":0},{"$f":"'протокол с картинками'!K314","v":4},{"$f":"'протокол с картинками'!L314","v":1.8}]
[null,null,{"$f":"'протокол с картинками'!C315","v":"Кашпо с под. 12с0.1174/1.1-1 НХП"},{"$f":"'протокол с картинками'!F315","v":13.27},{"$f":"'протокол с картинками'!H315","v":0},{"$f":"'протокол с картинками'!I315","v":0},{"$f":"'протокол с картинками'!J315","v":0},{"$f":"'протокол с картинками'!K315","v":1},{"$f":"'протокол с картинками'!L315","v":8}]
[null,null,{"$f":"'протокол с картинками'!C316","v":"Кашпо с под. 12с0.1174/2.1-1 НХП"},{"$f":"'протокол с картинками'!F316","v":9.6999999999999993},{"$f":"'протокол с картинками'!H316","v":0},{"$f":"'протокол с картинками'!I316","v":0},{"$f":"'протокол с картинками'!J316","v":0},{"$f":"'протокол с картинками'!K316","v":2},{"$f":"'протокол с картинками'!L316","v":5}]
[null,null,{"$f":"'протокол с картинками'!C317","v":"Кашпо с под. 12с0.1174/3.1-1 НХП"},{"$f":"'протокол с картинками'!F317","v":6.34},{"$f":"'протокол с картинками'!H317","v":0},{"$f":"'протокол с картинками'!I317","v":0},{"$f":"'протокол с картинками'!J317","v":0},{"$f":"'протокол с картинками'!K317","v":4},{"$f":"'протокол с картинками'!L317","v":2.4}]
[null,null,{"$f":"'протокол с картинками'!C318","v":"Кашпо с под. 12с0.1174/4.1-1 НХП"},{"$f":"'протокол с картинками'!F318","v":5.08},{"$f":"'протокол с картинками'!H318","v":0},{"$f":"'протокол с картинками'!I318","v":0},{"$f":"'протокол с картинками'!J318","v":0},{"$f":"'протокол с картинками'!K318","v":4},{"$f":"'протокол с картинками'!L318","v":1.8}]
[null,null,{"$f":"'протокол с картинками'!C319","v":"Кашпо с под. 12с0.1179/1.1-1 НХП"},{"$f":"'протокол с картинками'!F319","v":13.27},{"$f":"'протокол с картинками'!H319","v":0},{"$f":"'протокол с картинками'!I319","v":0},{"$f":"'протокол с картинками'!J319","v":0},{"$f":"'протокол с картинками'!K319","v":1},{"$f":"'протокол с картинками'!L319","v":8}]
[null,null,{"$f":"'протокол с картинками'!C320","v":"Кашпо с под. 12с0.1179/2.1-1 НХП"},{"$f":"'протокол с картинками'!F320","v":9.6999999999999993},{"$f":"'протокол с картинками'!H320","v":0},{"$f":"'протокол с картинками'!I320","v":0},{"$f":"'протокол с картинками'!J320","v":0},{"$f":"'протокол с картинками'!K320","v":2},{"$f":"'протокол с картинками'!L320","v":5}]
[null,null,{"$f":"'протокол с картинками'!C321","v":"Кашпо с под. 12с0.1179/3.1-1 НХП"},{"$f":"'протокол с картинками'!F321","v":6.34},{"$f":"'протокол с картинками'!H321","v":0},{"$f":"'протокол с картинками'!I321","v":0},{"$f":"'протокол с картинками'!J321","v":0},{"$f":"'протокол с картинками'!K321","v":4},{"$f":"'протокол с картинками'!L321","v":2.4}]
[null,null,{"$f":"'протокол с картинками'!C322","v":"Кашпо с под. 12с0.1179/4.1-1 НХП"},{"$f":"'протокол с картинками'!F322","v":5.08},{"$f":"'протокол с картинками'!H322","v":0},{"$f":"'протокол с картинками'!I322","v":0},{"$f":"'протокол с картинками'!J322","v":0},{"$f":"'протокол с картинками'!K322","v":4},{"$f":"'протокол с картинками'!L322","v":1.8}]
[null,null,{"$f":"'протокол с картинками'!C323","v":"Кашпо с под. 12с0.1192/1.1-1 НХП"},{"$f":"'протокол с картинками'!F323","v":22.94},{"$f":"'протокол с картинками'!H323","v":0},{"$f":"'протокол с картинками'!I323","v":0},{"$f":"'протокол с картинками'!J323","v":0},{"$f":"'протокол с картинками'!K323","v":1},{"$f":"'протокол с картинками'!L323","v":12.8}]
[null,null,{"$f":"'протокол с картинками'!C324","v":"Кашпо с под. 12с0.1192/2.1-1 НХП"},{"$f":"'протокол с картинками'!F324","v":17.190000000000001},{"$f":"'протокол с картинками'!H324","v":0},{"$f":"'протокол с картинками'!I324","v":0},{"$f":"'протокол с картинками'!J324","v":0},{"$f":"'протокол с картинками'!K324","v":1},{"$f":"'протокол с картинками'!L324","v":9}]
[null,null,{"$f":"'протокол с картинками'!C325","v":"Кашпо с под. 14с0.1273/1.1-1 НХП"},{"$f":"'протокол с картинками'!F325","v":22.94},{"$f":"'протокол с картинками'!H325","v":0},{"$f":"'протокол с картинками'!I325","v":0},{"$f":"'протокол с картинками'!J325","v":0},{"$f":"'протокол с картинками'!K325","v":1},{"$f":"'протокол с картинками'!L325","v":12.8}]
[null,null,{"$f":"'протокол с картинками'!C326","v":"Кашпо с под. 14с0.1273/2.1-1 НХП"},{"$f":"'протокол с картинками'!F326","v":17.190000000000001},{"$f":"'протокол с картинками'!H326","v":0},{"$f":"'протокол с картинками'!I326","v":0},{"$f":"'протокол с картинками'!J326","v":0},{"$f":"'протокол с картинками'!K326","v":1},{"$f":"'протокол с картинками'!L326","v":9}]
[null,null,{"$f":"'протокол с картинками'!C327","v":"Кашпо с под. 14с0.1273/3.1-1 НХП"},{"$f":"'протокол с картинками'!F327","v":12.44},{"$f":"'протокол с картинками'!H327","v":0},{"$f":"'протокол с картинками'!I327","v":0},{"$f":"'протокол с картинками'!J327","v":0},{"$f":"'протокол с картинками'!K327","v":0},{"$f":"'протокол с картинками'!L327","v":0}]
[null,null,{"$f":"'протокол с картинками'!C328","v":"Кашпо с под. 14с0.1274/1.1-1 НХП"},{"$f":"'протокол с картинками'!F328","v":22.94},{"$f":"'протокол с картинками'!H328","v":0},{"$f":"'протокол с картинками'!I328","v":0},{"$f":"'протокол с картинками'!J328","v":0},{"$f":"'протокол с картинками'!K328","v":1},{"$f":"'протокол с картинками'!L328","v":12.8}]
[null,null,{"$f":"'протокол с картинками'!C329","v":"Кашпо с под. 14с0.1274/2.1-1 НХП"},{"$f":"'протокол с картинками'!F329","v":17.190000000000001},{"$f":"'протокол с картинками'!H329","v":0},{"$f":"'протокол с картинками'!I329","v":0},{"$f":"'протокол с картинками'!J329","v":0},{"$f":"'протокол с картинками'!K329","v":1},{"$f":"'протокол с картинками'!L329","v":9}]
[null,null,{"$f":"'протокол с картинками'!C330","v":"Кашпо с под. 14с0.1274/3.1-1 НХП"},{"$f":"'протокол с картинками'!F330","v":12.44},{"$f":"'протокол с картинками'!H330","v":0},{"$f":"'протокол с картинками'!I330","v":0},{"$f":"'протокол с картинками'!J330","v":0},{"$f":"'протокол с картинками'!K330","v":2},{"$f":"'протокол с картинками'!L330","v":6.5}]
[null,null,{"$f":"'протокол с картинками'!C331","v":"Кашпо с под. 14 с0.1285/0.1-1 НХП"},{"$f":"'протокол с картинками'!F331","v":25.55},{"$f":"'протокол с картинками'!H331","v":0},{"$f":"'протокол с картинками'!I331","v":0},{"$f":"'протокол с картинками'!J331","v":0},{"$f":"'протокол с картинками'!K331","v":1},{"$f":"'протокол с картинками'!L331","v":13.5}]
[null,null,{"$f":"'протокол с картинками'!C332","v":"Кашпо с под. 14с0.1251/1.1-1 НХП"},{"$f":"'протокол с картинками'!F332","v":14.52},{"$f":"'протокол с картинками'!H332","v":0},{"$f":"'протокол с картинками'!I332","v":0},{"$f":"'протокол с картинками'!J332","v":0},{"$f":"'протокол с картинками'!K332","v":1},{"$f":"'протокол с картинками'!L332","v":8}]
[null,null,{"$f":"'протокол с картинками'!C333","v":"Кашпо с под. 14с0.1251/2.1-1 НХП"},{"$f":"'протокол с картинками'!F333","v":10.75},{"$f":"'протокол с картинками'!H333","v":0},{"$f":"'протокол с картинками'!I333","v":0},{"$f":"'протокол с картинками'!J333","v":0},{"$f":"'протокол с картинками'!K333","v":2},{"$f":"'протокол с картинками'!L333","v":5}]
[null,null,{"$f":"'протокол с картинками'!C334","v":"Кашпо с под. 14с0.1252/1.1-1 НХП"},{"$f":"'протокол с картинками'!F334","v":14.52},{"$f":"'протокол с картинками'!H334","v":0},{"$f":"'протокол с картинками'!I334","v":0},{"$f":"'протокол с картинками'!J334","v":0},{"$f":"'протокол с картинками'!K334","v":1},{"$f":"'протокол с картинками'!L334","v":8}]
[null,null,{"$f":"'протокол с картинками'!C335","v":"Кашпо с под. 14с0.1252/2.1-1 НХП"},{"$f":"'протокол с картинками'!F335","v":10.75},{"$f":"'протокол с картинками'!H335","v":0},{"$f":"'протокол с картинками'!I335","v":0},{"$f":"'протокол с картинками'!J335","v":0},{"$f":"'протокол с картинками'!K335","v":2},{"$f":"'протокол с картинками'!L335","v":5}]
[null,null,{"$f":"'протокол с картинками'!C336","v":"Кашпо с под. 14с0.1275/1.1-1 НХП"},{"$f":"'протокол с картинками'!F336","v":9.2799999999999994},{"$f":"'протокол с картинками'!H336","v":0},{"$f":"'протокол с картинками'!I336","v":0},{"$f":"'протокол с картинками'!J336","v":0},{"$f":"'протокол с картинками'!K336","v":2},{"$f":"'протокол с картинками'!L336","v":3.4}]
[null,null,{"$f":"'протокол с картинками'!C337","v":"Кашпо с под. 14с0.1275/2.1-1 НХП"},{"$f":"'протокол с картинками'!F337","v":6.06},{"$f":"'протокол с картинками'!H337","v":0},{"$f":"'протокол с картинками'!I337","v":0},{"$f":"'протокол с картинками'!J337","v":0},{"$f":"'протокол с картинками'!K337","v":4},{"$f":"'протокол с картинками'!L337","v":1.7}]
[null,null,{"$f":"'протокол с картинками'!C338","v":"Кашпо с под. 14с0.1275/3.1-1 НХП"},{"$f":"'протокол с картинками'!F338","v":4.22},{"$f":"'протокол с картинками'!H338","v":0},{"$f":"'протокол с картинками'!I338","v":0},{"$f":"'протокол с картинками'!J338","v":0},{"$f":"'протокол с картинками'!K338","v":6},{"$f":"'протокол с картинками'!L338","v":0.9}]
[null,null,{"$f":"'протокол с картинками'!C339","v":"Кашпо с под. 14с0.1276/1.1-1 НХП"},{"$f":"'протокол с картинками'!F339","v":9.2799999999999994},{"$f":"'протокол с картинками'!H339","v":0},{"$f":"'протокол с картинками'!I339","v":0},{"$f":"'протокол с картинками'!J339","v":0},{"$f":"'протокол с картинками'!K339","v":2},{"$f":"'протокол с картинками'!L339","v":3.4}]
[null,null,{"$f":"'протокол с картинками'!C340","v":"Кашпо с под. 14с0.1276/2.1-1 НХП"},{"$f":"'протокол с картинками'!F340","v":6.06},{"$f":"'протокол с картинками'!H340","v":0},{"$f":"'протокол с картинками'!I340","v":0},{"$f":"'протокол с картинками'!J340","v":0},{"$f":"'протокол с картинками'!K340","v":4},{"$f":"'протокол с картинками'!L340","v":1.7}]
[null,null,{"$f":"'протокол с картинками'!C341","v":"Кашпо с под. 14с0.1276/3.1-1 НХП"},{"$f":"'протокол с картинками'!F341","v":4.22},{"$f":"'протокол с картинками'!H341","v":0},{"$f":"'протокол с картинками'!I341","v":0},{"$f":"'протокол с картинками'!J341","v":0},{"$f":"'протокол с картинками'!K341","v":6},{"$f":"'протокол с картинками'!L341","v":0.9}]
[null,null,{"$f":"'протокол с картинками'!C342","v":"Кашпо с под. 14с0.1277/1.1-1 НХП"},{"$f":"'протокол с картинками'!F342","v":9.2799999999999994},{"$f":"'протокол с картинками'!H342","v":0},{"$f":"'протокол с картинками'!I342","v":0},{"$f":"'протокол с картинками'!J342","v":0},{"$f":"'протокол с картинками'!K342","v":2},{"$f":"'протокол с картинками'!L342","v":3.4}]
[null,null,{"$f":"'протокол с картинками'!C343","v":"Кашпо с под. 14с0.1277/2.1-1 НХП"},{"$f":"'протокол с картинками'!F343","v":6.06},{"$f":"'протокол с картинками'!H343","v":0},{"$f":"'протокол с картинками'!I343","v":0},{"$f":"'протокол с картинками'!J343","v":0},{"$f":"'протокол с картинками'!K343","v":4},{"$f":"'протокол с картинками'!L343","v":1.7}]
[null,null,{"$f":"'протокол с картинками'!C344","v":"Кашпо с под. 14с0.1277/3.1-1 НХП"},{"$f":"'протокол с картинками'!F344","v":4.22},{"$f":"'протокол с картинками'!H344","v":0},{"$f":"'протокол с картинками'!I344","v":0},{"$f":"'протокол с картинками'!J344","v":0},{"$f":"'протокол с картинками'!K344","v":6},{"$f":"'протокол с картинками'!L344","v":0.9}]
[null,null,{"$f":"'протокол с картинками'!C345","v":"Кашпо с под. 14с0.1278/1.1-1 НХП"},{"$f":"'протокол с картинками'!F345","v":9.2799999999999994},{"$f":"'протокол с картинками'!H345","v":0},{"$f":"'протокол с картинками'!I345","v":0},{"$f":"'протокол с картинками'!J345","v":0},{"$f":"'протокол с картинками'!K345","v":2},{"$f":"'протокол с картинками'!L345","v":3.4}]
[null,null,{"$f":"'протокол с картинками'!C346","v":"Кашпо с под. 14с0.1278/2.1-1 НХП"},{"$f":"'протокол с картинками'!F346","v":6.06},{"$f":"'протокол с картинками'!H346","v":0},{"$f":"'протокол с картинками'!I346","v":0},{"$f":"'протокол с картинками'!J346","v":0},{"$f":"'протокол с картинками'!K346","v":4},{"$f":"'протокол с картинками'!L346","v":1.7}]
[null,null,{"$f":"'протокол с картинками'!C347","v":"Кашпо с под. 14с0.1278/3.1-1 НХП"},{"$f":"'протокол с картинками'!F347","v":4.22},{"$f":"'протокол с картинками'!H347","v":0},{"$f":"'протокол с картинками'!I347","v":0},{"$f":"'протокол с картинками'!J347","v":0},{"$f":"'протокол с картинками'!K347","v":6},{"$f":"'протокол с картинками'!L347","v":0.9}]
[null,null,{"$f":"'протокол с картинками'!C348","v":"Кашпо с под. 14с0.1305/1.1-1 НХП"},{"$f":"'протокол с картинками'!F348","v":9.2799999999999994},{"$f":"'протокол с картинками'!H348","v":0},{"$f":"'протокол с картинками'!I348","v":0},{"$f":"'протокол с картинками'!J348","v":0},{"$f":"'протокол с картинками'!K348","v":2},{"$f":"'протокол с картинками'!L348","v":3.4}]
[null,null,{"$f":"'протокол с картинками'!C349","v":"Кашпо с под. 14с0.1305/2.1-1 НХП"},{"$f":"'протокол с картинками'!F349","v":6.06},{"$f":"'протокол с картинками'!H349","v":0},{"$f":"'протокол с картинками'!I349","v":0},{"$f":"'протокол с картинками'!J349","v":0},{"$f":"'протокол с картинками'!K349","v":4},{"$f":"'протокол с картинками'!L349","v":1.7}]
[null,null,{"$f":"'протокол с картинками'!C350","v":"Кашпо с под. 14с0.1305/3.1-1 НХП"},{"$f":"'протокол с картинками'!F350","v":4.22},{"$f":"'протокол с картинками'!H350","v":0},{"$f":"'протокол с картинками'!I350","v":0},{"$f":"'протокол с картинками'!J350","v":0},{"$f":"'протокол с картинками'!K350","v":6},{"$f":"'протокол с картинками'!L350","v":0.9}]
[null,null,{"$f":"'протокол с картинками'!C351","v":0},{"$f":"'протокол с картинками'!F351","v":0},{"$f":"'протокол с картинками'!H351","v":0},{"$f":"'протокол с картинками'!I351","v":0},{"$f":"'протокол с картинками'!J351","v":0},{"$f":"'протокол с картинками'!K351","v":0},{"$f":"'протокол с картинками'!L351","v":0}]
[null,null,{"$f":"'протокол с картинками'!C352","v":0},{"$f":"'протокол с картинками'!F352","v":0},{"$f":"'протокол с картинками'!H352","v":0},{"$f":"'протокол с картинками'!I352","v":0},{"$f":"'протокол с картинками'!J352","v":0},{"$f":"'протокол с картинками'!K352","v":0},{"$f":"'протокол с картинками'!L352","v":0}]
[null,null,{"$f":"'протокол с картинками'!C353","v":0},{"$f":"'протокол с картинками'!F353","v":0},{"$f":"'протокол с картинками'!H353","v":0},{"$f":"'протокол с картинками'!I353","v":0},{"$f":"'протокол с картинками'!J353","v":0},{"$f":"'протокол с картинками'!K353","v":0},{"$f":"'протокол с картинками'!L353","v":0}]
[null,null,{"$f":"'протокол с картинками'!C354","v":0},{"$f":"'протокол с картинками'!F354","v":0},{"$f":"'протокол с картинками'!H354","v":0},{"$f":"'протокол с картинками'!I354","v":0},{"$f":"'протокол с картинками'!J354","v":0},{"$f":"'протокол с картинками'!K354","v":0},{"$f":"'протокол с картинками'!L354","v":0}]
[null,null,{"$f":"'протокол с картинками'!C355","v":0},{"$f":"'протокол с картинками'!F355","v":0},{"$f":"'протокол с картинками'!H355","v":0},{"$f":"'протокол с картинками'!I355","v":0},{"$f":"'протокол с картинками'!J355","v":0},{"$f":"'протокол с картинками'!K355","v":0},{"$f":"'протокол с картинками'!L355","v":0}]
[null,null,{"$f":"'протокол с картинками'!C356","v":0},{"$f":"'протокол с картинками'!F356","v":0},{"$f":"'протокол с картинками'!H356","v":0},{"$f":"'протокол с картинками'!I356","v":0},{"$f":"'протокол с картинками'!J356","v":0},{"$f":"'протокол с картинками'!K356","v":0},{"$f":"'протокол с картинками'!L356","v":0}]
[null,null,{"$f":"'протокол с картинками'!C357","v":0},{"$f":"'протокол с картинками'!F357","v":0},{"$f":"'протокол с картинками'!H357","v":0},{"$f":"'протокол с картинками'!I357","v":0},{"$f":"'протокол с картинками'!J357","v":0},{"$f":"'протокол с картинками'!K357","v":0},{"$f":"'протокол с картинками'!L357","v":0}]
[null,null,{"$f":"'протокол с картинками'!C358","v":0},{"$f":"'протокол с картинками'!F358","v":0},{"$f":"'протокол с картинками'!H358","v":0},{"$f":"'протокол с картинками'!I358","v":0},{"$f":"'протокол с картинками'!J358","v":0},{"$f":"'протокол с картинками'!K358","v":0},{"$f":"'протокол с картинками'!L358","v":0}]
[null,null,{"$f":"'протокол с картинками'!C359","v":0},{"$f":"'протокол с картинками'!F359","v":0},{"$f":"'протокол с картинками'!H359","v":0},{"$f":"'протокол с картинками'!I359","v":0},{"$f":"'протокол с картинками'!J359","v":0},{"$f":"'протокол с картинками'!K359","v":0},{"$f":"'протокол с картинками'!L359","v":0}]
[null,null,{"$f":"'протокол с картинками'!C360","v":0},{"$f":"'протокол с картинками'!F360","v":0},{"$f":"'протокол с картинками'!H360","v":0},{"$f":"'протокол с картинками'!I360","v":0},{"$f":"'протокол с картинками'!J360","v":0},{"$f":"'протокол с картинками'!K360","v":0},{"$f":"'протокол с картинками'!L360","v":0}]
[null,null,{"$f":"'протокол с картинками'!C361","v":0},{"$f":"'протокол с картинками'!F361","v":0},{"$f":"'протокол с картинками'!H361","v":0},{"$f":"'протокол с картинками'!I361","v":0},{"$f":"'протокол с картинками'!J361","v":0},{"$f":"'протокол с картинками'!K361","v":0},{"$f":"'протокол с картинками'!L361","v":0}]
[null,null,{"$f":"'протокол с картинками'!C362","v":0},{"$f":"'протокол с картинками'!F362","v":0},{"$f":"'протокол с картинками'!H362","v":0},{"$f":"'протокол с картинками'!I362","v":0},{"$f":"'протокол с картинками'!J362","v":0},{"$f":"'протокол с картинками'!K362","v":0},{"$f":"'протокол с картинками'!L362","v":0}]
[null,null,{"$f":"'протокол с картинками'!C363","v":0},{"$f":"'протокол с картинками'!F363","v":0},{"$f":"'протокол с картинками'!H363","v":0},{"$f":"'протокол с картинками'!I363","v":0},{"$f":"'протокол с картинками'!J363","v":0},{"$f":"'протокол с картинками'!K363","v":0},{"$f":"'протокол с картинками'!L363","v":0}]
[null,null,{"$f":"'протокол с картинками'!C364","v":0},{"$f":"'протокол с картинками'!F364","v":0},{"$f":"'протокол с картинками'!H364","v":0},{"$f":"'протокол с картинками'!I364","v":0},{"$f":"'протокол с картинками'!J364","v":0},{"$f":"'протокол с картинками'!K364","v":0},{"$f":"'протокол с картинками'!L364","v":0}]
[null,null,{"$f":"'протокол с картинками'!C365","v":0},{"$f":"'протокол с картинками'!F365","v":0},{"$f":"'протокол с картинками'!H365","v":0},{"$f":"'протокол с картинками'!I365","v":0},{"$f":"'протокол с картинками'!J365","v":0},{"$f":"'протокол с картинками'!K365","v":0},{"$f":"'протокол с картинками'!L365","v":0}]
[null,null,{"$f":"'протокол с картинками'!C366","v":0},{"$f":"'протокол с картинками'!F366","v":0},{"$f":"'протокол с картинками'!H366","v":0},{"$f":"'протокол с картинками'!I366","v":0},{"$f":"'протокол с картинками'!J366","v":0},{"$f":"'протокол с картинками'!K366","v":0},{"$f":"'протокол с картинками'!L366","v":0}]
[null,null,{"$f":"'протокол с картинками'!C367","v":0},{"$f":"'протокол с картинками'!F367","v":0},{"$f":"'протокол с картинками'!H367","v":0},{"$f":"'протокол с картинками'!I367","v":0},{"$f":"'протокол с картинками'!J367","v":0},{"$f":"'протокол с картинками'!K367","v":0},{"$f":"'протокол с картинками'!L367","v":0}]
[null,null,{"$f":"'протокол с картинками'!C368","v":0},{"$f":"'протокол с картинками'!F368","v":0},{"$f":"'протокол с картинками'!H368","v":0},{"$f":"'протокол с картинками'!I368","v":0},{"$f":"'протокол с картинками'!J368","v":0},{"$f":"'протокол с картинками'!K368","v":0},{"$f":"'протокол с картинками'!L368","v":0}]

{"sheet":"протокол с картинками","index":1,"n_rows":350,"n_cols":13,"rows_kept":350,"cut":false,"hidden":false,"merged":[[1,11,2,11],[1,10,2,10],[1,7,1,9],[1,5,2,5],[1,6,2,6],[187,4,190,4],[191,4,194,4],[195,4,198,4],[140,4,143,4],[144,4,147,4],[148,4,151,4],[152,4,155,4],[97,4,100,4],[176,4,179,4],[156,4,159,4],[160,4,163,4],[164,4,167,4],[168,4,171,4],[172,4,175,4],[68,4,71,4],[33,4,35,4],[29,4,32,4],[25,4,28,4],[21,4,24,4],[347,4,349,4],[344,4,346,4],[331,4,332,4],[341,4,343,4],[335,4,337,4],[338,4,340,4],[333,4,334,4],[246,4,248,4],[270,4,272,4],[267,4,269,4],[264,4,266,4],[274,4,277,4],[258,4,260,4],[255,4,257,4],[322,4,323,4],[306,4,309,4],[298,4,301,4],[327,4,329,4],[287,4,289,4],[324,4,326,4],[294,4,297,4],[1,0,2,0],[310,4,313,4],[318,4,321,4],[314,4,317,4],[1,2,2,2],[1,4,2,4],[302,4,305,4],[290,4,293,4],[278,4,280,4],[281,4,283,4],[284,4,286,4],[252,4,254,4],[249,4,251,4],[261,4,263,4],[233,4,235,4],[97,1,100,1],[140,1,143,1],[144,1,147,1],[148,1,151,1],[51,4,53,4],[121,4,122,4],[101,4,104,4],[54,4,56,4],[239,4,241,4],[242,4,245,4],[208,4,211,4],[212,4,215,4],[216,4,219,4],[220,4,223,4],[224,4,226,4],[227,4,229,4],[230,4,232,4],[236,4,238,4],[199,4,202,4],[203,4,206,4],[180,4,182,4],[183,4,186,4],[86,4,88,4],[72,4,73,4],[74,4,76,4],[77,4,79,4],[80,4,82,4],[83,4,85,4],[136,4,139,4],[132,4,135,4],[128,4,131,4],[172,1,175,1],[176,1,179,1],[152,1,155,1],[156,1,159,1],[160,1,163,1],[164,1,167,1],[168,1,171,1],[36,4,39,4],[40,4,43,4],[44,4,47,4],[48,4,50,4],[57,4,59,4],[61,4,63,4],[132,1,135,1],[128,1,131,1],[1,1,2,1],[136,1,139,1],[124,4,127,4],[109,4,112,4],[105,4,108,4],[105,1,108,1],[109,1,112,1],[113,1,116,1],[124,1,127,1],[21,1,24,1],[25,1,28,1],[17,4,20,4],[13,4,16,4],[17,1,20,1],[9,4,12,4],[5,4,8,4],[13,1,16,1],[9,1,12,1],[5,1,8,1]]}
[null,null,null,null,null,null,null,{"$f":"SUM(H4:H350)","v":0},{"$f":"SUM(I4:I350)","v":0},{"$f":"SUM(J4:J350)","v":0}]
["№ п/п",null,"Наименование  товара",null,null,"Цена прейскуранта.",null,"для заказа",null,null,"Кол-во в упаковке","Размер"]
[null,null,null,"штрихкод",null,null,null,"кол-во,шт","стоимость","кол-во коробок"]
[1,null,"Кашпо с под. 21с0.1459/1.1-1 НХП ",4811737048618,null,10.25,null,null,{"$f":"H4*F4","v":0},{"$f":"H4/K4","v":0},2,3,"новинка"]
[2,null,"Кашпо с под. 21с0.1459/2.1-1 НХП ",4811737048625,null,10.25,null,null,0,0,2,3,"новинка"]
[3,null,"Кашпо с под. 21с0.1458/1.1-1 НХП ",4811737048571,null,14.62,null,null,0,0,1,8,"новинка"]
[4,null,"Кашпо с под. 21с0.1458/2.1-1 НХП ",4811737048588,null,10.69,null,null,0,0,2,5,"новинка"]
[5,null,"Кашпо с под. 21с0.1458/3.1-1 НХП ",4811737048595,null,6.99,null,null,0,0,4,2.4,"новинка"]
[6,null,"Кашпо с под. 21с0.1458/4.1-1 НХП ",4811737048601,null,5.6,null,null,0,0,4,1.8,"новинка"]
[7,null,"Кашпо с под. 21с0.1457/1.1-1 НХП ",4811737048533,null,14.62,null,null,0,0,1,8,"новинка"]
[8,null,"Кашпо с под. 21с0.1457/2.1-1 НХП ",4811737048540,null,10.69,null,null,0,0,2,5,"новинка"]
[9,null,"Кашпо с под. 21с0.1457/3.1-1 НХП ",4811737048557,null,6.99,null,null,0,0,4,2.4,"новинка"]
[10,null,"Кашпо с под. 21с0.1457/4.1-1 НХП ",4811737048564,null,5.6,null,null,0,0,4,1.8,"новинка"]
[11,null,"Кашпо с под. 21с0.1456/1.1-1 НХП ",4811737048496,null,14.62,null,null,0,0,1,8,"новинка"]
[12,null,"Кашпо с под. 21с0.1456/2.1-1 НХП ",4811737048502,null,10.69,null,null,0,0,2,5,"новинка"]
[13,null,"Кашпо с под. 21с0.1456/3.1-1 НХП ",4811737048519,null,6.99,null,null,0,0,4,2.4,"новинка"]
[14,null,"Кашпо с под. 21с0.1456/4.1-1 НХП ",4811737048526,null,5.6,null,null,0,0,4,1.8,"новинка"]
[15,null,"Кашпо с под. 21с0.1455/1.1-1 НХП ",4811737048458,null,14.62,null,null,0,0,1,8,"новинка"]
[16,null,"Кашпо с под. 21с0.1455/2.1-1 НХП ",4811737048465,null,10.69,null,null,0,0,2,5,"новинка"]
[17,null,"Кашпо с под. 21с0.1455/3.1-1 НХП ",4811737048472,null,6.99,null,null,0,0,4,2.4,"новинка"]
[18,null,"Кашпо с под. 21с0.1455/4.1-1 НХП ",4811737048489,null,5.6,null,null,0,0,4,1.8,"новинка"]
[19,"Белоеое серебро","Кашпо с под. 20с0.1452/1.1-1 НХП ",4811737048397,null,14.62,null,null,{"$f":"H22*F22","v":0},{"$f":"H22/K22","v":0},1,8]
[20,null,"Кашпо с под. 20с0.1452/2.1-1 НХП ",4811737048403,null,10.69,null,null,0,0,2,5]
[21,null,"Кашпо с под. 20с0.1452/3.1-1 НХП ",4811737048410,null,6.99,null,null,0,0,4,2.4]
[22,null,"Кашпо с под. 20с0.1452/4.1-1 НХП ",4811737048427,null,5.6,null,null,0,0,4,1.8]
[23," Светлый беж","Кашпо с под. 20с0.1451/1.1-1 НХП ",4811737048359,null,14.62,null,null,0,{"$f":"H26/K26","v":0},1,8]
[24,null,"Кашпо с под. 20с0.1451/2.1-1 НХП ",4811737048366,null,10.69,null,null,0,0,2,5]
[25,null,"Кашпо с под. 20с0.1451/3.1-1 НХП ",4811737048373,null,6.99,null,null,0,0,4,2.4]
[26,null,"Кашпо с под. 20с0.1451/4.1-1 НХП ",4811737048380,null,5.6,null,null,0,0,4,1.8]
[27,null,"Кашпо с под. 20с0.1450/1.1-1 НХП ",4811737048311,null,14.62,null,null,0,{"$f":"H30/K30","v":0},1,8]
[28,null,"Кашпо с под. 20с0.1450/2.1-1 НХП ",4811737048328,null,10.69,null,null,0,0,2,5]
[29,null,"Кашпо с под. 20с0.1450/3.1-1 НХП ",4811737048335,null,6.99,null,null,0,0,4,2.4]
[30,null,"Кашпо с под. 20с0.1450/4.1-1 НХП ",4811737048342,null,5.6,null,null,0,0,4,1.8]
[31,null,"Кашпо с под.19с0.1429/1.1-1 НХП ",4811737047710,null,27.72,null,null,0,{"$f":"H34/K34","v":0},1,12.8]
[32,null,"Кашпо с под.19с0.1429/2.1-1 НХП ",4811737047727,null,20.79,null,null,0,{"$f":"H35/K35","v":0},1,9]
[33,null,"Кашпо с под.19с0.1429/3.1-1 НХП ",4811737048342,null,15.07,null,null,0,0,2,6.5]
[34,null,"Кашпо с под. 20с0.1439/1.1-1 НХП ",4811737047956,null,13.93,null,null,0,{"$f":"H37/K37","v":0},1,8]
[35,null,"Кашпо с под. 20с0.1439/2.1-1 НХП ",4811737047963,null,10.19,null,null,0,0,2,5]
[36,null,"Кашпо с под. 20с0.1439/3.1-1 НХП ",4811737047970,null,6.66,null,null,0,0,4,2.4]
[37,null,"Кашпо с под. 20с0.1439/4.1-1 НХП ",4811737047987,null,5.34,null,null,0,0,4,1.8]
[38,null,"Кашпо с под. 20с0.1440/1.1-1 НХП ",4811737047994,null,13.93,null,null,0,0,1,8]
[39,null,"Кашпо с под. 20с0.1440/2.1-1 НХП ",4811737048007,null,10.19,null,null,0,0,2,5]
[40,null,"Кашпо с под. 20с0.1440/3.1-1 НХП ",4811737048014,null,6.66,null,null,0,0,4,2.4]
[41,null,"Кашпо с под. 20с0.1440/4.1-1 НХП ",4811737048021,null,5.34,null,null,0,0,4,1.8]
[42,null,"Кашпо с под. 20с0.1441/1.1-1 НХП ",4811737048038,null,13.93,null,null,0,0,1,8]
[43,null,"Кашпо с под. 20с0.1441/2.1-1 НХП ",4811737048045,null,10.19,null,null,0,0,2,5]
[44,null,"Кашпо с под. 20с0.1441/3.1-1 НХП ",4811737048052,null,6.66,null,null,0,0,4,2.4]
[45,null,"Кашпо с под. 20с0.1441/4.1-1 НХП ",4811737048069,null,5.34,null,null,0,0,4,1.8]
[46,null,"Кашпо с под. 20с0.1442/1.1-1 НХП ",4811737048076,null,10.210000000000001,null,null,0,{"$f":"H49/K49","v":0},2,3.4]
[47,null,"Кашпо с под. 20с0.1442/2.1-1 НХП ",4811737048083,null,6.67,null,null,0,0,4,1.7]
[48,null,"Кашпо с под. 20с0.1442/3.1-1 НХП ",4811737048090,null,4.95,null,null,0,0,6,0.9]
[49,null,"Кашпо с под. 20с0.1443/1.1-1 НХП ",4811737048106,null,10.210000000000001,null,null,0,0,2,3.4]
[50,null,"Кашпо с под. 20с0.1443/2.1-1 НХП ",4811737048113,null,6.67,null,null,0,0,4,1.7]
[51,null,"Кашпо с под. 20с0.1443/3.1-1 НХП ",4811737048120,null,4.95,null,null,0,0,6,0.9]
[52,null,"Кашпо с под. 20с0.1444/1.1-1 НХП ",4811737048137,null,10.210000000000001,null,null,0,0,2,3.4]
[53,null,"Кашпо с под. 20с0.1444/2.1-1 НХП ",4811737048144,null,6.67,null,null,0,0,4,1.7]
[54,null,"Кашпо с под. 20с0.1444/3.1-1 НХП ",4811737048151,null,4.95,null,null,0,0,6,0.9]
[55,null,"Кашпо с под. 20с0.1445/1.1-1 НХП ",4811737048168,null,10.210000000000001,null,null,0,0,2,3.4]
[56,null,"Кашпо с под. 20с0.1445/2.1-1 НХП ",4811737048175,null,6.67,null,null,0,0,4,1.7]
[57,null,"Кашпо с под. 20с0.1445/3.1-1 НХП ",4811737048182,null,4.95,null,null,0,0,6,0.9]
[58,null,"Кашпо с под. 20с0.1446/0.1 НХП ",4811737048199,null,28.19,null,null,0,0,1,13.5]
[59,null,"Кашпо с под. 20с0.1447/1.1 НХП ",4811737048205,null,24.09,null,null,0,0,1,12.7]
[60,null,"Кашпо с под. 20с0.1447/2.1 НХП ",4811737048212,null,18.05,null,null,0,0,1,8.1999999999999993]
[61,null,"Кашпо с под. 20с0.1447/3.1 НХП ",4811737048229,null,13.06,null,null,0,0,2,6]
[62,null,"Кашпо с под. 20с0.1448/1.1-1 НХП ",4811737048236,null,4.22,null,null,0,0,8,0.51]
[63,null,"Кашпо с под. 20с0.1448/2.1-1 НХП ",4811737048243,null,4.22,null,null,0,0,8,0.51]
[64,null,"Кашпо с под. 20с0.1448/3.1-1 НХП ",4811737048250,null,4.22,null,null,0,0,8,0.51]
[65,null,"Кашпо с под. 20с0.1448/4.1-1 НХП ",4811737048267,null,4.22,null,null,0,0,8,0.51]
[66,null,"Кашпо с под. 20с0.1449/1.1-1 НХП ",4811737048274,null,13.93,null,null,0,0,1,8]
[67,null,"Кашпо с под. 20с0.1449/2.1-1 НХП ",4811737048281,null,10.19,null,null,0,0,2,5]
[68,null,"Кашпо с под. 20с0.1449/3.1-1 НХП ",4811737048298,null,6.66,null,null,0,0,4,2.4]
[69,null,"Кашпо с под. 20с0.1449/4.1-1 НХП ",4811737048304,null,5.34,null,null,0,0,4,1.8]
[70,null,"Кашпо с под. 19с0.1423/1.1-1 НХП ",4811737047536,null,33.880000000000003,null,null,0,0,1,15]
[771,null,"Кашпо с под. 19с0.1423/2.1-1 НХП ",4811737047543,null,27.61,null,null,0,0,1,10]
[72,null,"Кашпо с под. 19с0.1424/1.1-1 НХП ",4811737047550,null,17.05,null,null,0,0,1,8]
[73,null,"Кашпо с под. 19с0.1424/2.1-1 НХП ",4811737047567,null,12.65,null,null,0,0,2,5]
[74,null,"Кашпо с под. 19с0.1424/4.1-1 НХП ",4811737047574,null,7.59,null,null,0,0,4,1.8]
[75,null,"Кашпо с под. 19с0.1425/1.1-1 НХП ",4811737047581,null,17.05,null,null,0,0,1,8]
[76,null,"Кашпо с под. 19с0.1425/2.1-1 НХП ",4811737047598,null,12.65,null,null,0,0,2,5]
[77,null,"Кашпо с под. 19с0.1425/4.1-1 НХП ",4811737047604,null,7.59,null,null,0,0,4,1.8]
[78,null,"Кашпо с под. 19с0.1426/1.1-1 НХП ",4811737047611,null,17.05,null,null,0,0,1,8]
[79,null,"Кашпо с под. 19с0.1426/2.1-1 НХП ",4811737047628,null,12.65,null,null,0,0,2,5]
[80,null,"Кашпо с под. 19с0.1426/4.1-1 НХП ",4811737047635,null,7.59,null,null,0,0,4,1.8]
[81,null,"Кашпо с под. 19с0.1427/1.1-1 НХП ",4811737047642,null,17.05,null,null,0,0,1,8]
[82,null,"Кашпо с под. 19с0.1427/2.1-1 НХП ",4811737047659,null,12.65,null,null,0,0,2,5]
[83,null,"Кашпо с под. 19с0.1427/4.1-1 НХП ",4811737047666,null,7.59,null,null,{"$f":"H86*F86","v":0},{"$f":"H86/K86","v":0},4,1.8]
[84,null,"Кашпо с под. 19с0.1428/1.1-1 НХП ",4811737047673,null,17.05,null,null,0,0,1,8]
[85,null,"Кашпо с под. 19с0.1428/2.1-1 НХП ",4811737047680,null,12.65,null,null,0,0,2,5]
[86,null,"Кашпо с под. 19с0.1428/4.1-1 НХП ",4811737047697,null,7.59,null,null,0,{"$f":"H89/K89","v":0},4,1.8]
[87,null,"Кашпо с под. 19с0.1420/1.1-1 НХП ",4811737047703,null,13.93,null,null,0,{"$f":"H90/K90","v":0},1,8]
[88,null,"Кашпо с под. 19с0.1420/2.1-1 НХП ",4811737047444,null,10.19,null,null,0,0,2,5]
[89,null,"Кашпо с под. 19с0.1420/3.1-1 НХП ",4811737047451,null,6.66,null,null,0,0,4,2.4]
[90,null,"Кашпо с под. 19с0.1420/4.1-1 НХП ",4811737047468,null,5.34,null,null,0,0,4,1.8]
[91,null,"Кашпо с под. 19с0.1421/1.1-1 НХП ",4811737047475,null,13.93,null,null,0,0,1,8]
[92,null,"Кашпо с под. 19с0.1421/2.1-1 НХП ",4811737047482,null,10.19,null,null,0,0,2,5]
[93,null,"Кашпо с под. 19с0.1421/3.1-1 НХП ",4811737047499,null,6.66,null,null,0,0,4,2.4]
[94,null,"Кашпо с под. 19с0.1421/4.1-1 НХП ",4811737047505,null,5.34,null,null,0,0,4,1.8]
[95,null,"Кашпо с под. 19с0.1417/1.1-1 НХП ",4811737047321,null,17.05,null,null,0,{"$f":"H98/K98","v":0},1,8]
[96,null,"Кашпо с под. 19с0.1417/2.1-1 НХП ",4811737047338,null,12.65,null,null,0,0,2,5]
[97,null,"Кашпо с под. 19с0.1417/3.1-1 НХП ",4811737047345,null,9.1300000000000008,null,null,0,0,4,2.4]
[98,null,"Кашпо с под. 19с0.1417/4.1-1 НХП ",4811737047352,null,7.59,null,null,0,0,4,1.8]
[99,null,"Кашпо с под. 19с0.1418/1.1-1 НХП ",4811737047369,null,17.05,null,null,0,{"$f":"H102/K102","v":0},1,8]
[100,null,"Кашпо с под. 19с0.1418/2.1-1 НХП ",4811737047376,null,12.65,null,null,0,0,2,5]
[101,null,"Кашпо с под. 19с0.1418/3.1-1 НХП ",4811737047383,null,9.1300000000000008,null,null,0,0,4,2.4]
[102,null,"Кашпо с под. 19с0.1418/4.1-1 НХП ",4811737047390,null,7.59,null,null,0,0,4,1.8]
[103,null,"Кашпо с под. 18с0.1407/1.1-1 НХП ",4811737047055,null,14.62,null,null,0,{"$f":"H106/K106","v":0},1,8]
[104,null,"Кашпо с под. 18с0.1407/2.1-1 НХП ",4811737047062,null,10.69,null,null,0,0,2,5]
[105,null,"Кашпо с под. 18с0.1407/3.1-1 НХП ",4811737047079,null,6.99,null,null,0,0,4,2.4]
[106,null,"Кашпо с под. 18с0.1407/4.1-1 НХП ",4811737047086,null,5.6,null,null,0,0,4,1.8]
[107,null,"Кашпо с под. 18с0.1402/1.1-1 НХП ",4811737046904,null,15.69,null,null,0,{"$f":"H110/K110","v":0},1,8]
[108,null,"Кашпо с под. 18с0.1402/2.1-1 НХП ",4811737046911,null,11.61,null,null,0,0,2,5]
[109,null,"Кашпо с под. 18с0.1402/3.1-1 НХП ",4811737046928,null,8.36,null,null,0,0,4,2.4]
[110,null,"Кашпо с под. 18с0.1402/4.1-1 НХП ",4811737046935,null,6.92,null,null,0,0,4,1.8]
[111,null,"Кашпо с под. 18с0.1403/1.1-1 НХП ",4811737046942,null,13.93,null,null,0,{"$f":"H114/K114","v":0},1,8]
[112,null,"Кашпо с под. 18с0.1403/2.1-1 НХП ",4811737046959,null,10.19,null,null,0,0,2,5]
[113,null,"Кашпо с под. 18с0.1403/3.1-1 НХП ",4811737046966,null,6.66,null,null,0,0,4,2.4]
[114,null,"Кашпо с под. 18с0.1403/4.1-1 НХП ",4811737046973,null,5.34,null,null,0,0,4,1.8]
[115,null,"Кашпо с под. 18с0.1404/1.1-1 НХП ",4811737046980,null,13.93,null,null,0,0,1,8]
[116,null,"Кашпо с под. 18с0.1404/2.1-1 НХП ",4811737046997,null,10.19,null,null,0,0,2,5]
[117,null,"Кашпо с под. 18с0.1404/3.1-1 НХП ",4811737047000,null,6.66,null,null,0,0,4,2.4]
[118,null,"Кашпо с под. 18с0.1404/4.1-1 НХП ",4811737047017,null,5.34,null,null,0,0,4,1.8]
[119,null,"Кашпо с под. 18с0.1405/1.1-1 НХП ",4811737047024,null,33.880000000000003,null,null,0,0,1,13.5]
[120,null,"Кашпо с под. 18с0.1405/2.1-1 НХП ",4811737047031,null,27.61,null,null,0,0,1,10]
[121,null,"Кашпо с под. 18с0.1398/0.1-1 НХП ",4811737046812,null,26.85,null,null,0,{"$f":"H124/K124","v":0},1,13.5]
[122,null,"Кашпо с под. 18с0.1399/1.1-1 НХП ",4811737046829,null,13.93,null,null,0,0,1,8]
[123,null,"Кашпо с под. 18с0.1399/2.1-1 НХП ",4811737046836,null,10.19,null,null,0,0,2,5]
[124,null,"Кашпо с под. 18с0.1399/3.1-1 НХП ",4811737046843,null,6.66,null,null,0,0,4,2.4]
[125,null,"Кашпо с под. 18с0.1399/4.1-1 НХП ",4811737046850,null,5.34,null,null,0,0,4,1.8]
[126,null,"Кашпо с под. 18с0.1392/1.1-1 НХП ",4811737046652,null,13.93,null,null,0,0,1,8]
[127,null,"Кашпо с под. 18с0.1392/2.1-1 НХП ",4811737046669,null,10.19,null,null,0,0,2,5]
[128,null,"Кашпо с под. 18с0.1392/3.1-1 НХП ",4811737046676,null,6.66,null,null,0,0,4,2.4]
[129,null,"Кашпо с под. 18с0.1392/4.1-1 НХП ",4811737046683,null,5.34,null,null,0,0,4,1.8]
[130,null,"Кашпо с под. 18с0.1393/1.1-1 НХП ",4811737046690,null,13.93,null,null,0,0,1,8]
[131,null,"Кашпо с под. 18с0.1393/2.1-1 НХП ",4811737046706,null,10.19,null,null,0,0,2,5]
[132,null,"Кашпо с под. 18с0.1393/3.1-1 НХП ",4811737046713,null,6.66,null,null,0,0,4,2.4]
[133,null,"Кашпо с под. 18с0.1393/4.1-1 НХП ",4811737046720,null,5.34,null,null,0,0,4,1.8]
[134,null,"Кашпо с под. 18с0.1394/1.1-1 НХП ",4811737046737,null,13.93,null,null,0,{"$f":"H137/K137","v":0},1,8]
[135,null,"Кашпо с под. 18с0.1394/2.1-1 НХП ",4811737046744,null,10.19,null,null,0,0,2,5]
[136,null,"Кашпо с под. 18с0.1394/3.1-1 НХП ",4811737046751,null,6.66,null,null,0,0,4,2.4]
[137,null,"Кашпо с под. 18с0.1394/4.1-1 НХП ",4811737046768,null,5.34,null,null,0,0,4,1.8]
[138,"Золото","Кашпо с под. 17с0.1381/1.1-1 НХП ",4811737046331,null,13.93,109300,null,0,{"$f":"H141/K141","v":0},1,8]
[139,null,"Кашпо с под. 17с0.1381/2.1-1 НХП",4811737046348,null,10.19,79900,null,0,0,2,5]
[140,null,"Кашпо с под. 17с0.1381/3.1-1 НХП",4811737046355,null,6.66,52300,null,0,0,4,2.4]
[141,null,"Кашпо с под. 17с0.1381/4.1-1 НХП",4811737046362,null,5.34,41900,null,0,0,4,1.8]
[142,"Сирень","Кашпо с под. 17с0.1383/1.1-1 НХП",4811737046416,null,13.93,109300,null,0,0,1,8]
[143,null,"Кашпо с под. 17с0.1383/2.1-1 НХП",4811737046423,null,10.19,79900,null,0,0,2,5]
[144,null,"Кашпо с под. 17с0.1383/3.1-1 НХП",4811737046430,null,6.66,52300,null,0,0,4,2.4]
[145,null,"Кашпо с под. 17с0.1383/4.1-1 НХП",4811737046447,null,5.34,41900,null,0,0,4,1.8]
[146,"Мята","Кашпо с под. 17с0.1375/1.1-1 НХП",4811737046157,null,13.93,109300,null,0,0,1,8]
[147,null,"Кашпо с под. 17с0.1375/2.1-1 НХП",4811737046164,null,10.19,79900,null,{"$f":"H150*F150","v":0},0,2,5]
[148,null,"Кашпо с под. 17с0.1375/3.1-1 НХП",4811737046171,null,6.66,52300,null,0,0,4,2.4]
[149,null,"Кашпо с под. 17с0.1375/4.1-1 НХП",4811737046188,null,5.34,41900,null,0,0,4,1.8]
[150,"Брусника","Кашпо с под. 17с0.1382/1.1-1 НХП",4811737046379,null,13.93,109300,null,0,0,1,8]
[151,null,"Кашпо с под. 17с0.1382/2.1-1 НХП",4811737046386,null,10.19,79900,null,0,0,2,5]
[152,null,"Кашпо с под. 17с0.1382/3.1-1 НХП",4811737046393,null,6.66,52300,null,0,0,4,2.4]
[153,null,"Кашпо с под. 17с0.1382/4.1-1 НХП",4811737046409,null,5.34,41900,null,0,0,4,1.8]
[154,"Изумруд","Кашпо с под. 17с0.1384/1.1-1 НХП",4811737046454,null,13.93,109300,null,0,0,1,8]
[155,null,"Кашпо с под. 17с0.1384/2.1-1 НХП",4811737046461,null,10.19,79900,null,0,0,2,5]
[156,null,"Кашпо с под. 17с0.1384/3.1-1 НХП",4811737046478,null,6.66,52300,null,0,0,4,2.4]
[157,null,"Кашпо с под. 17с0.1384/4.1-1 НХП",4811737046485,null,5.34,41900,null,0,0,4,1.8]
[158,"Черное серебро","Кашпо с под. 17с0.1386/1.1-1 НХП",4811737046539,null,13.93,109300,null,0,0,1,8]
[159,null,"Кашпо с под. 17с0.1386/2.1-1 НХП",4811737046546,null,10.19,79900,null,0,0,2,5]
[160,null,"Кашпо с под. 17с0.1386/3.1-1 НХП",4811737046553,null,6.66,52300,null,0,0,4,2.4]
[161,null,"Кашпо с под. 17с0.1386/4.1-1 НХП",4811737046560,null,5.34,41900,null,0,0,4,1.8]
[162,"Медовый","Кашпо с под. 17с0.1372/1.1-1 НХП",4811737046034,null,13.93,109300,null,0,0,1,8]
[163,null,"Кашпо с под. 17с0.1372/2.1-1 НХП",4811737046041,null,10.19,79900,null,0,0,2,5]
[164,null,"Кашпо с под. 17с0.1372/3.1-1 НХП",4811737046058,null,6.66,52300,null,0,0,4,2.4]
[165,null,"Кашпо с под. 17с0.1372/4.1-1 НХП",4811737046065,null,5.34,41900,null,0,0,4,1.8]
[166,"Черное золото","Кашпо с под. 17с0.1387/1.1-1 НХП",4811737046577,null,13.93,109300,null,0,0,1,8]
[167,null,"Кашпо с под. 17с0.1387/2.1-1 НХП",4811737046584,null,10.19,79900,null,0,0,2,5]
[168,null,"Кашпо с под. 17с0.1387/3.1-1 НХП",4811737046591,null,6.66,52300,null,0,0,4,2.4]
[169,null,"Кашпо с под. 17с0.1387/4.1-1 НХП",4811737046607,null,5.34,41900,null,0,0,4,1.8]
[170,"Серебро","Кашпо с под. 17с0.1380/1.1-1 НХП",4811737046294,null,13.93,109300,null,0,0,1,8]
[171,null,"Кашпо с под. 17с0.1380/2.1-1 НХП",4811737046300,null,10.19,79900,null,0,0,2,5]
[172,null,"Кашпо с под. 17с0.1380/3.1-1 НХП",4811737046317,null,6.66,52300,null,0,0,4,2.4]
[173,null,"Кашпо с под. 17с0.1380/4.1-1 НХП",4811737046324,null,5.34,41900,null,0,0,4,1.8]
[174,"Золото","Кашпо с под. 17с0.1385/1.1-1 НХП",4811737046492,null,13.93,109300,null,0,0,1,8]
[175,null,"Кашпо с под. 17с0.1385/2.1-1 НХП",4811737046508,null,10.19,79900,null,0,0,2,5]
[176,null,"Кашпо с под. 17с0.1385/3.1-1 НХП",4811737046515,null,6.66,52300,null,0,0,4,2.4]
[177,null,"Кашпо с под. 17с0.1385/4.1-1 НХП",4811737046522,null,5.34,41900,null,0,0,4,1.8]
[178,null,"Кашпо с под. 17с0.1368/1.1-1 НХП",4811737045914,null,22.94,189100,null,0,{"$f":"H181/K181","v":0},1,12.8]
[179,null,"Кашпо с под. 17с0.1368/2.1-1 НХП",4811737045921,null,17.190000000000001,141800,null,0,{"$f":"H182/K182","v":0},1,9]
[180,null,"Кашпо с под. 17с0.1368/3.1-1 НХП",4811737045938,null,12.44,102600,null,0,0,2,6]
[181,null,"Кашпо с под. 17с0.1370/1.1-1 НХП",4811737045952,null,13.27,109300,null,0,{"$f":"H184/K184","v":0},1,8]
[182,null,"Кашпо с под. 17с0.1370/2.1-1 НХП",4811737045969,null,9.6999999999999993,79900,null,0,0,2,5]
[183,null,"Кашпо с под. 17с0.1370/3.1-1 НХП",4811737045976,null,6.34,52300,null,0,0,4,2.4]
[184,null,"Кашпо с под. 17с0.1370/4.1-1 НХП",4811737045983,null,5.08,41900,null,0,0,4,1.8]
[185,null,"Кашпо с под. 17с0.1371/1.1-1 НХП",4811737045990,null,13.27,109300,null,0,0,1,8]
[186,null,"Кашпо с под. 17с0.1371/2.1-1 НХП",4811737046003,null,9.6999999999999993,79900,null,0,0,2,5]
[187,null,"Кашпо с под. 17с0.1371/3.1-1 НХП",4811737046010,null,6.34,52300,null,0,0,4,2.4]
[188,null,"Кашпо с под. 17с0.1371/4.1-1 НХП",4811737046027,null,5.08,41900,null,0,0,4,1.8]
[189,null,"Кашпо с под. 17с0.1373/1.1-1 НХП",4811737046072,null,13.27,null,null,0,0,1,8]
[190,null,"Кашпо с под. 17с0.1373/2.1-1 НХП",4811737046089,null,9.6999999999999993,null,null,0,0,2,5]
[191,null,"Кашпо с под. 17с0.1373/3.1-1 НХП",4811737046096,null,6.34,null,null,0,0,4,2.4]
[192,null,"Кашпо с под. 17с0.1373/4.1-1 НХП",4811737046102,null,5.08,null,null,0,0,4,1.8]
[193,null,"Кашпо с под. 17c0.1374/1.1-1 НХП",4811737046119,null,13.27,109300,null,0,0,1,8]
[194,null,"Кашпо с под. 17c0.1374/2.1-1 НХП",4811737046126,null,9.6999999999999993,79900,null,0,0,2,5]
[195,null,"Кашпо с под. 17c0.1374/3.1-1 НХП",4811737046133,null,6.34,52300,null,0,0,4,2.4]
[196,null,"Кашпо с под. 17с0.1374/4.1-1 НХП",4811737046140,null,5.08,41900,null,0,0,4,1.8]
[197,null,"Кашпо с под. 17с0.1376/1.1-1 НХП",4811737046195,null,13.27,null,null,0,0,1,8]
[198,null,"Кашпо с под. 17с0.1376/2.1-1 НХП",4811737046201,null,9.6999999999999993,null,null,0,0,2,5]
[199,null,"Кашпо с под. 17с0.1376/3.1-1 НХП",4811737046218,null,6.34,null,null,0,0,4,2.4]
[200,null,"Кашпо с под. 17с0.1376/4.1-1 НХП",4811737046225,null,5.08,null,null,0,0,4,1.8]
[201,null,"Кашпо с под. 17с0.1377/1.1-1 НХП",4811737046232,null,13.27,null,null,0,0,1,8]
[202,null,"Кашпо с под. 17с0.1377/2.1-1 НХП",4811737046249,null,9.6999999999999993,null,null,0,0,2,5]
[203,null,"Кашпо с под. 17с0.1377/3.1-1 НХП",4811737046256,null,6.34,null,null,0,0,4,2.4]
[204,null,"Кашпо с под. 17с0.1377/4.1-1 НХП",4811737046263,null,5.08,null,null,0,0,4,1.8]
[205,null,"Кашпо с под. 16с0.1339/0.1-1 НХП",4811737045358,null,25.55,null,null,0,{"$f":"H208/K208","v":0},1,13.5]
[206,null,"Кашпо с под. 16с0.1340/1.1-1 НХП",4811737045365,null,13.27,null,null,0,0,1,8]
[207,null,"Кашпо с под. 16с0.1340/2.1-1НХП",4811737045372,null,9.6999999999999993,null,null,0,0,2,5]
[208,null,"Кашпо с под. 16с0.1340/3.1-1 НХП",4811737045389,null,6.34,null,null,0,0,4,2.4]
[209,null,"Кашпо с под. 16с0.1340/4.1-1 НХП",4811737045396,null,5.08,null,null,0,0,4,1.8]
[210,null,"Кашпо с под. 16с0.1341/1.1-1 НХП",4811737045402,null,13.27,null,null,0,0,1,8]
[211,null,"Кашпо с под. 16с0.1341/2.1-1 НХП",4811737045419,null,9.6999999999999993,null,null,{"$f":"H214*F214","v":0},0,2,5]
[212,null,"Кашпо с под. 16с0.1341/3.1-1 НХП",4811737045426,null,6.34,null,null,0,0,4,2.4]
[213,null,"Кашпо с под. 16с0.1341/4.1-1 НХП",4811737045433,null,5.08,null,null,0,0,4,1.8]
[214,null,"Кашпо с под. 16с0.1342/1.1-1 НХП",4811737045440,null,13.27,null,null,0,0,1,8]
[215,null,"Кашпо с под. 16с0.1342/2.1-1 НХП",4811737045457,null,9.6999999999999993,null,null,0,0,2,5]
[216,null,"Кашпо с под. 16с0.1342/3.1-1 НХП",4811737045464,null,6.34,null,null,0,0,4,2.4]
[217,null,"Кашпо с под. 16с0.1342/4.1-1 НХП",4811737045471,null,5.08,null,null,0,{"$f":"H220/K220","v":0},4,1.8]
[218,null,"Кашпо с под. 16с0.1343/1.1-1 НХП",4811737045488,null,13.27,null,null,0,0,1,8]
[219,null,"Кашпо с под. 16с0.1343/2.1-1 НХП",4811737045495,null,9.6999999999999993,null,null,0,0,2,5]
[220,null,"Кашпо с под. 16с0.1343/3.1-1 НХП",4811737045501,null,6.34,null,null,0,0,4,2.4]
[221,null,"Кашпо с под. 16с0.1343/4.1-1 НХП",4811737045518,null,5.08,null,null,0,0,4,1.8]
[222,null,"Кашпо с под. 16с0.1344/1.1-1 НХП",4811737045525,null,14.52,null,null,0,0,1,8]
[223,null,"Кашпо с под. 16с0.1344/2.1-1 НХП",4811737045532,null,10.75,null,null,0,0,2,5]
[224,null,"Кашпо с под. 16с0.1344/4.1-1 НХП",4811737045549,null,6.4,null,null,0,0,4,1.8]
[225,null,"Кашпо с под. 16с0.1345/1.1-1 НХП",4811737045556,null,14.52,null,null,0,0,1,"8.0"]
[226,null,"Кашпо с под. 16с0.1345/2.1-1 НХП",4811737045563,null,10.75,null,null,0,0,2,5]
[227,null,"Кашпо с под. 16с0.1345/4.1-1 НХП",4811737045570,null,6.4,null,null,0,0,4,1.8]
[228,null,"Кашпо с под. 16с0.1346/1.1-1 НХП",4811737045587,null,9.2799999999999994,null,null,0,0,2,3.4]
[229,null,"Кашпо с под. 16с0.1346/2.1-1 НХП",4811737045594,null,6.06,null,null,0,0,4,1.7]
[230,null,"Кашпо с под. 16с0.1346/3.1-1 НХП",4811737045600,null,4.49,null,null,0,0,6,0.9]
[231,null,"Кашпо с под. 16с0.1347/1.1-12 НХП",4811737045617,null,9.2799999999999994,null,null,0,0,2,3.4]
[232,null,"Кашпо с под. 16с0.1347/2.1-1 НХП",4811737045624,null,6.06,null,null,0,0,4,1.7]
[233,null,"Кашпо с под. 16с0.1347/3.1-1 НХП",4811737045631,null,4.49,null,null,0,0,6,0.9]
[234,null,"Кашпо с под. 16с0.1348/1.1-1 НХП",4811737045648,null,9.2799999999999994,null,null,0,0,2,3.4]
[235,null,"Кашпо с под. 16с0.1348/2.1-1 НХП",4811737045655,null,6.06,null,null,0,0,4,1.7]
[236,null,"Кашпо с под. 16с0.1348/3.1-1 НХП",4811737045662,null,4.49,null,null,0,0,6,0.9]
[237,null,"Кашпо с под. 16с0.1349/1.1-1 НХП",4811737045679,null,10.96,null,null,0,0,2,3.4]
[238,null,"Кашпо с под. 16с0.1349/2.1-1 НХП",4811737045686,null,7.16,null,null,0,0,4,1.7]
[239,null,"Кашпо с под. 16с0.1349/3.1-1 НХП",4811737045693,null,5.28,null,null,0,0,6,0.9]
[240,null,"Кашпо с под. 16с0.1350/1.1-1 НХП",4811737045709,null,14.52,null,null,0,0,1,8]
[241,null,"Кашпо с под. 16с0.1350/2.1-1 НХП",4811737045716,null,10.75,null,null,0,0,2,5]
[242,null,"Кашпо с под. 16с0.1350/3.1-1 НХП",4811737045723,null,6.66,null,null,0,0,4,2.4]
[243,null,"Кашпо с под. 16с0.1350/4.1-1 НХП",4811737045730,null,6.4,null,null,0,0,4,1.8]
[244,null,"Кашпо с под. 16с0.1323/1.1-1 НХП",4811737044931,null,10.76,88700,null,0,{"$f":"H247/K247","v":0},2,3.4]
[245,null,"Кашпо с под. 16с0.1323/2.1-1 НХП",4811737044948,null,7.02,57900,null,0,0,4,1.7]
[246,null,"Кашпо с под. 16с0.1323/3.1-1 НХП",4811737044955,null,5.18,42800,null,0,0,6,0.9]
[247,null,"Кашпо с под. 16с0.1324/1.1-1 НХП",4811737044962,null,10.76,88700,null,0,0,2,3.4]
[248,null,"Кашпо с под. 16с0.1324/2.1-1 НХП",4811737044979,null,7.02,57900,null,0,0,4,1.7]
[249,null,"Кашпо с под. 16с0.1324/3.1-1 НХП",4811737044986,null,5.18,42800,null,0,0,6,0.9]
[250,null,"Кашпо с под. 16с0.1325/1.1-1 НХП",4811737044993,null,10.76,88700,null,0,0,2,3.4]
[251,null,"Кашпо с под. 16с0.1325/2.1-1 НХП",4811737045006,null,7.02,57900,null,0,0,4,1.7]
[252,null,"Кашпо с под. 16с0.1325/3.1-1 НХП",4811737045013,null,5.18,42800,null,0,0,6,0.9]
[253,null,"Кашпо с под. 16с0.1326/1.1-1 НХП",4811737045020,null,10.76,88700,null,0,0,2,3.4]
[254,null,"Кашпо с под. 16с0.1326/2.1-1 НХП",4811737045037,null,7.02,57900,null,0,0,4,1.7]
[255,null,"Кашпо с под. 16с0.1326/3.1-1 НХП",4811737045044,null,5.18,42800,null,0,0,6,0.9]
[256,null,"Кашпо с под. 16с0.1327/1.1-1 НХП",4811737045051,null,10.76,88700,null,0,0,2,3.4]
[257,null,"Кашпо с под. 16с0.1327/2.1-1 НХП",4811737045068,null,7.02,57900,null,0,0,4,1.7]
[258,null,"Кашпо с под. 16с0.1327/3.1-1 НХП",4811737045075,null,5.18,42800,null,0,0,6,0.9]
[259,null,"Кашпо с под. 16с0.1328/1.1-1 НХП",4811737045082,null,10.76,88700,null,0,0,2,3.4]
[260,null,"Кашпо с под. 16с0.1328/2.1-1 НХП",4811737045099,null,7.02,57900,null,0,0,4,1.7]
[261,null,"Кашпо с под. 16с0.1328/3.1-1 НХП",4811737045105,null,5.18,42800,null,0,0,6,0.9]
[262,null,"Кашпо с под. 16с0.1335/1.1-1 НХП",4811737045259,null,15.94,131400,null,0,{"$f":"H265/K265","v":0},1,8]
[263,null,"Кашпо с под. 16с0.1335/2.1-1 НХП",4811737045266,null,11.83,97500,null,0,0,2,5]
[264,null,"Кашпо с под. 16с0.1335/4.1-1 НХП",4811737045273,null,7.05,58100,null,0,0,4,1.8]
[265,null,"Кашпо с под. 16с0.1336/1.1-1 НХП",4811737045280,null,15.94,131400,null,0,0,1,8]
[266,null,"Кашпо с под. 16с0.1336/2.1-1 НХП",4811737045297,null,11.83,97500,null,0,0,2,5]
[267,null,"Кашпо с под. 16с0.1336/4.1-1 НХП",4811737045303,null,7.05,58100,null,0,0,4,1.8]
[268,null,"Кашпо с под. 16с0.1337/1.1-1 НХП",4811737045310,null,25.23,208100,null,0,0,1,12.7]
[{"$f":"A271+1","v":269},null,"Кашпо с под. 16с0.1337/2.1-1 НХП",4811737045327,null,18.920000000000002,156000,null,0,0,1,8.1999999999999993]
[270,null,"Кашпо с под. 16с0.1337/3.1-1 НХП",4811737045334,null,13.68,112900,null,0,0,2,6]
[271,null,"Кашпо с под. 16 с0.1338/0.1-1 НХП",4811737045341,null,28.12,231800,null,0,0,1,13.5]
[272,null,"Кашпо с под. 15с0.1321/1.1-1 НХП",4811737044863,null,13.27,109400,null,0,0,1,8]
[273,null,"Кашпо с под. 15с0.1321/2.1-1 НХП",4811737044870,null,9.6999999999999993,80000,null,0,0,2,5]
[274,null,"Кашпо с под. 15с0.1321/3.1-1 НХП",4811737044887,null,6.34,52300,null,0,0,4,2.4]
[275,null,"Кашпо с под. 15с0.1321/4.1-1 НХП",4811737044894,null,5.08,41900,null,{"$f":"H278*F278","v":0},0,4,1.8]
[276,null,"Кашпо с под. 15с0.1317/1.1-1 НХП",4811737044740,null,9.2799999999999994,76600,null,0,0,2,3.4]
[277,null,"Кашпо с под. 15с0.1317/2.1-1 НХП",4811737044757,null,6.06,50000,null,0,0,4,1.7]
[278,null,"Кашпо с под. 15с0.1317/3.1-1 НХП",4811737044764,null,4.49,37000,null,0,0,6,0.9]
[279,null,"Кашпо с под. 15с0.1318/1.1-1 НХП",4811737044771,null,9.77,80500,null,0,0,2,3.4]
[280,null,"Кашпо с под. 15с0.1318/2.1-1 НХП",4811737044788,null,6.38,52600,null,0,0,4,1.7]
[{"$f":"A283+1","v":281},null,"Кашпо с под. 15с0.1318/3.1-1 НХП",4811737044795,null,4.71,38900,null,0,0,6,0.9]
[282,null,"Кашпо с под. 15с0.1319/1.1-1 НХП",4811737044801,null,9.77,80600,null,0,0,2,3.4]
[283,null,"Кашпо с под. 15с0.1319/2.1-1 НХП",4811737044818,null,6.38,52700,null,0,0,4,1.7]
[284,null,"Кашпо с под. 15с0.1319/3.1-1 НХП",4811737044825,null,4.71,38900,null,0,0,6,0.9]
[285,null,"Кашпо с под. 15с0.1320/1.1-1 НХП",4811737044832,null,9.77,80500,null,0,0,2,3.4]
[286,null,"Кашпо с под. 15с0.1320/2.1-1 НХП",4811737044849,null,6.38,52600,null,0,0,4,1.7]
[287,null,"Кашпо с под. 15с0.1320/3.1-1 НХП",4811737044856,null,4.71,38900,null,0,0,6,0.9]
[288,null,"Кашпо с под. 5c0.1631/1.1-1 НХП",4811737008339,null,13.27,109300,null,0,0,1,8]
[289,null,"Кашпо с под. 5c0.1631/2.1-1 НХП",4811737008346,null,9.6999999999999993,79900,null,0,0,2,5]
[290,null,"Кашпо с под. 5c0.1631/3.1-1 НХП",4811737008353,null,6.34,52300,null,0,0,4,2.4]
[291,null,"Кашпо с под. 9с0.1631/4.1-1 НХП",4811737013906,null,5.08,41900,null,0,{"$f":"H294/K294","v":0},4,1.8]
[292,null,"Кашпо с под. 9с0.1969/1.1-1 НХП",4811737029594,null,13.27,109300,null,0,0,1,8]
[293,null,"Кашпо с под. 9с0.1969/2.1-1 НХП",4811737029600,null,9.6999999999999993,79900,null,0,0,2,5]
[294,null,"Кашпо с под. 9с0.1969/3.1-1 НХП",4811737029617,null,6.34,52300,null,0,0,4,2.4]
[295,null,"Кашпо с под. 9с0.1969/4.1-1 НХП",4811737014507,null,5.08,41900,null,0,0,4,1.8]
[296,null,"Кашпо с под. 9с0.1898/1.1-1 НХП",4811737026951,null,14.52,119700,null,0,0,1,8]
[297,null,"Кашпо с под. 9с0.1898/2.1-1 НХП",4811737026968,null,10.76,88700,null,0,0,2,5]
[298,null,"Кашпо с под. 9с0.1898/3.1-1 НХП",4811737026944,null,7.74,63800,null,0,0,4,2.4]
[299,null,"Кашпо с под. 9с0.1898/4.1-1 НХП",4811737026975,null,6.41,52900,null,0,0,4,1.8]
[300,null,"Кашпо с под. 10с0.1044/1.1-1 НХП",4811737032952,null,13.27,109300,null,0,0,1,8]
[301,null,"Кашпо с под. 10с0.1044/2.1-1 НХП",4811737032983,null,9.6999999999999993,79900,null,0,0,2,5]
[302,null,"Кашпо с под. 10с0.1044/3.1-1 НХП",4811737033010,null,6.34,52300,null,0,0,4,2.4]
[303,null,"Кашпо с под. 10с0.1044/4.1-1 НХП",4811737033096,null,5.08,41900,null,0,0,4,1.8]
[304,null,"Кашпо с под. 12с0.1163/1.1-1 НХП",4811737036554,null,13.27,109300,null,0,0,1,8]
[305,null,"Кашпо с под. 12с0.1163/2.1-1 НХП",4811737036462,null,9.6999999999999993,79900,null,0,0,2,5]
[306,null,"Кашпо с под. 12с0.1163/3.1-1 НХП",4811737036493,null,6.34,52300,null,0,0,4,2.4]
[307,null,"Кашпо с под. 12с0.1163/4.1-1 НХП",4811737036523,null,5.08,41900,null,0,0,4,1.8]
[308,null,"Кашпо с под. 12с0.1170/1.1-1 НХП",4811737036011,null,13.27,109300,null,0,0,1,8]
[309,null,"Кашпо с под. 12с0.1170/2.1-1 НХП",4811737036226,null,9.6999999999999993,79900,null,0,0,2,5]
[310,null,"Кашпо с под. 12с0.1170/3.1-1 НХП",4811737035984,null,6.34,52300,null,0,0,4,2.4]
[311,null,"Кашпо с под. 12с0.1170/4.1-1 НХП",4811737035892,null,5.08,41900,null,0,0,4,1.8]
[312,null,"Кашпо с под. 12с0.1174/1.1-1 НХП",4811737036851,null,13.27,109300,null,0,0,1,8]
[{"$f":"A315+1","v":313},null,"Кашпо с под. 12с0.1174/2.1-1 НХП",4811737036882,null,9.6999999999999993,79900,null,0,0,2,5]
[{"$f":"A316+1","v":314},null,"Кашпо с под. 12с0.1174/3.1-1 НХП",4811737036912,null,6.34,52300,null,0,0,4,2.4]
[{"$f":"A317+1","v":315},null,"Кашпо с под. 12с0.1174/4.1-1 НХП",4811737036943,null,5.08,41900,null,0,0,4,1.8]
[{"$f":"A318+1","v":316},null,"Кашпо с под. 12с0.1179/1.1-1 НХП",4811737036196,null,13.27,109300,null,0,0,1,8]
[{"$f":"A319+1","v":317},null,"Кашпо с под. 12с0.1179/2.1-1 НХП",4811737037643,null,9.6999999999999993,79900,null,0,0,2,5]
[303,null,"Кашпо с под. 12с0.1179/3.1-1 НХП",4811737037582,null,6.34,52300,null,0,0,4,2.4]
[304,null,"Кашпо с под. 12с0.1179/4.1-1 НХП",4811737037612,null,5.08,41900,null,0,0,4,1.8]
[305,null,"Кашпо с под. 12с0.1192/1.1-1 НХП",4811737033164,null,22.94,189100,null,0,0,1,12.8]
[306,null,"Кашпо с под. 12с0.1192/2.1-1 НХП",4811737033195,null,17.190000000000001,141800,null,0,0,1,9]
[307,null,"Кашпо с под. 14с0.1273/1.1-1 НХП",4811737042081,null,22.94,189100,null,0,0,1,12.8]
[308,null,"Кашпо с под. 14с0.1273/2.1-1 НХП",4811737042111,null,17.190000000000001,141800,null,0,{"$f":"H326/K326","v":0},1,9]
[309,null,"Кашпо с под. 14с0.1273/3.1-1 НХП",4811737042142,null,12.44,102600,null,0]
[310,null,"Кашпо с под. 14с0.1274/1.1-1 НХП",4811737042173,null,22.94,189100,null,0,{"$f":"H328/K328","v":0},1,12.8]
[311,null,"Кашпо с под. 14с0.1274/2.1-1 НХП",4811737042203,null,17.190000000000001,141800,null,0,0,1,9]
[312,null,"Кашпо с под. 14с0.1274/3.1-1 НХП",4811737042234,null,12.44,102600,null,0,0,2,6.5]
[313,null,"Кашпо с под. 14 с0.1285/0.1-1 НХП",4811737043347,null,25.55,210700,null,0,0,1,13.5]
[314,null,"Кашпо с под. 14с0.1251/1.1-1 НХП",4811737041008,null,14.52,119700,null,0,0,1,8]
[315,null,"Кашпо с под. 14с0.1251/2.1-1 НХП",4811737041039,null,10.75,88600,null,0,0,2,5]
[316,null,"Кашпо с под. 14с0.1252/1.1-1 НХП",4811737041060,null,14.52,119700,null,0,0,1,8]
[317,null,"Кашпо с под. 14с0.1252/2.1-1 НХП",4811737041091,null,10.75,88600,null,0,0,2,5]
[318,null,"Кашпо с под. 14с0.1275/1.1-1 НХП",4811737042265,null,9.2799999999999994,76500,null,0,0,2,3.4]
[319,null,"Кашпо с под. 14с0.1275/2.1-1 НХП",4811737042296,null,6.06,50000,null,0,0,4,1.7]
[320,null,"Кашпо с под. 14с0.1275/3.1-1 НХП",4811737042326,null,4.22,34900,null,0,0,6,0.9]
[321,null,"Кашпо с под. 14с0.1276/1.1-1 НХП",4811737042357,null,9.2799999999999994,76500,null,{"$f":"H339*F339","v":0},0,2,3.4]
[322,null,"Кашпо с под. 14с0.1276/2.1-1 НХП",4811737042388,null,6.06,50000,null,0,0,4,1.7]
[323,null,"Кашпо с под. 14с0.1276/3.1-1 НХП",4811737042418,null,4.22,34900,null,0,0,6,0.9]
[324,null,"Кашпо с под. 14с0.1277/1.1-1 НХП",4811737042456,null,9.2799999999999994,76500,null,0,0,2,3.4]
[325,null,"Кашпо с под. 14с0.1277/2.1-1 НХП",4811737042470,null,6.06,50000,null,0,0,4,1.7]
[326,null,"Кашпо с под. 14с0.1277/3.1-1 НХП",4811737042500,null,4.22,34900,null,0,{"$f":"H344/K344","v":0},6,0.9]
[327,null,"Кашпо с под. 14с0.1278/1.1-1 НХП",4811737042531,null,9.2799999999999994,76500,null,0,0,2,3.4]
[328,null,"Кашпо с под. 14с0.1278/2.1-1 НХП",4811737042562,null,6.06,50000,null,0,0,4,1.7]
[329,null,"Кашпо с под. 14с0.1278/3.1-1 НХП",4811737042593,null,4.22,34900,null,0,0,6,0.9]
[330,null,"Кашпо с под. 14с0.1305/1.1-1 НХП",4811737044269,null,9.2799999999999994,76500,null,0,0,2,3.4]
[331,null,"Кашпо с под. 14с0.1305/2.1-1 НХП",4811737044276,null,6.06,50000,null,0,0,4,1.7]
[332,null,"Кашпо с под. 14с0.1305/3.1-1 НХП",4811737044283,null,4.22,37000,null,0,0,6,0.9]